BEGIN:VCALENDAR
VERSION:2.0
PRODID:-//Integral Yoga San Francisco - ECPv6.15.20//NONSGML v1.0//EN
CALSCALE:GREGORIAN
METHOD:PUBLISH
X-WR-CALNAME:Integral Yoga San Francisco
X-ORIGINAL-URL:https://integralyogasf.org
X-WR-CALDESC:Events for Integral Yoga San Francisco
REFRESH-INTERVAL;VALUE=DURATION:PT1H
X-Robots-Tag:noindex
X-PUBLISHED-TTL:PT1H
BEGIN:VTIMEZONE
TZID:America/Los_Angeles
BEGIN:DAYLIGHT
TZOFFSETFROM:-0800
TZOFFSETTO:-0700
TZNAME:PDT
DTSTART:20240310T100000
END:DAYLIGHT
BEGIN:STANDARD
TZOFFSETFROM:-0700
TZOFFSETTO:-0800
TZNAME:PST
DTSTART:20241103T090000
END:STANDARD
BEGIN:DAYLIGHT
TZOFFSETFROM:-0800
TZOFFSETTO:-0700
TZNAME:PDT
DTSTART:20250309T100000
END:DAYLIGHT
BEGIN:STANDARD
TZOFFSETFROM:-0700
TZOFFSETTO:-0800
TZNAME:PST
DTSTART:20251102T090000
END:STANDARD
BEGIN:DAYLIGHT
TZOFFSETFROM:-0800
TZOFFSETTO:-0700
TZNAME:PDT
DTSTART:20260308T100000
END:DAYLIGHT
BEGIN:STANDARD
TZOFFSETFROM:-0700
TZOFFSETTO:-0800
TZNAME:PST
DTSTART:20261101T090000
END:STANDARD
END:VTIMEZONE
BEGIN:VEVENT
DTSTART;TZID=America/Los_Angeles:20251027T180000
DTEND;TZID=America/Los_Angeles:20251027T190000
DTSTAMP:20260424T083534
CREATED:20250904T045831Z
LAST-MODIFIED:20250904T050548Z
UID:46431-1761588000-1761591600@integralyogasf.org
SUMMARY:Spiritual Study: Living Into the Yoga Sutras in Daily Life\, 4-Part
DESCRIPTION:Online | $5-15 sliding scale | 4 Mondays\, offered individually \nBook now/OnlinePlease register in advance; a Zoom link will be emailed 1 hour before the session\, or join Zoom directly via your Momence dashboard. \nThe Yoga Sutras offer practical guidance on how to live from a place of peace\, joy\, love\, and light.\nThey can shift our perception of the world around us\, making our interactions—with those we love\, those we encounter\, and even with ourselves—more easeful and compassionate.\nLet’s explore what it means to become our best Self in the world—together.\nJoin Jyothi Kimberly Schick and Dharmini Debra Fischgrund for this four-part series as we dive into key sutras and learn how to surf the waves of daily life with wisdom and grace.\nThe Yoga Spiritual Study series is an offering in which participants learn and discuss how the teachings of Yoga apply to our daily lives. We read passages from scriptures of Yoga and other ancient and contemporary spiritual texts\, take time to reflect upon them\, and share with each other how these words and practices support us on the spiritual path. All are welcome to join any one or all of the sessions.\n4 Mondays – Book individually:\n\nOctober 6\nOctober 13\nOctober 20\nOctober 27\n\n\nJyothi Kimberley Schick\, RYT-500. Yoga is my life\, and my lifestyle. I am a 20+ year practitioner\, 15+ of that as an instructor\, with 1000+ hours of yoga-related training\, and an RYT-500 from the Integral Yoga Institute. My style of teaching is holistic and meditative in nature\, with breath as the entry point. I create a sacred container for students to go deep in their practice\, find their center\, and access peace within. \nDharmini Debra Fischgrund’s bio coming soon.
URL:https://integralyogasf.org/event/spiritual-study-living-into-the-yoga-sutras-part-4-of-4/
CATEGORIES:Events,Featured
ATTACH;FMTTYPE=image/jpeg:https://integralyogasf.org/wp-content/uploads/2025/09/Spiritual-Study-LInving-into-the-yoga-sutras.jpg
END:VEVENT
END:VCALENDAR