BEGIN:VCALENDAR
VERSION:2.0
PRODID:-//Integral Yoga San Francisco - ECPv6.15.20//NONSGML v1.0//EN
CALSCALE:GREGORIAN
METHOD:PUBLISH
X-ORIGINAL-URL:https://integralyogasf.org
X-WR-CALDESC:Events for Integral Yoga San Francisco
REFRESH-INTERVAL;VALUE=DURATION:PT1H
X-Robots-Tag:noindex
X-PUBLISHED-TTL:PT1H
BEGIN:VTIMEZONE
TZID:America/Los_Angeles
BEGIN:DAYLIGHT
TZOFFSETFROM:-0800
TZOFFSETTO:-0700
TZNAME:PDT
DTSTART:20240310T100000
END:DAYLIGHT
BEGIN:STANDARD
TZOFFSETFROM:-0700
TZOFFSETTO:-0800
TZNAME:PST
DTSTART:20241103T090000
END:STANDARD
BEGIN:DAYLIGHT
TZOFFSETFROM:-0800
TZOFFSETTO:-0700
TZNAME:PDT
DTSTART:20250309T100000
END:DAYLIGHT
BEGIN:STANDARD
TZOFFSETFROM:-0700
TZOFFSETTO:-0800
TZNAME:PST
DTSTART:20251102T090000
END:STANDARD
BEGIN:DAYLIGHT
TZOFFSETFROM:-0800
TZOFFSETTO:-0700
TZNAME:PDT
DTSTART:20260308T100000
END:DAYLIGHT
BEGIN:STANDARD
TZOFFSETFROM:-0700
TZOFFSETTO:-0800
TZNAME:PST
DTSTART:20261101T090000
END:STANDARD
END:VTIMEZONE
BEGIN:VEVENT
DTSTART;TZID=America/Los_Angeles:20251115T133000
DTEND;TZID=America/Los_Angeles:20251115T163000
DTSTAMP:20260424T085715
CREATED:20250917T233815Z
LAST-MODIFIED:20250918T003231Z
UID:46548-1763213400-1763224200@integralyogasf.org
SUMMARY:Reclaiming Peace: A Toolkit for Modern Stress
DESCRIPTION:Online & In-person \n$54 | $45 Early bird\, use promo code PEACE\, exp. 11/8 \nBook now/OnlinePlease register in advance; a Zoom link will be emailed 1 hour before the session\, or join Zoom directly via your Momence dashboard. \nBook now/In-PersonWe appreciate advance registration. \nWe’re living in stressful times. The safety and order of our world seem to be disappearing\, and the pace of change is accelerating. It’s no wonder that worry and anxiety have become regular companions for many of us.\nIt’s easy to get caught in doom-scrolling and catastrophizing about the unknown. We do this in an effort to be prepared if the worst happens. But our worry about the future often robs us of the beauty of the present moment. Instead of helping us feel prepared\, chronic stress and anxiety create mental imbalance and physical exhaustion\, leaving us unable to clearly see our best options for being a positive influence in the world.\nYoga offers practical tools to cultivate mental and emotional calm\, helping us rest in our inner peace—regardless of what our lives look like or how the world around us is shifting. This is real power: being in charge of our internal state\, no matter the circumstances. From that place of inner steadiness\, we can better recognize where and how we can make a meaningful difference.\nIn this workshop\, you will experience:\n\nYoga strategies for reducing stress and caring for yourself\, to find inner steadiness in an unsteady world\nTechniques for working with your thoughts and emotions during times of anxiety\, to reduce negative conditioning and catastrophizing\nYogic perspectives to help you see your place in the bigger picture\nTools for using the body and breath to stay grounded in the present\nPractice of yoga poses\, breathwork\, relaxation\, and centering for stress relief\nDiscussion of yoga philosophy and wisdom for rising above stress and anxiety\n\nSuitable for all levels.\nThis workshop will be recorded for later viewing and shared for 2 weeks with all enrolled students.\nYoga Alliance CEUs (3 hours) are available to teachers upon request.\n\nSwami Vidyananda has been teaching Integral Yoga since 1973\, and practicing Yoga Therapy since 1979\, specializing in Yoga as Stress Management. Vidyananda co-developed the Integral Yoga Stress Management Teacher Training with Swami Ramananda\, and taught it for over 30 years. She has taught in many therapeutic programs\, including Smith Center Cancer Retreats\, Yoga for children with Down Syndrome\, Yoga for university students with eating disorders\, and chair Yoga for seniors. She is also trained as a hospital chaplain\, with an emphasis on end-of-life issues. \nVidyananda has created therapeutic yoga programs for clients with stress-related mental and physical challenges\, anxiety\, sports and other injuries\, and complex trauma. She uses a multi-leveled approach to Stress Management\, including adapted stretches\, breathing\, relaxation\, centering and wisdom teachings\, to bring wellness to the body\, emotions and mind. \nBefore becoming a Yoga teacher\, Vidyananda worked as a broadcast news producer and reporter. Since 1983 she has produced and edited dozens of Yoga Videos\, audios and documentaries for Integral Yoga. She also served as conference translator into French for her teacher\, Swami Satchidananda\, and other notable Yoga Masters. She has been a monk (Swami) since 1983. She founded the Integral Yoga Teachers’ Association and serves as the Director of the Integral Yoga Therapy Training Program. She lives in Satchidananda Ashram\, VA\, and travels and teaches internationally. \n 
URL:https://integralyogasf.org/event/reclaiming-peace/
CATEGORIES:Events,Featured
ATTACH;FMTTYPE=image/jpeg:https://integralyogasf.org/wp-content/uploads/2025/09/Reclaiming-Peace-nwith-Vidyananda.jpg
END:VEVENT
END:VCALENDAR