BEGIN:VCALENDAR
VERSION:2.0
PRODID:-//Integral Yoga San Francisco - ECPv6.15.20//NONSGML v1.0//EN
CALSCALE:GREGORIAN
METHOD:PUBLISH
X-ORIGINAL-URL:https://integralyogasf.org
X-WR-CALDESC:Events for Integral Yoga San Francisco
REFRESH-INTERVAL;VALUE=DURATION:PT1H
X-Robots-Tag:noindex
X-PUBLISHED-TTL:PT1H
BEGIN:VTIMEZONE
TZID:America/Los_Angeles
BEGIN:DAYLIGHT
TZOFFSETFROM:-0800
TZOFFSETTO:-0700
TZNAME:PDT
DTSTART:20240310T100000
END:DAYLIGHT
BEGIN:STANDARD
TZOFFSETFROM:-0700
TZOFFSETTO:-0800
TZNAME:PST
DTSTART:20241103T090000
END:STANDARD
BEGIN:DAYLIGHT
TZOFFSETFROM:-0800
TZOFFSETTO:-0700
TZNAME:PDT
DTSTART:20250309T100000
END:DAYLIGHT
BEGIN:STANDARD
TZOFFSETFROM:-0700
TZOFFSETTO:-0800
TZNAME:PST
DTSTART:20251102T090000
END:STANDARD
BEGIN:DAYLIGHT
TZOFFSETFROM:-0800
TZOFFSETTO:-0700
TZNAME:PDT
DTSTART:20260308T100000
END:DAYLIGHT
BEGIN:STANDARD
TZOFFSETFROM:-0700
TZOFFSETTO:-0800
TZNAME:PST
DTSTART:20261101T090000
END:STANDARD
END:VTIMEZONE
BEGIN:VEVENT
DTSTART;TZID=America/Los_Angeles:20251004T153000
DTEND;TZID=America/Los_Angeles:20251004T170000
DTSTAMP:20260424T083054
CREATED:20250912T021630Z
LAST-MODIFIED:20250912T061811Z
UID:46500-1759591800-1759597200@integralyogasf.org
SUMMARY:Yoga for Strong Bones
DESCRIPTION:$16 | Online – first Saturday of each month. \nBook now/OnlinePlease register in advance; a Zoom link will be emailed 1 hour before the session\, or join Zoom directly via your Momence dashboard. \nDid you know that yoga can help strengthen your bones? Research by Dr. Loren Fishman shows that practicing 12 specific yoga poses can improve bone density and quality\, helping prevent fractures and support bone health at any age. Yoga also enhances balance\, posture\, and coordination\, reducing the risk of falls.\nIn this monthly workshop\, we will cover the basics of the bone-building process\, followed by guided instructions for practicing the 12 poses. Integrated within a traditional Integral Yoga structure—including warm-ups\, asanas\, guided relaxation\, pranayama\, and a brief meditation—this class supports bone health\, posture\, balance\, and coordination for people of all ages.\nAll levels are welcome. Modifications will be offered for standing\, chair-based\, and wall-supported variations so you can practice safely and effectively.\nRecommended props: Yoga mat\, chair (without arms)\, strap\, block\, wall access\, and a thick towel or blanket.\n\nSaroja Subrahmanyan\, E-RYT 500\, has studied and practiced yoga for several decades. Her early yoga studies were in India followed by extensive teacher training in the Integral Yoga tradition since 1994 (Basic\, Intermediate\, Stress Management\, Accessible Yoga Teacher Training\, Laughing Yoga\, Raja Yoga\, Meditation). She also received training in other areas such as Therapeutic yoga\, Laughter Yoga in the Madan Kataria style\, Ayurveda\, Reiki\, iRest® Level 1 and a 20- hour teacher training course on Yoga vs. Osteoporosis offered by Dr. Loren Fishman in February 2024. She has taught yoga and stress management courses in a variety of settings and for varied audiences (colleges\, gyms\, offices\, ashram\, yoga studios and private classes) in the US\, Singapore\, and India. For the past two decades\, she has taught a popular yoga philosophy and practice course at Saint Mary’s College of California\, where is also a tenured professor in the business school. She loves how yoga practices offer guidance for physical\, mental\, and spiritual health and can be practiced by anyone.
URL:https://integralyogasf.org/event/yoga-for-strong-bones-3/
CATEGORIES:Events,Featured
ATTACH;FMTTYPE=image/jpeg:https://integralyogasf.org/wp-content/uploads/2024/04/Yoga-For-Bones_Saroja.jpg
END:VEVENT
END:VCALENDAR