BEGIN:VCALENDAR
VERSION:2.0
PRODID:-//Integral Yoga San Francisco - ECPv6.15.20//NONSGML v1.0//EN
CALSCALE:GREGORIAN
METHOD:PUBLISH
X-WR-CALNAME:Integral Yoga San Francisco
X-ORIGINAL-URL:https://integralyogasf.org
X-WR-CALDESC:Events for Integral Yoga San Francisco
REFRESH-INTERVAL;VALUE=DURATION:PT1H
X-Robots-Tag:noindex
X-PUBLISHED-TTL:PT1H
BEGIN:VTIMEZONE
TZID:America/Los_Angeles
BEGIN:DAYLIGHT
TZOFFSETFROM:-0800
TZOFFSETTO:-0700
TZNAME:PDT
DTSTART:20240310T100000
END:DAYLIGHT
BEGIN:STANDARD
TZOFFSETFROM:-0700
TZOFFSETTO:-0800
TZNAME:PST
DTSTART:20241103T090000
END:STANDARD
BEGIN:DAYLIGHT
TZOFFSETFROM:-0800
TZOFFSETTO:-0700
TZNAME:PDT
DTSTART:20250309T100000
END:DAYLIGHT
BEGIN:STANDARD
TZOFFSETFROM:-0700
TZOFFSETTO:-0800
TZNAME:PST
DTSTART:20251102T090000
END:STANDARD
BEGIN:DAYLIGHT
TZOFFSETFROM:-0800
TZOFFSETTO:-0700
TZNAME:PDT
DTSTART:20260308T100000
END:DAYLIGHT
BEGIN:STANDARD
TZOFFSETFROM:-0700
TZOFFSETTO:-0800
TZNAME:PST
DTSTART:20261101T090000
END:STANDARD
END:VTIMEZONE
BEGIN:VEVENT
DTSTART;TZID=America/Los_Angeles:20251118T183000
DTEND;TZID=America/Los_Angeles:20251118T200000
DTSTAMP:20260424T175752
CREATED:20250929T211614Z
LAST-MODIFIED:20250930T053942Z
UID:46597-1763490600-1763496000@integralyogasf.org
SUMMARY:5 Quick Yoga Steps for Stress Relief
DESCRIPTION:Online & in-person\n$32 | $26 Early bird RELIEF exp. 11/11 \nBook now/OnlinePlease register in advance; a Zoom link will be emailed 1 hour before the session\, or join Zoom directly via your Momence dashboard. \nBook now/In-PersonWe appreciate advance registration. \n5 Quick Yoga Steps for Stress Relief\nFor the Middle of Your Busy Life\nThis workshop gives you simple\, effective tools to intercept stress right in the middle of your busy day—especially when you:\n\ndon’t have time for a full yoga session\,\ncan’t change your clothes\,\ncan’t get down on the floor\,\njust ate\,\nand really need some peace of mind.\n\nYou’ll learn a collection of 1- to 5-minute yoga practices leading you through a simple 5 step process designed to intercept the stress response as it arises—because that’s exactly when you need it most. We’ll focus primarily on chair and standing yoga. These practices are easy\, accessible\, fun\, and adaptable to any level.\nYou’ll be amazed by what even a little bit of yoga can do—slipped into your hectic life—to help you rise above the chaos and surf the waves of stress with more grace and clarity. Don’t believe it? Come and see for yourself!\nThis workshop will be recorded for later viewing and shared for 2 weeks with all enrolled students.\nYoga Alliance CEUs are available to teachers upon request.\n\nSwami Vidyananda has been teaching Integral Yoga since 1973\, and practicing Yoga Therapy since 1979\, specializing in Yoga as Stress Management. Vidyananda co-developed the Integral Yoga Stress Management Teacher Training with Swami Ramananda\, and taught it for over 30 years. She has taught in many therapeutic programs\, including Smith Center Cancer Retreats\, Yoga for children with Down Syndrome\, Yoga for university students with eating disorders\, and chair Yoga for seniors. She is also trained as a hospital chaplain\, with an emphasis on end-of-life issues.\nVidyananda has created therapeutic yoga programs for clients with stress-related mental and physical challenges\, anxiety\, sports and other injuries\, and complex trauma. She uses a multi-leveled approach to Stress Management\, including adapted stretches\, breathing\, relaxation\, centering and wisdom teachings\, to bring wellness to the body\, emotions and mind.\nBefore becoming a Yoga teacher\, Vidyananda worked as a broadcast news producer and reporter. Since 1983 she has produced and edited dozens of Yoga Videos\, audios and documentaries for Integral Yoga. She also served as conference translator into French for her teacher\, Swami Satchidananda\, and other notable Yoga Masters. She has been a monk (Swami) since 1983. She founded the Integral Yoga Teachers’ Association and serves as the Director of the Integral Yoga Therapy Training Program. She lives in Satchidananda Ashram\, VA\, and travels and teaches internationally.
URL:https://integralyogasf.org/event/5-quick-yoga-steps-for-stress-relief/
CATEGORIES:Events,Featured
ATTACH;FMTTYPE=image/jpeg:https://integralyogasf.org/wp-content/uploads/2025/09/5-Steps-wkshop_Sw-Vidyananda.jpg
END:VEVENT
END:VCALENDAR