BEGIN:VCALENDAR
VERSION:2.0
PRODID:-//Integral Yoga San Francisco - ECPv6.15.20//NONSGML v1.0//EN
CALSCALE:GREGORIAN
METHOD:PUBLISH
X-WR-CALNAME:Integral Yoga San Francisco
X-ORIGINAL-URL:https://integralyogasf.org
X-WR-CALDESC:Events for Integral Yoga San Francisco
REFRESH-INTERVAL;VALUE=DURATION:PT1H
X-Robots-Tag:noindex
X-PUBLISHED-TTL:PT1H
BEGIN:VTIMEZONE
TZID:America/Los_Angeles
BEGIN:DAYLIGHT
TZOFFSETFROM:-0800
TZOFFSETTO:-0700
TZNAME:PDT
DTSTART:20240310T100000
END:DAYLIGHT
BEGIN:STANDARD
TZOFFSETFROM:-0700
TZOFFSETTO:-0800
TZNAME:PST
DTSTART:20241103T090000
END:STANDARD
BEGIN:DAYLIGHT
TZOFFSETFROM:-0800
TZOFFSETTO:-0700
TZNAME:PDT
DTSTART:20250309T100000
END:DAYLIGHT
BEGIN:STANDARD
TZOFFSETFROM:-0700
TZOFFSETTO:-0800
TZNAME:PST
DTSTART:20251102T090000
END:STANDARD
BEGIN:DAYLIGHT
TZOFFSETFROM:-0800
TZOFFSETTO:-0700
TZNAME:PDT
DTSTART:20260308T100000
END:DAYLIGHT
BEGIN:STANDARD
TZOFFSETFROM:-0700
TZOFFSETTO:-0800
TZNAME:PST
DTSTART:20261101T090000
END:STANDARD
END:VTIMEZONE
BEGIN:VEVENT
DTSTART;TZID=America/Los_Angeles:20250503T173000
DTEND;TZID=America/Los_Angeles:20250503T183000
DTSTAMP:20260425T191855
CREATED:20250328T211313Z
LAST-MODIFIED:20250329T073312Z
UID:45387-1746293400-1746297000@integralyogasf.org
SUMMARY:Satsang: An Anchor in the Storms of Life
DESCRIPTION:$5-$20 | Enroll for free\, use promo code FREE. \nBook now/OnlinePlease register in advance; a Zoom link will be emailed 1 hour before the session\, or join Zoom directly via your Momence dashboard. \nBook now/In-PersonWe appreciate advance registration. \nLife inevitably presents us with a series of challenges\, and the current events unfolding in our country and around the world serve as a powerful reminder of this truth. In times of hardship\, it is often the storms of life that push us to dig deeper within ourselves\, revealing strengths we may not have known we possessed. In other words\, you GOT this! We GOT this. Let’s acknowledge\, and even celebrate\, that we have been building a strong yogic foundation to weather these kinds of storms.\nJoin Saeeda and Ramananda for an insightful discussion on how our Yoga practice can help us tap into the vast potential already within us\, empowering us to rise above adversity and create meaningful change. You may have more influence and impact than you realize and discovering this can be inspiring and exciting.\nSatsang\, a special time for us to come together as a community. In Sanskrit\, Sat means truth and Sangha means community. Satsang offers an opportunity to come together to share spiritual teachings. The philosophy of Integral Yoga is explored\, often through an informal discussion. Although spiritual paths may diverge\, the act of sharing spiritual teachings with others is inspiring and creates a solid foundation for continued practice.\nPeople of all faiths are welcome.\n\nSwami Ramananda\, C-IAYT\, E-RYT 500\, is the Executive Director of the Integral Yoga Institute in San Francisco\, C-IAYT\, and a greatly respected senior teacher in the Integral Yoga tradition who has been practicing Yoga for over 45 years. Ramananda offers practical methods of integrating the timeless teachings and practices of Yoga into daily life and transforming the painful aspects of human experience into steps toward realizing one’s full potential.\nHe leads beginner\, intermediate and advanced-level Yoga teacher training programs in San Francisco and offers a variety of programs in many locations in the U.S.\, Europe and South America. Ramananda co-developed the Stress Management Teacher Training program with Swami Vidyananda\, has trained many teachers to bring Yoga into corporate\, hospital and medical settings\, and has taught mind/body wellness programs in many locations. He is a certified Yoga therapist and founding board member of the Yoga Alliance\, a national registry that supports and promotes yoga teachers as professionals. He co-founded The Spiritual Action Initiative (SAI)\, which brings together individuals committed to working for social justice for all beings and for the care and healing of our natural world. His warmth\, wisdom and sense of humor have endeared him to many. \nSaeeda Hafiz is a yoga teacher and wellness expert with certifications from the Sivananda Yoga Vedanta Centers and the Natural Gourmet Institute. As a holistic health educator with the San Francisco Unified School District\, she focuses on sharing her 30+ years of knowledge in physical and mental wellness with diverse groups. She lives in the San Francisco Bay Area. saeedahafiz.com
URL:https://integralyogasf.org/event/satsang-an-anchor-in-the-storms/
CATEGORIES:By Donation,Events,Featured
ATTACH;FMTTYPE=image/jpeg:https://integralyogasf.org/wp-content/uploads/2025/03/Satsang_Saeeda_Ramananda.jpg
END:VEVENT
END:VCALENDAR