BEGIN:VCALENDAR
VERSION:2.0
PRODID:-//Integral Yoga San Francisco - ECPv6.15.20//NONSGML v1.0//EN
CALSCALE:GREGORIAN
METHOD:PUBLISH
X-WR-CALNAME:Integral Yoga San Francisco
X-ORIGINAL-URL:https://integralyogasf.org
X-WR-CALDESC:Events for Integral Yoga San Francisco
REFRESH-INTERVAL;VALUE=DURATION:PT1H
X-Robots-Tag:noindex
X-PUBLISHED-TTL:PT1H
BEGIN:VTIMEZONE
TZID:America/Los_Angeles
BEGIN:DAYLIGHT
TZOFFSETFROM:-0800
TZOFFSETTO:-0700
TZNAME:PDT
DTSTART:20240310T100000
END:DAYLIGHT
BEGIN:STANDARD
TZOFFSETFROM:-0700
TZOFFSETTO:-0800
TZNAME:PST
DTSTART:20241103T090000
END:STANDARD
BEGIN:DAYLIGHT
TZOFFSETFROM:-0800
TZOFFSETTO:-0700
TZNAME:PDT
DTSTART:20250309T100000
END:DAYLIGHT
BEGIN:STANDARD
TZOFFSETFROM:-0700
TZOFFSETTO:-0800
TZNAME:PST
DTSTART:20251102T090000
END:STANDARD
BEGIN:DAYLIGHT
TZOFFSETFROM:-0800
TZOFFSETTO:-0700
TZNAME:PDT
DTSTART:20260308T100000
END:DAYLIGHT
BEGIN:STANDARD
TZOFFSETFROM:-0700
TZOFFSETTO:-0800
TZNAME:PST
DTSTART:20261101T090000
END:STANDARD
END:VTIMEZONE
BEGIN:VEVENT
DTSTART;TZID=America/Los_Angeles:20251127T093000
DTEND;TZID=America/Los_Angeles:20251127T110000
DTSTAMP:20260424T085536
CREATED:20251001T164850Z
LAST-MODIFIED:20251119T183622Z
UID:46617-1764235800-1764241200@integralyogasf.org
SUMMARY:Thanksgiving Benefit Yoga Class
DESCRIPTION:Online & In-person \n$15-$108 (class card use ok) \nBook now/OnlinePlease register in advance; a Zoom link will be emailed 1 hour before the session\, or join Zoom directly via your Momence dashboard. \nBook now/In-PersonWe appreciate advance registration. \nJoin us for a Thanksgiving Morning Yoga Class! As we move through our yoga practice\, we will focus on gratitude and the profound effects that cultivating gratitude can have in our lives.\nAll proceeds from this class will support to sustain and grow our IYISF Community Outreach Program\, which offers free or low-cost yoga and meditation held in culturally accessible locations to support domestic workers\, day laborers\, mothers-to-be\, young adults with disabilities\, and seniors in achieving better health through movement and mindfulness.\nThe program began to develop in 2022 with a free\, six-week yoga series in Spanish for domestic workers\, led by Integral Yoga teacher Andreína Maldonado. It was sponsored by IYISF\, the San Francisco Day Labor Program\, the Women’s Collective\, and Dance Mission Theater.\nIn 2023\, the program blossomed with support from grants and private donors. In 2024\, it expanded to include Accessible Yoga classes for young adults with disabilities\, in partnership with the San Francisco Unified School District (SFUSD).\nNow in 2025\, the program continues to grow thanks to fundraising and grants from Livongo Health\, Working Theory Foundation\, Give Back Yoga Foundation\, and Lululemon’s Here to Be Foundation\, ​a​nd with community partners such as the Alliance for Social and Economic Justice Center\, Community Well\, Casa Doulas Center\, San Francisco Women’s Building\, and Access SFUSD. By 2026\, it aims to offer postnatal yoga and chair yoga classes for seniors—all in Spanish.\nBy addressing barriers such as language\, culture\, cost\, and transportation\, the IYISF Community Outreach Program fosters inclusive\, healing-centered spaces for underserved communities.\nDonate or invite others to donate.\nThis donation-based program will not be recorded. \n\nAndreína Maldonaldo (She/her) is a Venezuelan interdisciplinary performing artist and registered Integral Yoga practitioner based in Yelamu\, Ohlone Territory\, colonially known as San Francisco\, California. She currently teaches beginner level Hatha yoga in Spanish\, and in English by request. She guides her students through the powerful practice of Integral yoga by centering mindfulness\, joy\, and self-care. Join Andreina in this fun and intentional class that will leave you feeling renewed\, empowered\, and more connected to self and others. \n\nJoin Swami Ramananda for Thanksgiving Puja\, Sharing & Potluck\nThu. NOV 27 @ 11:15 am – 12:15 pm PST\nONLINE & IN-PERSON\nBook now/OnlineBook now/In-Person
URL:https://integralyogasf.org/event/thanksgiving-benefit-yoga-class/
CATEGORIES:By Donation,Events,Featured
ATTACH;FMTTYPE=image/jpeg:https://integralyogasf.org/wp-content/uploads/2025/10/Andreina-Maldonaldo.jpg
END:VEVENT
END:VCALENDAR