BEGIN:VCALENDAR
VERSION:2.0
PRODID:-//Integral Yoga San Francisco - ECPv6.15.20//NONSGML v1.0//EN
CALSCALE:GREGORIAN
METHOD:PUBLISH
X-WR-CALNAME:Integral Yoga San Francisco
X-ORIGINAL-URL:https://integralyogasf.org
X-WR-CALDESC:Events for Integral Yoga San Francisco
REFRESH-INTERVAL;VALUE=DURATION:PT1H
X-Robots-Tag:noindex
X-PUBLISHED-TTL:PT1H
BEGIN:VTIMEZONE
TZID:America/Los_Angeles
BEGIN:DAYLIGHT
TZOFFSETFROM:-0800
TZOFFSETTO:-0700
TZNAME:PDT
DTSTART:20250309T100000
END:DAYLIGHT
BEGIN:STANDARD
TZOFFSETFROM:-0700
TZOFFSETTO:-0800
TZNAME:PST
DTSTART:20251102T090000
END:STANDARD
BEGIN:DAYLIGHT
TZOFFSETFROM:-0800
TZOFFSETTO:-0700
TZNAME:PDT
DTSTART:20260308T100000
END:DAYLIGHT
BEGIN:STANDARD
TZOFFSETFROM:-0700
TZOFFSETTO:-0800
TZNAME:PST
DTSTART:20261101T090000
END:STANDARD
BEGIN:DAYLIGHT
TZOFFSETFROM:-0800
TZOFFSETTO:-0700
TZNAME:PDT
DTSTART:20270314T100000
END:DAYLIGHT
BEGIN:STANDARD
TZOFFSETFROM:-0700
TZOFFSETTO:-0800
TZNAME:PST
DTSTART:20271107T090000
END:STANDARD
END:VTIMEZONE
BEGIN:VEVENT
DTSTART;TZID=America/Los_Angeles:20260430T180000
DTEND;TZID=America/Los_Angeles:20260430T193000
DTSTAMP:20260423T164733
CREATED:20260302T222834Z
LAST-MODIFIED:20260422T185511Z
UID:47170-1777572000-1777577400@integralyogasf.org
SUMMARY:How Yoga Transformed My Life\, Part 2 of 2
DESCRIPTION:ONLINE & IN-PERSON with Swami Ramananda\, C-IAYT\, E-RYT 500\n2 Thursdays\, April 23 & 30 \nBoth sessions: $45 | $40 Early bird\, use promo code LIFE\, exp. 4/16/26\nIndividual session(s): $25 each \nBook both sessions/OnlinePlease register in advance; a Zoom link will be emailed 1 hour before the session\, or join Zoom directly via your Momence dashboard. \nBook both session/In-PersonWe appreciate advance registration. \nIndividual session(s)\n4/23 – Book Online |  Book In-person\n4/30 –  Book Online | Book In-person \nIn this two-part workshop\, Swami Ramananda—drawing on more than fifty years of dedicated yoga practice—will share five pivotal teachings that profoundly changed his life. Central among them is a liberating insight into self-identity: “I don’t have to buy into the whole story that inhabits my mind and feels like me.”\nThrough guided reflection and clear\, down-to-earth explanation\, Swami Ramananda will show how these teachings can be applied to everyday challenges such as work\, relationships\, and stress. For example\, together\, we will explore how loosening our identification with habitual mental narratives opens the possibility for greater freedom\, presence\, and discernment.\nParticipants will leave with simple\, practical tools to respond more skillfully to daily events and to cultivate clarity\, inner growth\, and a deeper sense of well-being—both on and off the mat.\nThese workshops are available for sign up as a course or individually at $25 – 4/23 & 4/30\nand will be recorded and available to all enrolled students for two weeks.\n\nSwami Ramananda\, C-IAYT\, E-RYT 500\, is the Executive Director of the Integral Yoga Institute in San Francisco\, C-IAYT\, and a greatly respected senior teacher in the Integral Yoga tradition who has been practicing Yoga for over 45 years. Ramananda offers practical methods of integrating the timeless teachings and practices of Yoga into daily life and transforming the painful aspects of human experience into steps toward realizing one’s full potential.\nHe leads beginner\, intermediate and advanced-level Yoga teacher training programs in San Francisco and offers a variety of programs in many locations in the U.S.\, Europe and South America. Ramananda co-developed the Stress Management Teacher Training program with Swami Vidyananda\, has trained many teachers to bring Yoga into corporate\, hospital and medical settings\, and has taught mind/body wellness programs in many locations. He is a certified Yoga therapist and founding board member of the Yoga Alliance\, a national registry that supports and promotes yoga teachers as professionals. He co-founded The Spiritual Action Initiative (SAI)\, which brings together individuals committed to working for social justice for all beings and for the care and healing of our natural world. His warmth\, wisdom and sense of humor have endeared him to many.
URL:https://integralyogasf.org/event/how-yoga-transformed-my-life-part-2-of-2/
CATEGORIES:Events,Featured
ATTACH;FMTTYPE=image/jpeg:https://integralyogasf.org/wp-content/uploads/2025/02/ramananda_Scripture-studies.jpg
END:VEVENT
END:VCALENDAR