BEGIN:VCALENDAR
VERSION:2.0
PRODID:-//Integral Yoga San Francisco - ECPv6.15.20//NONSGML v1.0//EN
CALSCALE:GREGORIAN
METHOD:PUBLISH
X-ORIGINAL-URL:https://integralyogasf.org
X-WR-CALDESC:Events for Integral Yoga San Francisco
REFRESH-INTERVAL;VALUE=DURATION:PT1H
X-Robots-Tag:noindex
X-PUBLISHED-TTL:PT1H
BEGIN:VTIMEZONE
TZID:America/Los_Angeles
BEGIN:DAYLIGHT
TZOFFSETFROM:-0800
TZOFFSETTO:-0700
TZNAME:PDT
DTSTART:20250309T100000
END:DAYLIGHT
BEGIN:STANDARD
TZOFFSETFROM:-0700
TZOFFSETTO:-0800
TZNAME:PST
DTSTART:20251102T090000
END:STANDARD
BEGIN:DAYLIGHT
TZOFFSETFROM:-0800
TZOFFSETTO:-0700
TZNAME:PDT
DTSTART:20260308T100000
END:DAYLIGHT
BEGIN:STANDARD
TZOFFSETFROM:-0700
TZOFFSETTO:-0800
TZNAME:PST
DTSTART:20261101T090000
END:STANDARD
BEGIN:DAYLIGHT
TZOFFSETFROM:-0800
TZOFFSETTO:-0700
TZNAME:PDT
DTSTART:20270314T100000
END:DAYLIGHT
BEGIN:STANDARD
TZOFFSETFROM:-0700
TZOFFSETTO:-0800
TZNAME:PST
DTSTART:20271107T090000
END:STANDARD
END:VTIMEZONE
BEGIN:VEVENT
DTSTART;TZID=America/Los_Angeles:20260418T113000
DTEND;TZID=America/Los_Angeles:20260418T123000
DTSTAMP:20260423T164906
CREATED:20260302T220509Z
LAST-MODIFIED:20260302T220632Z
UID:47164-1776511800-1776515400@integralyogasf.org
SUMMARY:Satsang: Inspiration for the Spiritual Journey
DESCRIPTION:Online \n$5-$20 | Enroll for free\, use promo code FREE \nBook now/OnlinePlease register in advance; a Zoom link will be emailed 1 hour before the session\, or join Zoom directly via your Momence dashboard. \nJoin us for this heartfelt and inspiring session\, where two senior and widely respected Integral Yoga swamis\, Swamis Ramananda and Asokananda\, will reflect on the teachings and practices that have sustained them over the years. They will also share what continues to inspire and renew their dedication to the path today.\nThe spiritual journey is filled with challenges\, and progress can often feel slow or uncertain. Along the way\, we benefit deeply from the support of fellow travelers\, those who have walked this path before us\, who generously share their experience\, and who care enough to walk beside us.\nPlease bring your heartfelt questions. At least half of the session will be dedicated to Q&A. All are welcome. This workshop will be recorded and available to all enrolled students for two weeks.\n\nSwami Ramananda\, C-IAYT\, E-RYT 500\, is the Executive Director of the Integral Yoga Institute in San Francisco\, C-IAYT\, and a greatly respected senior teacher in the Integral Yoga tradition who has been practicing Yoga for over 45 years. Ramananda offers practical methods of integrating the timeless teachings and practices of Yoga into daily life and transforming the painful aspects of human experience into steps toward realizing one’s full potential.\nHe leads beginner\, intermediate and advanced-level Yoga teacher training programs in San Francisco and offers a variety of programs in many locations in the U.S.\, Europe and South America. Ramananda co-developed the Stress Management Teacher Training program with Swami Vidyananda\, has trained many teachers to bring Yoga into corporate\, hospital and medical settings\, and has taught mind/body wellness programs in many locations. He is a certified Yoga therapist and founding board member of the Yoga Alliance\, a national registry that supports and promotes yoga teachers as professionals. He co-founded The Spiritual Action Initiative (SAI)\, which brings together individuals committed to working for social justice for all beings and for the care and healing of our natural world. His warmth\, wisdom and sense of humor have endeared him to many. \nSwami Asokananda\, a monk since 1973\, is one of Integral Yoga’s foremost teachers\, known for his warmth\, intelligence\, and good humor. His teaching comes out of his own practice and experience\, since he has absorbed the wisdom of his guru\, Sri Swami Satchidananda\, since the age of 19. While he enjoys sharing the practical wisdom of the Yogic philosophy (especially that of the great Indian scripture the Bhagavad Gita)\, he also loves his practice of Hatha Yoga and is one of our primary instructors for Intermediate and Advanced Hatha Yoga Teacher Training. In the past\, he has served as the president of Satchidananda Ashram–Yogaville® and Integral Yoga® International; he is currently the President of the New York Integral Yoga Institute.
URL:https://integralyogasf.org/event/satsang-inspiration-for-the-spiritual-journey-3/
CATEGORIES:Events,Featured
ATTACH;FMTTYPE=image/jpeg:https://integralyogasf.org/wp-content/uploads/2025/12/Swami-Asokananda-Satsang.jpg
END:VEVENT
END:VCALENDAR