BEGIN:VCALENDAR
VERSION:2.0
PRODID:-//Integral Yoga San Francisco - ECPv6.15.20//NONSGML v1.0//EN
CALSCALE:GREGORIAN
METHOD:PUBLISH
X-WR-CALNAME:Integral Yoga San Francisco
X-ORIGINAL-URL:https://integralyogasf.org
X-WR-CALDESC:Events for Integral Yoga San Francisco
REFRESH-INTERVAL;VALUE=DURATION:PT1H
X-Robots-Tag:noindex
X-PUBLISHED-TTL:PT1H
BEGIN:VTIMEZONE
TZID:America/Los_Angeles
BEGIN:DAYLIGHT
TZOFFSETFROM:-0800
TZOFFSETTO:-0700
TZNAME:PDT
DTSTART:20240310T100000
END:DAYLIGHT
BEGIN:STANDARD
TZOFFSETFROM:-0700
TZOFFSETTO:-0800
TZNAME:PST
DTSTART:20241103T090000
END:STANDARD
BEGIN:DAYLIGHT
TZOFFSETFROM:-0800
TZOFFSETTO:-0700
TZNAME:PDT
DTSTART:20250309T100000
END:DAYLIGHT
BEGIN:STANDARD
TZOFFSETFROM:-0700
TZOFFSETTO:-0800
TZNAME:PST
DTSTART:20251102T090000
END:STANDARD
BEGIN:DAYLIGHT
TZOFFSETFROM:-0800
TZOFFSETTO:-0700
TZNAME:PDT
DTSTART:20260308T100000
END:DAYLIGHT
BEGIN:STANDARD
TZOFFSETFROM:-0700
TZOFFSETTO:-0800
TZNAME:PST
DTSTART:20261101T090000
END:STANDARD
END:VTIMEZONE
BEGIN:VEVENT
DTSTART;TZID=America/Los_Angeles:20250630T180000
DTEND;TZID=America/Los_Angeles:20250630T190000
DTSTAMP:20260425T031809
CREATED:20250507T171158Z
LAST-MODIFIED:20250507T171305Z
UID:45827-1751306400-1751310000@integralyogasf.org
SUMMARY:Spiritual Study: Yoga and Mystical Experiences\, 3 of 3 - part
DESCRIPTION:Online | $5-15 sliding scale\nBook now/OnlinePlease register in advance; a Zoom link will be emailed 1 hour before the session\, or join Zoom directly via your Momence dashboard. \n3 Mondays\, June 16\, 23\, 30 • 6:00 – 7:00pm | Offered individually\n\n6/16 Book now\n6/23 Book now\n6/30 Book now\n\nMystics from diverse traditions often describe their experiences in remarkably similar ways. In this series\, we will explore the mystical experiences of several great beings\, from ancient times to the present. We will examine how these experiences align with the teachings of Patanjali’s Yoga Sutras and how transcending identification with the body and mind can open the door to realms beyond time and space—realms accessible to all of us.\nThe Yoga Spiritual Study series is an offering in which participants learn and discuss how the teachings of Yoga apply to our daily lives. We read passages from scriptures of Yoga and other ancient and contemporary spiritual texts\, take time to reflect upon them\, and share with each other how these words and practices support us on the spiritual path. All are welcome to join any one or all of the sessions.\n\nSwami Ramananda\, C-IAYT\, E-RYT 500\, is the Executive Director of the Integral Yoga Institute in San Francisco\, C-IAYT\, and a greatly respected senior teacher in the Integral Yoga tradition who has been practicing Yoga for over 45 years. Ramananda offers practical methods of integrating the timeless teachings and practices of Yoga into daily life and transforming the painful aspects of human experience into steps toward realizing one’s full potential.\nHe leads beginner\, intermediate and advanced-level Yoga teacher training programs in San Francisco and offers a variety of programs in many locations in the U.S.\, Europe and South America. Ramananda co-developed the Stress Management Teacher Training program with Swami Vidyananda\, has trained many teachers to bring Yoga into corporate\, hospital and medical settings\, and has taught mind/body wellness programs in many locations. He is a certified Yoga therapist and founding board member of the Yoga Alliance\, a national registry that supports and promotes yoga teachers as professionals. He co-founded The Spiritual Action Initiative (SAI)\, which brings together individuals committed to working for social justice for all beings and for the care and healing of our natural world. His warmth\, wisdom and sense of humor have endeared him to many.
URL:https://integralyogasf.org/event/spiritual-study-yoga-and-mystical-experiences-3-of-3-part/
CATEGORIES:Events,Featured
ATTACH;FMTTYPE=image/jpeg:https://integralyogasf.org/wp-content/uploads/2025/05/Spiritual-Studies_Ramananda.jpg
END:VEVENT
END:VCALENDAR