BEGIN:VCALENDAR
VERSION:2.0
PRODID:-//Integral Yoga San Francisco - ECPv6.15.20//NONSGML v1.0//EN
CALSCALE:GREGORIAN
METHOD:PUBLISH
X-ORIGINAL-URL:https://integralyogasf.org
X-WR-CALDESC:Events for Integral Yoga San Francisco
REFRESH-INTERVAL;VALUE=DURATION:PT1H
X-Robots-Tag:noindex
X-PUBLISHED-TTL:PT1H
BEGIN:VTIMEZONE
TZID:America/Los_Angeles
BEGIN:DAYLIGHT
TZOFFSETFROM:-0800
TZOFFSETTO:-0700
TZNAME:PDT
DTSTART:20240310T100000
END:DAYLIGHT
BEGIN:STANDARD
TZOFFSETFROM:-0700
TZOFFSETTO:-0800
TZNAME:PST
DTSTART:20241103T090000
END:STANDARD
BEGIN:DAYLIGHT
TZOFFSETFROM:-0800
TZOFFSETTO:-0700
TZNAME:PDT
DTSTART:20250309T100000
END:DAYLIGHT
BEGIN:STANDARD
TZOFFSETFROM:-0700
TZOFFSETTO:-0800
TZNAME:PST
DTSTART:20251102T090000
END:STANDARD
BEGIN:DAYLIGHT
TZOFFSETFROM:-0800
TZOFFSETTO:-0700
TZNAME:PDT
DTSTART:20260308T100000
END:DAYLIGHT
BEGIN:STANDARD
TZOFFSETFROM:-0700
TZOFFSETTO:-0800
TZNAME:PST
DTSTART:20261101T090000
END:STANDARD
END:VTIMEZONE
BEGIN:VEVENT
DTSTART;TZID=America/Los_Angeles:20250621T140000
DTEND;TZID=America/Los_Angeles:20250621T153000
DTSTAMP:20260424T205043
CREATED:20250407T224101Z
LAST-MODIFIED:20250521T172457Z
UID:45617-1750514400-1750519800@integralyogasf.org
SUMMARY:Enlighten Up: How to Enjoy the Spiritual Path
DESCRIPTION:Online & In-person | $10-$30 sliding scale \nBook now/OnlinePlease register in advance; a Zoom link will be emailed 1 hour before the session\, or join Zoom directly via your Momence dashboard. \nBook now/In-PersonWe appreciate advance registration. \nApproaching our spiritual journey with the same achievement-driven mindset that dominates our culture can often lead to frustration and burnout. The relentless chase for happiness may ironically pull us away from the present moment—the very space where our true joy resides.\nJoin us for this enriching workshop\, where we’ll explore together how to engage in both our spiritual practice and daily lives wholeheartedly\, with curiosity and focus\, revealing a profound sense of fulfillment that is free of dependency on results or approval. Learn to experience firsthand how both sitting still and service are potent forms of Yoga\, illuminating our immense capacity to enjoy life.\nAfternoon of Yoga at IYISF in celebration of International Day of Yoga & Summer Solstice.\nPacific Times\, all online or in-person: \n2:00-3:30 pm – Enlighten Up: How to Enjoy the Spiritual Path with Swamis Asokananda & Ramananda\n3:45-4:45 pm – Freeing Your Yoga Practice – Mixed Level with Raisa Punkki\n3:45-4:45 pm – Gentle Yoga class with Kayko Watanabe\n5:00-6:00 pm – Light Immersion with Subtle Practices with Diana Meltsner \nAll levels of practice are welcome. All programs are available for individual sign up online or in-person at a sliding scale pricing.\nAll proceeds will help us sustain our mission:\n“The Integral Yoga Institute of San Francisco\, founded by Sri Swami Satchidananda\, is a non-profit\, interfaith organization dedicated to serving the community through living and sharing the classical teachings of Yoga\, making the teachings accessible\, and cultivating peace and harmony among all people.”\n\nSwami Ramananda\, C-IAYT\, E-RYT 500\, is the Executive Director of the Integral Yoga Institute in San Francisco\, C-IAYT\, and a greatly respected senior teacher in the Integral Yoga tradition who has been practicing Yoga for over 45 years. Ramananda offers practical methods of integrating the timeless teachings and practices of Yoga into daily life and transforming the painful aspects of human experience into steps toward realizing one’s full potential.\nHe leads beginner\, intermediate and advanced-level Yoga teacher training programs in San Francisco and offers a variety of programs in many locations in the U.S.\, Europe and South America. Ramananda co-developed the Stress Management Teacher Training program with Swami Vidyananda\, has trained many teachers to bring Yoga into corporate\, hospital and medical settings\, and has taught mind/body wellness programs in many locations. He is a certified Yoga therapist and founding board member of the Yoga Alliance\, a national registry that supports and promotes yoga teachers as professionals. He co-founded The Spiritual Action Initiative (SAI)\, which brings together individuals committed to working for social justice for all beings and for the care and healing of our natural world. His warmth\, wisdom and sense of humor have endeared him to many. \nSwami Asokananda\, a monk since 1973\, is one of Integral Yoga’s foremost teachers\, known for his warmth\, intelligence\, and good humor. His teaching comes out of his own practice and experience\, since he has absorbed the wisdom of his guru\, Sri Swami Satchidananda\, since the age of 19. While he enjoys sharing the practical wisdom of the Yogic philosophy (especially that of the great Indian scripture the Bhagavad Gita)\, he also loves his practice of Hatha Yoga and is one of our primary instructors for Intermediate and Advanced Hatha Yoga Teacher Training. In the past\, he has served as the president of Satchidananda Ashram–Yogaville® and Integral Yoga® International; he is currently the President of the New York Integral Yoga Institute. Listen to Swami Asokananda on the Two Old Fogey Yogis podcast on Soundcloud. Phil Goldberg\, author of American Veda\, interviews Swami Asokananda on spiritmatterstalk.com podcast. Listen on SoundCloud.
URL:https://integralyogasf.org/event/enlighten-up/
CATEGORIES:Events,Featured
ATTACH;FMTTYPE=image/jpeg:https://integralyogasf.org/wp-content/uploads/2025/04/Intl-Day-of-Yoga_Swamis.jpg
END:VEVENT
END:VCALENDAR