BEGIN:VCALENDAR
VERSION:2.0
PRODID:-//Integral Yoga San Francisco - ECPv6.15.20//NONSGML v1.0//EN
CALSCALE:GREGORIAN
METHOD:PUBLISH
X-WR-CALNAME:Integral Yoga San Francisco
X-ORIGINAL-URL:https://integralyogasf.org
X-WR-CALDESC:Events for Integral Yoga San Francisco
REFRESH-INTERVAL;VALUE=DURATION:PT1H
X-Robots-Tag:noindex
X-PUBLISHED-TTL:PT1H
BEGIN:VTIMEZONE
TZID:America/Los_Angeles
BEGIN:DAYLIGHT
TZOFFSETFROM:-0800
TZOFFSETTO:-0700
TZNAME:PDT
DTSTART:20240310T100000
END:DAYLIGHT
BEGIN:STANDARD
TZOFFSETFROM:-0700
TZOFFSETTO:-0800
TZNAME:PST
DTSTART:20241103T090000
END:STANDARD
BEGIN:DAYLIGHT
TZOFFSETFROM:-0800
TZOFFSETTO:-0700
TZNAME:PDT
DTSTART:20250309T100000
END:DAYLIGHT
BEGIN:STANDARD
TZOFFSETFROM:-0700
TZOFFSETTO:-0800
TZNAME:PST
DTSTART:20251102T090000
END:STANDARD
BEGIN:DAYLIGHT
TZOFFSETFROM:-0800
TZOFFSETTO:-0700
TZNAME:PDT
DTSTART:20260308T100000
END:DAYLIGHT
BEGIN:STANDARD
TZOFFSETFROM:-0700
TZOFFSETTO:-0800
TZNAME:PST
DTSTART:20261101T090000
END:STANDARD
END:VTIMEZONE
BEGIN:VEVENT
DTSTART;TZID=America/Los_Angeles:20250516T183000
DTEND;TZID=America/Los_Angeles:20250516T200000
DTSTAMP:20260425T085653
CREATED:20250331T180352Z
LAST-MODIFIED:20250428T193545Z
UID:45475-1747420200-1747425600@integralyogasf.org
SUMMARY:Yoga for the Soul\, Body\, and Mind
DESCRIPTION:In-person | Consecutive Fridays\, 6:30-8:00 pm | Offered individually \n$20 each session | memberships & class passes OK \nBook/In-Person/MAY 16Please register in advance. \nBook individual sessions (Fridays 6:30-8:00 pm): \n\nMAR 28\, Swami Ramananda Book this session this session has passed\nAPR 4 Diana Meltsner & K. Muktidevi Demafeliz this session has passed\nAPR 11 Barbara Dickey & Saraswati Melanie Takahashi Book this session\nAPR 18 Diana Meltsner  Book this session\nAPR 25 Diana Meltsner Book this session\nMAY 2 Diana Meltsner & K. Muktidevi Demafeliz Book this session\nMAY 9 Barbara Dickey & Saraswati Melanie Takahashi Book this session\nMAY 16 Swami Ramananda Book this session\n\nYoga for the soul is a practice that in 90 minute format evenly combines physical poses at a mixed level with extended guided meditation and spiritual awareness explorations through a group discussion on yogic topics. These practices promote physical wellness\, elevate the mind\, foster connection with the soul and inspire life.\nJoin senior IYI teachers Diana Meltsner\, Swami Ramananda\, Saraswati Melanie Takahashi\, K. Muktidevi Demafeliz and Barbara Dickey for individual dates / classes by signing up the same way as for any other hatha yoga class using your memberships or with a $20 class payment.
URL:https://integralyogasf.org/event/yoga-for-the-soul-body-and-mind-8/
CATEGORIES:Events,Featured
ATTACH;FMTTYPE=image/jpeg:https://integralyogasf.org/wp-content/uploads/2025/02/Yoga-for-the-soul-8wk.jpg
END:VEVENT
END:VCALENDAR