BEGIN:VCALENDAR
VERSION:2.0
PRODID:-//Integral Yoga San Francisco - ECPv6.15.20//NONSGML v1.0//EN
CALSCALE:GREGORIAN
METHOD:PUBLISH
X-ORIGINAL-URL:https://integralyogasf.org
X-WR-CALDESC:Events for Integral Yoga San Francisco
REFRESH-INTERVAL;VALUE=DURATION:PT1H
X-Robots-Tag:noindex
X-PUBLISHED-TTL:PT1H
BEGIN:VTIMEZONE
TZID:America/Los_Angeles
BEGIN:DAYLIGHT
TZOFFSETFROM:-0800
TZOFFSETTO:-0700
TZNAME:PDT
DTSTART:20240310T100000
END:DAYLIGHT
BEGIN:STANDARD
TZOFFSETFROM:-0700
TZOFFSETTO:-0800
TZNAME:PST
DTSTART:20241103T090000
END:STANDARD
BEGIN:DAYLIGHT
TZOFFSETFROM:-0800
TZOFFSETTO:-0700
TZNAME:PDT
DTSTART:20250309T100000
END:DAYLIGHT
BEGIN:STANDARD
TZOFFSETFROM:-0700
TZOFFSETTO:-0800
TZNAME:PST
DTSTART:20251102T090000
END:STANDARD
BEGIN:DAYLIGHT
TZOFFSETFROM:-0800
TZOFFSETTO:-0700
TZNAME:PDT
DTSTART:20260308T100000
END:DAYLIGHT
BEGIN:STANDARD
TZOFFSETFROM:-0700
TZOFFSETTO:-0800
TZNAME:PST
DTSTART:20261101T090000
END:STANDARD
END:VTIMEZONE
BEGIN:VEVENT
DTSTART;TZID=America/Los_Angeles:20250407T180000
DTEND;TZID=America/Los_Angeles:20250407T190000
DTSTAMP:20260425T092646
CREATED:20250208T210200Z
LAST-MODIFIED:20250208T210352Z
UID:45091-1744048800-1744052400@integralyogasf.org
SUMMARY:Scripture Study: Raja Yoga - Keys to Sustainable Growth\, 3 of 3-part
DESCRIPTION:Online | $5-15 sliding scale | 3-part series\, each session offered individually\nFree for active IYISF teachers \nBook now/OnlinePlease register in advance; a Zoom link will be emailed 1 hour before the session\, or join Zoom directly via your Momence dashboard. \n3 Mondays\, from 6:00 – 7:00pm: \nPart 1 – March 24\nPart 2 – March 31\nPart 3 – April 7 \nIt can be fascinating to research and grasp the meaning of the Yoga Sutras\, but unless we find ways to embody these principles in daily life\, we only scratch the surface of the benefits held within the words. In this series\, we will explore 4 specific methods to deepen our personal experience of selected sutras and take concrete steps toward sustainable personal growth. We will use a system of reminders\, guided reflection\, and group support to bring these principles into a lived experience.\nThe Yoga Scripture Study series is an offering in which participants learn and discuss how the teachings of Yoga apply to our daily lives. We read passages\, take time to reflect upon them\, and share with each other how these words and practices support us on the spiritual path.\nAll are welcome to join any one or all of the sessions.\n\nSwami Ramananda\, C-IAYT\, E-RYT 500\, is the Executive Director of the Integral Yoga Institute in San Francisco\, C-IAYT\, and a greatly respected senior teacher in the Integral Yoga tradition who has been practicing Yoga for over 45 years. Ramananda offers practical methods of integrating the timeless teachings and practices of Yoga into daily life and transforming the painful aspects of human experience into steps toward realizing one’s full potential. He leads beginner\, intermediate and advanced-level Yoga teacher training programs in San Francisco and offers a variety of programs in many locations in the U.S.\, Europe and South America. Ramananda co-developed the Stress Management Teacher Training program with Swami Vidyananda\, has trained many teachers to bring Yoga into corporate\, hospital and medical settings\, and has taught mind/body wellness programs in many locations. He is a certified Yoga therapist and founding board member of the Yoga Alliance\, a national registry that supports and promotes yoga teachers as professionals. He co-founded The Spiritual Action Initiative (SAI)\, which brings together individuals committed to working for social justice for all beings and for the care and healing of our natural world. His warmth\, wisdom and sense of humor have endeared him to many.
URL:https://integralyogasf.org/event/scripture-study-raja-yoga-keys-to-sustainable-growth-3-of-3-part/
CATEGORIES:Events,Featured
ATTACH;FMTTYPE=image/jpeg:https://integralyogasf.org/wp-content/uploads/2025/02/ramananda_Scripture-studies.jpg
END:VEVENT
END:VCALENDAR