BEGIN:VCALENDAR
VERSION:2.0
PRODID:-//Integral Yoga San Francisco - ECPv6.15.20//NONSGML v1.0//EN
CALSCALE:GREGORIAN
METHOD:PUBLISH
X-ORIGINAL-URL:https://integralyogasf.org
X-WR-CALDESC:Events for Integral Yoga San Francisco
REFRESH-INTERVAL;VALUE=DURATION:PT1H
X-Robots-Tag:noindex
X-PUBLISHED-TTL:PT1H
BEGIN:VTIMEZONE
TZID:America/Los_Angeles
BEGIN:DAYLIGHT
TZOFFSETFROM:-0800
TZOFFSETTO:-0700
TZNAME:PDT
DTSTART:20250309T100000
END:DAYLIGHT
BEGIN:STANDARD
TZOFFSETFROM:-0700
TZOFFSETTO:-0800
TZNAME:PST
DTSTART:20251102T090000
END:STANDARD
BEGIN:DAYLIGHT
TZOFFSETFROM:-0800
TZOFFSETTO:-0700
TZNAME:PDT
DTSTART:20260308T100000
END:DAYLIGHT
BEGIN:STANDARD
TZOFFSETFROM:-0700
TZOFFSETTO:-0800
TZNAME:PST
DTSTART:20261101T090000
END:STANDARD
BEGIN:DAYLIGHT
TZOFFSETFROM:-0800
TZOFFSETTO:-0700
TZNAME:PDT
DTSTART:20270314T100000
END:DAYLIGHT
BEGIN:STANDARD
TZOFFSETFROM:-0700
TZOFFSETTO:-0800
TZNAME:PST
DTSTART:20271107T090000
END:STANDARD
END:VTIMEZONE
BEGIN:VEVENT
DTSTART;TZID=America/Los_Angeles:20260304T180000
DTEND;TZID=America/Los_Angeles:20260304T193000
DTSTAMP:20260423T164122
CREATED:20260113T055850Z
LAST-MODIFIED:20260227T004453Z
UID:46962-1772647200-1772652600@integralyogasf.org
SUMMARY:The Hidden Presence of Grace\, part 1 of 2
DESCRIPTION:Online & In-person | Parts 1 & 2 offered individually \n$40 | $35 Early bird for both sessions\, use promo code GRACE\, exp. 2/25/26\n$25 Individually per session \nBook now/Online Part 1 onlyPlease register in advance; a Zoom link will be emailed 1 hour before the session\, or join Zoom directly via your Momence dashboard. \nBook now/In-Person Part 1 onlyWe appreciate advance registration. \nBook now/Online Part 1 & 2 \nBook now/In-Person Part 1& 2 \nMany of us have\, at one time or another\, felt a benevolent presence quietly supporting and caring for us—even if we cannot fully understand it with the mind. This presence may reveal itself through subtle synchronicities that guide us toward wise choices\, through unexpected help in times of difficulty\, or through mysterious turns of fate that spare us from great mistakes.\nIn this two-part workshop\, Swami Ramananda will lead us through a series of experiential practices to help us open our hearts and align our will with the ever-present flow of grace. Together\, we will explore how to recognize and trust this hidden presence that continually moves through our lives.\nAll are welcome.\nBoth sessions will be recorded and shared with registered participants.\nYou can also register for these workshops individually:\nMarch 4th in-person or online\nMarch 11th in-person or online \n\nSwami Ramananda\, C-IAYT\, E-RYT 500\, is the Executive Director of the Integral Yoga Institute in San Francisco\, C-IAYT\, and a greatly respected senior teacher in the Integral Yoga tradition who has been practicing Yoga for over 45 years. Ramananda offers practical methods of integrating the timeless teachings and practices of Yoga into daily life and transforming the painful aspects of human experience into steps toward realizing one’s full potential.\nHe leads beginner\, intermediate and advanced-level Yoga teacher training programs in San Francisco and offers a variety of programs in many locations in the U.S.\, Europe and South America. Ramananda co-developed the Stress Management Teacher Training program with Swami Vidyananda\, has trained many teachers to bring Yoga into corporate\, hospital and medical settings\, and has taught mind/body wellness programs in many locations. He is a certified Yoga therapist and founding board member of the Yoga Alliance\, a national registry that supports and promotes yoga teachers as professionals. He co-founded The Spiritual Action Initiative (SAI)\, which brings together individuals committed to working for social justice for all beings and for the care and healing of our natural world. His warmth\, wisdom and sense of humor have endeared him to many.
URL:https://integralyogasf.org/event/the-hidden-presence-of-grace-2-part/
CATEGORIES:Events,Featured
ATTACH;FMTTYPE=image/jpeg:https://integralyogasf.org/wp-content/uploads/2024/08/Forgivness_ramananda.jpg
END:VEVENT
BEGIN:VEVENT
DTSTART;TZID=America/Los_Angeles:20260309T053000
DTEND;TZID=America/Los_Angeles:20260309T203000
DTSTAMP:20260423T164122
CREATED:20260225T190440Z
LAST-MODIFIED:20260225T191455Z
UID:47133-1773034200-1773088200@integralyogasf.org
SUMMARY:Yoga Immersion Program
DESCRIPTION:With Raama Das\, Swami Ramananda and senior staff Kalyani Carlee Cohen Barr and Raisa Punkki \nTuition* $1295.00\n$1100 Early Bird exp. 2/9/2026 \nDates & Times (PDT)\nMarch 9–May 11\, 2026 (no class 5/9) \nMondays – ONLINE: 5:30–8:30 pm PT\nSaturdays – ONLINE or In-person: 8:30 am–12 pm\, 1:30–4:30 pm PT \nBook/Apply nowPlease register in advance; a Zoom link will be emailed 1 hour before the session\, or join Zoom directly via your Momence dashboard. \nThis comprehensive 9-week course will offer a chance to take your own practice to a deeper level\, experience Yoga as a way of life and receive well-rounded Yoga studies founded in the teachings of Integral Yoga.\nThe Yoga Immersion Program opens the door to personal transformation and spiritual fulfillment. This comprehensive 9-week course offers an opportunity to deepen your practice\, experience Yoga as a way of life\, and engage in well-rounded studies rooted in the teachings of Integral Yoga—a classical Yoga tradition. All levels of practice are welcome; however\, some prior experience is required.\n“Yoga believes in transforming the individual before transforming the world. Whatever change we want to happen outside should happen within. If you walk in peace and express that peace in your very life\, others will see you and learn something.”— Sri Swami Satchidananda\nCurriculum Overview\nThe program offers in-depth learning across various aspects of Yoga practice: \n\nYoga Asana – Practice and theory based on the Integral Yoga Level 1 sequence\, an inward\, spiritually focused form of Hatha Yoga. This style is designed to lead practitioners toward inner peace and greater self-awareness. Emphasis will be placed on developing a personalized Hatha Yoga practice.\nPhilosophy – A comprehensive Raja Yoga course with Swami Ramananda\, exploring the Yoga Sutras of Patanjali through the lens of Sri Swami Satchidananda’s commentary. The course will conclude with a written review.\nPranayama and Meditation – Guidance in establishing a personal practice rooted in traditional yogic methods\, complemented by discussions on benefits supported by current scientific research and personal experience.\nAnatomy – An introduction to basic physiology and the body’s systems to support understanding of the benefits of Yoga practice and to help make informed decisions about what to include in one’s personal practice.\nYogic Lifestyle – An introduction to traditional yogic paths that support a well-rounded yogic lifestyle\, including Jnana Yoga\, Karma Yoga\, and Bhakti Yoga—core elements of the Integral Yoga tradition.\n\nThe Integral Yoga Immersion Program provides a strong foundation for those who may wish to become Yoga teachers. It serves as Module 1 of our two-part\, 200-hour Yoga Teacher Training format. Whether or not you choose to teach\, this program will support you in deepening your personal Yoga practice\, taking it off the mat\, and integrating it more fully into your daily life—helping to cultivate a lasting sense of ease in the body and peace in the mind. \nGraduates who complete both Module 1 and Module 2 are certified to teach Beginner Level Hatha Yoga and are eligible to register with Yoga Alliance as an RYT-200. You may choose to complete Module 2 within two years to fulfill the full certification requirements. \nTuition includes free access to all Yoga classes offered at Integral Yoga Institute San Francisco and free access to IYTV\, a large and ever-expanding library of recorded Integral Yoga Teachings and classes\, throughout the duration of this course! \nOnline\nThe entire course can be completed online. We offer optional in-person components\, though they will not be required. We are committed to providing a safe\, high-quality learning experience for all participants. \nAll materials shared online\, including lecture recordings\, will be available throughout the training and for three months after completion of the course. \nTechnological Requirements\nPlease note that regular access to the internet is required to participate in this online training. You must be able to run Zoom on your computer or tablet and have an active email account to receive course materials. \n*Payment information and Refund Policy:\nA $25 non-refundable application fee is applied towards the tuition. After your application has been accepted\, you will be prompted to make a payment when we start enrolling students into the course. If you apply before the early bird pricing expires\, you will receive a discounted early-bird price. For RYT 200 teachers\, please email us your diploma when you apply at training@integralyogasf.org. Full payment is required one week before the start of the program\, unless a prior payment plan has been arranged. Once the program begins\, the program tuition is non-refundable and non-transferable. If canceling before the start of the program\, the balance will be refunded minus $175 administration fee. \nPartial scholarships are available for this training when possible. We accept scholarship applications up to one month prior to the start of the training. BIPOC are encouraged to apply. \nWe offer payment plans for our applicants. The tuition is divided into a number of smaller payments. A one-time\, $35 admin fee applies when setting up your plan. You can apply with an early enrollment option and start your payments in advance to have smaller monthly payments. \nModules 1 can be taken with Module 2 Yoga Teaching Essentials. Together\, Module 1 & 2 comprise our 200-hour program; modules are offered individually.
URL:https://integralyogasf.org/event/yoga-immersion-program/
ATTACH;FMTTYPE=image/jpeg:https://integralyogasf.org/wp-content/uploads/2026/02/2024_200hr-TT_Immersion-Mod-2_760-x-420-Course-Desc.jpg
END:VEVENT
BEGIN:VEVENT
DTSTART;TZID=America/Los_Angeles:20260311T180000
DTEND;TZID=America/Los_Angeles:20260311T193000
DTSTAMP:20260423T164122
CREATED:20260113T060739Z
LAST-MODIFIED:20260227T004822Z
UID:46965-1773252000-1773257400@integralyogasf.org
SUMMARY:The Hidden Presence of Grace\, part 2 of 2
DESCRIPTION:Online & In-person | Parts 1 & 2 offered individually \n$40 | $35 Early bird for both sessions\, use promo code GRACE\, exp. 2/25/26\n$25 Individually per session \nBook now/Online Part 2 onlyPlease register in advance; a Zoom link will be emailed 1 hour before the session\, or join Zoom directly via your Momence dashboard. \nBook now/In-Person Part 2 onlyWe appreciate advance registration. \nBook now/Online Part 1 & 2 \nBook now/In-Person Part 1 & 2 \nMany of us have\, at one time or another\, felt a benevolent presence quietly supporting and caring for us—even if we cannot fully understand it with the mind. This presence may reveal itself through subtle synchronicities that guide us toward wise choices\, through unexpected help in times of difficulty\, or through mysterious turns of fate that spare us from great mistakes.\nIn this two-part workshop\, Swami Ramananda will lead us through a series of experiential practices to help us open our hearts and align our will with the ever-present flow of grace. Together\, we will explore how to recognize and trust this hidden presence that continually moves through our lives.\nAll are welcome.\nBoth sessions will be recorded and shared with registered participants.\nYou can also register for these workshops individually:\nMarch 4th in-person or online\nMarch 11th in-person or online \n\nSwami Ramananda\, C-IAYT\, E-RYT 500\, is the Executive Director of the Integral Yoga Institute in San Francisco\, C-IAYT\, and a greatly respected senior teacher in the Integral Yoga tradition who has been practicing Yoga for over 45 years. Ramananda offers practical methods of integrating the timeless teachings and practices of Yoga into daily life and transforming the painful aspects of human experience into steps toward realizing one’s full potential.\nHe leads beginner\, intermediate and advanced-level Yoga teacher training programs in San Francisco and offers a variety of programs in many locations in the U.S.\, Europe and South America. Ramananda co-developed the Stress Management Teacher Training program with Swami Vidyananda\, has trained many teachers to bring Yoga into corporate\, hospital and medical settings\, and has taught mind/body wellness programs in many locations. He is a certified Yoga therapist and founding board member of the Yoga Alliance\, a national registry that supports and promotes yoga teachers as professionals. He co-founded The Spiritual Action Initiative (SAI)\, which brings together individuals committed to working for social justice for all beings and for the care and healing of our natural world. His warmth\, wisdom and sense of humor have endeared him to many.
URL:https://integralyogasf.org/event/the-hidden-presence-of-grace-part-2-of-2/
CATEGORIES:Events,Featured
ATTACH;FMTTYPE=image/jpeg:https://integralyogasf.org/wp-content/uploads/2024/08/Forgivness_ramananda.jpg
END:VEVENT
END:VCALENDAR