BEGIN:VCALENDAR
VERSION:2.0
PRODID:-//Integral Yoga San Francisco - ECPv6.15.20//NONSGML v1.0//EN
CALSCALE:GREGORIAN
METHOD:PUBLISH
X-ORIGINAL-URL:https://integralyogasf.org
X-WR-CALDESC:Events for Integral Yoga San Francisco
REFRESH-INTERVAL;VALUE=DURATION:PT1H
X-Robots-Tag:noindex
X-PUBLISHED-TTL:PT1H
BEGIN:VTIMEZONE
TZID:America/Los_Angeles
BEGIN:DAYLIGHT
TZOFFSETFROM:-0800
TZOFFSETTO:-0700
TZNAME:PDT
DTSTART:20240310T100000
END:DAYLIGHT
BEGIN:STANDARD
TZOFFSETFROM:-0700
TZOFFSETTO:-0800
TZNAME:PST
DTSTART:20241103T090000
END:STANDARD
BEGIN:DAYLIGHT
TZOFFSETFROM:-0800
TZOFFSETTO:-0700
TZNAME:PDT
DTSTART:20250309T100000
END:DAYLIGHT
BEGIN:STANDARD
TZOFFSETFROM:-0700
TZOFFSETTO:-0800
TZNAME:PST
DTSTART:20251102T090000
END:STANDARD
BEGIN:DAYLIGHT
TZOFFSETFROM:-0800
TZOFFSETTO:-0700
TZNAME:PDT
DTSTART:20260308T100000
END:DAYLIGHT
BEGIN:STANDARD
TZOFFSETFROM:-0700
TZOFFSETTO:-0800
TZNAME:PST
DTSTART:20261101T090000
END:STANDARD
END:VTIMEZONE
BEGIN:VEVENT
DTSTART;TZID=America/Los_Angeles:20250802T110000
DTEND;TZID=America/Los_Angeles:20250802T140000
DTSTAMP:20260424T085529
CREATED:20250623T205200Z
LAST-MODIFIED:20250623T210503Z
UID:46076-1754132400-1754143200@integralyogasf.org
SUMMARY:Celebrating Community; Karma Yoga
DESCRIPTION:Free \nBook now/In-PersonWe appreciate advance registration. \nJoin us for a few hours of fun\, food\, and meaningful connection as we explore how to transform our work into spiritual practice. We’ll begin with a brief talk and discussion on the practice of Karma Yoga\, led by Swami Ramananda. This will be followed by an opportunity to support our beautiful building through mindful service—cleaning the Institute’s classrooms\, hallways\, and outdoor areas with awareness and joy.\nWe’ll conclude our time together with an extended deep relaxation and a nourishing meal. During the meal\, we will honor the dedicated Karma Yogis who have generously supported the Institute over the past few years.\n“Work done in the right attitude becomes consecrated; becomes a sacred act. A life consecrated in doing selfless acts will become a divine life.” – Swami Sivananda\n\nSwami Ramananda\, C-IAYT\, E-RYT 500\, is the Executive Director of the Integral Yoga Institute in San Francisco\, C-IAYT\, and a greatly respected senior teacher in the Integral Yoga tradition who has been practicing Yoga for over 45 years. Ramananda offers practical methods of integrating the timeless teachings and practices of Yoga into daily life and transforming the painful aspects of human experience into steps toward realizing one’s full potential.\nHe leads beginner\, intermediate and advanced-level Yoga teacher training programs in San Francisco and offers a variety of programs in many locations in the U.S.\, Europe and South America. Ramananda co-developed the Stress Management Teacher Training program with Swami Vidyananda\, has trained many teachers to bring Yoga into corporate\, hospital and medical settings\, and has taught mind/body wellness programs in many locations. He is a certified Yoga therapist and founding board member of the Yoga Alliance\, a national registry that supports and promotes yoga teachers as professionals. He co-founded The Spiritual Action Initiative (SAI)\, which brings together individuals committed to working for social justice for all beings and for the care and healing of our natural world. His warmth\, wisdom and sense of humor have endeared him to many. \nKia Meaux. I have been a dedicated student of yoga since 1989 beginning with my first teacher\, Richard Freeman in Boulder\, CO. I began teaching my alignment-based vinyasa flow classes in 1998 here in San Francisco and then eventually opened my own yoga studio\, Kaya Yoga in 2006. Due to Covid I closed my yoga studio in 2022 and currently only teach yoga online. My interest has moved more towards meditation and the practice of deeply contemplating “What Am I? I am currently a Resident of the Integral Yoga Institute in San Francisco where I have the great fortune to manage the daily organization of the house. \nRaama Das\, C-IAYT\, is a former director of the Integral Yoga® Teachers Association and has been instructing Integral Yoga since 2009. He is a lead trainer for the Integral Yoga 200-hour Teacher Training at Yogaville and co-presenter for the 200 and 500-hour Yoga Alliance programs at Heal Me Institute in Fredericksburg. Raama recently received certification as a Yoga Therapist through the International Association of Yoga Therapists (IAYT)\, having studied Yoga programs for specific health conditions\, including\, anxiety\, depression\, cancer\, heart disease\, arthritis\, and addiction. He is also certified as a teacher of Intermediate Hatha\, Raja Yoga\, Meditation\, Stress Management\, Yin Yoga\, and Yoga for our Elders. Raama has studied and served extensively at the Integral Yoga Academy at Yogaville and managed the Integral Yoga Therapy Program. In addition\, he has participated in many months of deep Tantric and classical Yoga sadhana (practice) at the Scandinavian Yoga and Meditation School in Sweden under the direction of Swami Janakananda. He currently serves as Institute Manager at the Integral Yoga Institute San Francisco.
URL:https://integralyogasf.org/event/celebrating-community-karma-yoga/
CATEGORIES:By Donation,Events,Featured
ATTACH;FMTTYPE=image/jpeg:https://integralyogasf.org/wp-content/uploads/2023/08/Karma-Yoga-Day_Sep-2023.jpg
END:VEVENT
BEGIN:VEVENT
DTSTART;TZID=America/Los_Angeles:20250817T110000
DTEND;TZID=America/Los_Angeles:20250817T120000
DTSTAMP:20260424T085529
CREATED:20250625T185530Z
LAST-MODIFIED:20250721T193728Z
UID:46128-1755428400-1755432000@integralyogasf.org
SUMMARY:Sunday Spiritual Talk: Self-Realization as a Daily Practice
DESCRIPTION:$5-$20 | Enroll for free\, use promo code FREE \nBook now/OnlinePlease register in advance; a Zoom link will be emailed 1 hour before the session\, or join Zoom directly via your Momence dashboard. \nWe often think of self-realization as the goal of Yoga\, but what does that truly mean to us? It can remain a vague and distant concept\, seemingly disconnected from our daily lives. Join Ramananda for a discussion on how we can free ourselves from the illusion of separation and how our everyday thoughts and actions can become meaningful steps toward realizing our true nature.\nSatsang is a special time for us to come together as a community. In Sanskrit\, Sat means truth and Sangha means community. Satsang offers an opportunity to come together to share spiritual teachings. The philosophy of Integral Yoga is explored often through an informal discussion. Although our spiritual paths may diverge\, the act of sharing spiritual teachings with others is inspiring and creates a solid foundation for continued practice.\n\nSwami Ramananda\, C-IAYT\, E-RYT 500\, is the Executive Director of the Integral Yoga Institute in San Francisco\, C-IAYT\, and a greatly respected senior teacher in the Integral Yoga tradition who has been practicing Yoga for over 45 years. Ramananda offers practical methods of integrating the timeless teachings and practices of Yoga into daily life and transforming the painful aspects of human experience into steps toward realizing one’s full potential.\nHe leads beginner\, intermediate and advanced-level Yoga teacher training programs in San Francisco and offers a variety of programs in many locations in the U.S.\, Europe and South America. Ramananda co-developed the Stress Management Teacher Training program with Swami Vidyananda\, has trained many teachers to bring Yoga into corporate\, hospital and medical settings\, and has taught mind/body wellness programs in many locations. He is a certified Yoga therapist and founding board member of the Yoga Alliance\, a national registry that supports and promotes yoga teachers as professionals. He co-founded The Spiritual Action Initiative (SAI)\, which brings together individuals committed to working for social justice for all beings and for the care and healing of our natural world. His warmth\, wisdom and sense of humor have endeared him to many. \nSwami Yatidharmananda is a globally recognised Yogi from India and is the founder of Swami Chidananda Sevashram. The Sevashram is a Socio-Spiritual Organization dedicated to the life and teachings of Gurudev Swami Chidanandaji. He conducts workshops on Relaxation and Meditation\, Sings Kirtans and loves to share inspiring stories of his life transformative journey. He has also developed unique and impactful programs that heal\, empower and transform you to tackle challenges in day to day lives. He dedicated himself to the service of his Guru Swami Chidananda Saraswati and was blessed to be with him 24X7 for many years. He had the rare opportunity and blessing to observe one of the greatest saints that left an indelible imprint on his life. In the year 2000\, he received Sannyasa Diksha. Having received so much unconditionally\, urges him to share this anecdotal wisdom with one and all. In July 2015\, he set out on his own and founded Swami Chidananda Sevashram with the blessings of Gurudev Swami Chidananda ji of Sivananda Ashram. It is a monastery for the modern world where people of all ages and backgrounds can live on the principles and practices of Ayurveda for the body\, Yoga for the mind and Vedanta for the soul. It also brings together revered teachers from around the world for sharing knowledge and wisdom on various wellness based activities. Since 2016 he has traveled extensively each year to US and Europe for conducting workshops on Relaxation & meditation and conducted Kirtans. Since September 2020 Swami Yatidharmananda is serving as the General Secretary of Swami Sivanand Seva Samiti\, and living in the company of Swami Premanandaji and Swami Atmanandaji\, the direct disciples of Swami Sivanandaji Maharaj at the Sivananda Ashram\, Ganeshpur\, Uttarkashi\, Himalayas\, India. https://sivanandsevasamiti.org/about/swami-yatidharmananda
URL:https://integralyogasf.org/event/sunday-spiritual-talk-self-realization/
CATEGORIES:By Donation,Events,Featured
ATTACH;FMTTYPE=image/jpeg:https://integralyogasf.org/wp-content/uploads/2025/06/Sunday-Spiritual-Talk_Ram-and-Yartidharma.jpg
END:VEVENT
BEGIN:VEVENT
DTSTART;TZID=America/Los_Angeles:20250819T120000
DTEND;TZID=America/Los_Angeles:20250819T124500
DTSTAMP:20260424T085529
CREATED:20250623T210920Z
LAST-MODIFIED:20250625T181058Z
UID:46087-1755604800-1755607500@integralyogasf.org
SUMMARY:Sri Swami Satchidananda's Mahasamadhi Puja
DESCRIPTION:Free | Online or in-person \nBook now/OnlinePlease register in advance; a Zoom link will be emailed 1 hour before the session\, or join Zoom directly via your Momence dashboard. \nBook now/In-PersonWe appreciate advance registration. \nJoin us for a special service in memory of Sri Swami Satchidananda’s passing\, Mahasamadhi\, a time to come together for blessings and to offer gratitude for guidance and love of our spiritual teacher and a founder of Integral Yoga. A puja (spiritual service) with participatory chanting will be performed. This service will include our noon meditation. \n\nSwami Vimalananda Ma\, RYT500\, is an Integral Yoga sannyasi – monk. She has been involved with Integral Yoga since 1971 and Director of the San Francisco Integral Yoga Institute from 1992-2011. She specializes in teaching yoga philosophy and spiritual counseling.
URL:https://integralyogasf.org/event/sri-swami-satchidanandas-mahasamadhi-puja-2/
CATEGORIES:By Donation,Events,Featured
ATTACH;FMTTYPE=image/png:https://integralyogasf.org/wp-content/uploads/2022/09/Guru-Puja_2022_2.png
END:VEVENT
END:VCALENDAR