BEGIN:VCALENDAR
VERSION:2.0
PRODID:-//Integral Yoga San Francisco - ECPv6.15.20//NONSGML v1.0//EN
CALSCALE:GREGORIAN
METHOD:PUBLISH
X-ORIGINAL-URL:https://integralyogasf.org
X-WR-CALDESC:Events for Integral Yoga San Francisco
REFRESH-INTERVAL;VALUE=DURATION:PT1H
X-Robots-Tag:noindex
X-PUBLISHED-TTL:PT1H
BEGIN:VTIMEZONE
TZID:America/Los_Angeles
BEGIN:DAYLIGHT
TZOFFSETFROM:-0800
TZOFFSETTO:-0700
TZNAME:PDT
DTSTART:20250309T100000
END:DAYLIGHT
BEGIN:STANDARD
TZOFFSETFROM:-0700
TZOFFSETTO:-0800
TZNAME:PST
DTSTART:20251102T090000
END:STANDARD
BEGIN:DAYLIGHT
TZOFFSETFROM:-0800
TZOFFSETTO:-0700
TZNAME:PDT
DTSTART:20260308T100000
END:DAYLIGHT
BEGIN:STANDARD
TZOFFSETFROM:-0700
TZOFFSETTO:-0800
TZNAME:PST
DTSTART:20261101T090000
END:STANDARD
BEGIN:DAYLIGHT
TZOFFSETFROM:-0800
TZOFFSETTO:-0700
TZNAME:PDT
DTSTART:20270314T100000
END:DAYLIGHT
BEGIN:STANDARD
TZOFFSETFROM:-0700
TZOFFSETTO:-0800
TZNAME:PST
DTSTART:20271107T090000
END:STANDARD
END:VTIMEZONE
BEGIN:VEVENT
DTSTART;TZID=America/Los_Angeles:20260322T110000
DTEND;TZID=America/Los_Angeles:20260322T120000
DTSTAMP:20260423T223559
CREATED:20260126T215831Z
LAST-MODIFIED:20260126T220033Z
UID:47005-1774177200-1774180800@integralyogasf.org
SUMMARY:Sunday Spiritual Talk:What This Moment Asks of Us: A Spring Equinox Satsang
DESCRIPTION:Online | $5-$20 | Enroll for free\, use promo code FREE \nBook now/OnlinePlease register in advance; a Zoom link will be emailed 1 hour before the session\, or join Zoom directly via your Momence dashboard. \nThe Spring Equinox marks a point in the Earth’s cycle when day and night are nearly equal in length—a moment of transition as conditions in nature begin to shift. In this Satsang\, we’ll use the equinox as an opportunity to examine how we respond to shifts unfolding in our world and in our own lives. Grounded in the wisdom of Yoga and compassionate communication\, the gathering will include shared reflection\, contemplative inquiry\, and guided practice. Together\, we’ll explore how yogic principles of nonviolence and truthfulness\, along with the cultivation of a calm\, steady mind\, support us in responding to harm\, conflict\, and upheaval with integrity.\nSatsang is a special time for us to come together as a community. In Sanskrit\, Sat means truth and Sangha means community. Satsang offers an opportunity to come together to share spiritual teachings. The philosophy of Integral Yoga is explored often through an informal discussion. Although our spiritual paths may diverge\, the act of sharing spiritual teachings with others is inspiring and creates a solid foundation for continued practice. \nPeople of all faiths are welcome.\n\nKamala Itzel Hayward was a lawyer for over a decade before becoming a Yoga teacher and Yoga therapist specializing in trauma\, addiction\, and wellness. She is passionate about bringing Yoga and other healing modalities to adults facing chronic stress caused by living under oppression\, such as racism\, sexism\, homophobia\, transphobia\, classism\, ableism\, and more. She is founder of the Integral Yoga Institute’s Scholarship-Based Yoga Teacher Training for Black\, Indigenous\, People of Color. Since founding Attuned Living in 2010\, she has been sharing Yoga with individuals facing housing insecurity and related challenges\, including systemic barriers; structural oppression; social dislocation; physical\, emotional\, and mental health challenges; substance abuse; and addiction. She sits on the Advisory Board for the Trauma Prevention and Recovery Certificate Program at the City College of San Francisco.
URL:https://integralyogasf.org/event/sunday-spiritual-talk-spring-equinox-satsang/
CATEGORIES:By Donation,Events,Featured
ATTACH;FMTTYPE=image/jpeg:https://integralyogasf.org/wp-content/uploads/2026/01/Satsang-_Kamala.jpg
END:VEVENT
END:VCALENDAR