BEGIN:VCALENDAR
VERSION:2.0
PRODID:-//Integral Yoga San Francisco - ECPv6.15.20//NONSGML v1.0//EN
CALSCALE:GREGORIAN
METHOD:PUBLISH
X-WR-CALNAME:Integral Yoga San Francisco
X-ORIGINAL-URL:https://integralyogasf.org
X-WR-CALDESC:Events for Integral Yoga San Francisco
REFRESH-INTERVAL;VALUE=DURATION:PT1H
X-Robots-Tag:noindex
X-PUBLISHED-TTL:PT1H
BEGIN:VTIMEZONE
TZID:America/Los_Angeles
BEGIN:DAYLIGHT
TZOFFSETFROM:-0800
TZOFFSETTO:-0700
TZNAME:PDT
DTSTART:20240310T100000
END:DAYLIGHT
BEGIN:STANDARD
TZOFFSETFROM:-0700
TZOFFSETTO:-0800
TZNAME:PST
DTSTART:20241103T090000
END:STANDARD
BEGIN:DAYLIGHT
TZOFFSETFROM:-0800
TZOFFSETTO:-0700
TZNAME:PDT
DTSTART:20250309T100000
END:DAYLIGHT
BEGIN:STANDARD
TZOFFSETFROM:-0700
TZOFFSETTO:-0800
TZNAME:PST
DTSTART:20251102T090000
END:STANDARD
BEGIN:DAYLIGHT
TZOFFSETFROM:-0800
TZOFFSETTO:-0700
TZNAME:PDT
DTSTART:20260308T100000
END:DAYLIGHT
BEGIN:STANDARD
TZOFFSETFROM:-0700
TZOFFSETTO:-0800
TZNAME:PST
DTSTART:20261101T090000
END:STANDARD
END:VTIMEZONE
BEGIN:VEVENT
DTSTART;TZID=America/Los_Angeles:20251023T180000
DTEND;TZID=America/Los_Angeles:20251023T193000
DTSTAMP:20260425T085657
CREATED:20250904T060755Z
LAST-MODIFIED:20250904T062409Z
UID:46444-1761242400-1761247800@integralyogasf.org
SUMMARY:Fueling the Flame: Cultivating True Sincerity on the Spiritual Path
DESCRIPTION:Online and In-person | $10-25 sliding scale\nFree for active teachers \nBook now/OnlinePlease register in advance; a Zoom link will be emailed 1 hour before the session\, or join Zoom directly via your Momence dashboard. \nBook now/In-PersonWe appreciate advance registration. \nWhat is sincerity? How can we deepen it? And how do we recognize when it is truly present in us?\nWe engage in practices that nurture the well-being of body and mind—this is our sadhana. Yet at times\, we unconsciously undermine those efforts. One foot presses the accelerator\, while the other rests on the brake.\nIn this workshop\, Swami Asokananda will offer heartfelt insights and practical tools to help us become more earnest and focused on the spiritual path. Learn how to release the brake\, press the gas with confidence\, and move forward with greater clarity\, sincerity\, and inner momentum.\n“If you are earnest\, whatever way you choose will take you to your goal. It is the earnestness that is the decisive factor. Earnestness is the homing instinct which makes the bird return to its nest and the fish to the mountain stream where it was born. The seed returns to the earth when the fruit is ripe.” Nisargadatta Maharaj\nEveryone is welcome to stay for tea and visit with Swami Asokananda afterwards.\nThis workshop will be recorded for later viewing and shared for 2 weeks with all enrolled students.\n\nSwami Asokananda\, a monk since 1973\, is one of Integral Yoga’s foremost teachers\, known for his warmth\, intelligence\, and good humor. His teaching comes out of his own practice and experience\, since he has absorbed the wisdom of his guru\, Sri Swami Satchidananda\, since the age of 19. While he enjoys sharing the practical wisdom of the Yogic philosophy (especially that of the great Indian scripture the Bhagavad Gita)\, he also loves his practice of Hatha Yoga and is one of our primary instructors for Intermediate and Advanced Hatha Yoga Teacher Training. In the past\, he has served as the president of Satchidananda Ashram–Yogaville® and Integral Yoga® International; he is currently the President of the New York Integral Yoga Institute.
URL:https://integralyogasf.org/event/fueling-the-flame/
CATEGORIES:Events,Featured
ATTACH;FMTTYPE=image/jpeg:https://integralyogasf.org/wp-content/uploads/2025/09/Asokananda_Fueling-the-flame.jpg
END:VEVENT
END:VCALENDAR