BEGIN:VCALENDAR
VERSION:2.0
PRODID:-//Integral Yoga San Francisco - ECPv6.15.20//NONSGML v1.0//EN
CALSCALE:GREGORIAN
METHOD:PUBLISH
X-WR-CALNAME:Integral Yoga San Francisco
X-ORIGINAL-URL:https://integralyogasf.org
X-WR-CALDESC:Events for Integral Yoga San Francisco
REFRESH-INTERVAL;VALUE=DURATION:PT1H
X-Robots-Tag:noindex
X-PUBLISHED-TTL:PT1H
BEGIN:VTIMEZONE
TZID:America/Los_Angeles
BEGIN:DAYLIGHT
TZOFFSETFROM:-0800
TZOFFSETTO:-0700
TZNAME:PDT
DTSTART:20250309T100000
END:DAYLIGHT
BEGIN:STANDARD
TZOFFSETFROM:-0700
TZOFFSETTO:-0800
TZNAME:PST
DTSTART:20251102T090000
END:STANDARD
BEGIN:DAYLIGHT
TZOFFSETFROM:-0800
TZOFFSETTO:-0700
TZNAME:PDT
DTSTART:20260308T100000
END:DAYLIGHT
BEGIN:STANDARD
TZOFFSETFROM:-0700
TZOFFSETTO:-0800
TZNAME:PST
DTSTART:20261101T090000
END:STANDARD
BEGIN:DAYLIGHT
TZOFFSETFROM:-0800
TZOFFSETTO:-0700
TZNAME:PDT
DTSTART:20270314T100000
END:DAYLIGHT
BEGIN:STANDARD
TZOFFSETFROM:-0700
TZOFFSETTO:-0800
TZNAME:PST
DTSTART:20271107T090000
END:STANDARD
END:VTIMEZONE
BEGIN:VEVENT
DTSTART;TZID=America/Los_Angeles:20260425T190000
DTEND;TZID=America/Los_Angeles:20260425T203000
DTSTAMP:20260423T125337
CREATED:20260304T190120Z
LAST-MODIFIED:20260422T185151Z
UID:47179-1777143600-1777149000@integralyogasf.org
SUMMARY:Music and Poetry of South Asian Mystics: an exploration of Sufi songs
DESCRIPTION:IN-PERSON with Anhad Naad Collective \n$25 Day of | $20 In advance\, use promo code SUFI \nBook now/In-PersonWe appreciate advance registration. \nJoin us for exploration of traditional devotional music from the motherland of Yoga.\nAnhad Naad Collective presents:\nMusic and Poetry of South Asian Mystics: an exploration of Sufi songs.\nWe are sharing our own experience with Sufism through singing\, music and poetry. Audience is encouraged to sing along with us\, we will provide lyrics with English translations.\nHistorically\, in South Asia\, Sufism played a huge role in inter-faith syncretism and Sufi shrines (dargahs) have been pivotal to communal harmony.\nDivya Purohit Vyas – vocal\nIrum Aftab – vocal\nVivek Anand – vocal\, harmonium\nRajnish Kamat – vocal\nJun Ishimuro – flute\, digital audio workstation (DAW)\nCraig Reiter- bass and other string instruments\nAbhay Shankar Anand – tabla\, percussions\, sound engineering
URL:https://integralyogasf.org/event/music-and-poetry-of-south-asian-mystics-3/
CATEGORIES:Events,Featured
ATTACH;FMTTYPE=image/jpeg:https://integralyogasf.org/wp-content/uploads/2026/03/Anhad-Naad-Collective.jpg
END:VEVENT
END:VCALENDAR