BEGIN:VCALENDAR
VERSION:2.0
PRODID:-//Integral Yoga San Francisco - ECPv6.15.20//NONSGML v1.0//EN
CALSCALE:GREGORIAN
METHOD:PUBLISH
X-ORIGINAL-URL:https://integralyogasf.org
X-WR-CALDESC:Events for Integral Yoga San Francisco
REFRESH-INTERVAL;VALUE=DURATION:PT1H
X-Robots-Tag:noindex
X-PUBLISHED-TTL:PT1H
BEGIN:VTIMEZONE
TZID:America/Los_Angeles
BEGIN:DAYLIGHT
TZOFFSETFROM:-0800
TZOFFSETTO:-0700
TZNAME:PDT
DTSTART:20240310T100000
END:DAYLIGHT
BEGIN:STANDARD
TZOFFSETFROM:-0700
TZOFFSETTO:-0800
TZNAME:PST
DTSTART:20241103T090000
END:STANDARD
BEGIN:DAYLIGHT
TZOFFSETFROM:-0800
TZOFFSETTO:-0700
TZNAME:PDT
DTSTART:20250309T100000
END:DAYLIGHT
BEGIN:STANDARD
TZOFFSETFROM:-0700
TZOFFSETTO:-0800
TZNAME:PST
DTSTART:20251102T090000
END:STANDARD
BEGIN:DAYLIGHT
TZOFFSETFROM:-0800
TZOFFSETTO:-0700
TZNAME:PDT
DTSTART:20260308T100000
END:DAYLIGHT
BEGIN:STANDARD
TZOFFSETFROM:-0700
TZOFFSETTO:-0800
TZNAME:PST
DTSTART:20261101T090000
END:STANDARD
END:VTIMEZONE
BEGIN:VEVENT
DTSTART;TZID=America/Los_Angeles:20250405T173000
DTEND;TZID=America/Los_Angeles:20250405T183000
DTSTAMP:20260425T080102
CREATED:20250208T221953Z
LAST-MODIFIED:20250414T213727Z
UID:45110-1743874200-1743877800@integralyogasf.org
SUMMARY:Satsang: Authenticity\, a Path to Self-Realization
DESCRIPTION:Online & In-person | $5-$20 | Enroll for free\, use promo code FREE \nBook now/OnlinePlease register in advance; a Zoom link will be emailed 1 hour before the session\, or join Zoom directly via your Momence dashboard. \nBook now/In-PersonWe appreciate advance registration. \nIn our culture authenticity is a quality more often marketed than manifested. Digital temptations and consumerism undermine our agency and “response-ability” and it becomes increasingly more difficult to be in touch with ourselves and with what truly matters to us.\nAuthenticity arises when we stop betraying ourselves\, when we show ourselves open and honest in a wholesome way. Living authentically gives us meaning and purpose\, increases our self-esteem\, supports our personal and communal health but also takes a whole lot of courage and determination.\nThe teachings of yoga offer us a very sophisticated map on how to return to authenticity. Come and join yoga therapist Claudia Bartsch to explore how.\nThis is an introduction to her upcoming in-depth ‘Authenticity\, Path to Self-Realization’ 3-part course. Save the date: 3 Saturday mornings 4/19\, 4/26 & 5/3\, 11:15-12:45pm.\nSatsang is a special time for us to come together as a community. In Sanskrit\, Sat means truth and Sangha means community. Satsang offers an opportunity to come together to share spiritual teachings. The philosophy of Integral Yoga is explored often through an informal discussion. Although our spiritual paths may diverge\, the act of sharing spiritual teachings with others is inspiring and creates a solid foundation for continued practice.\n\nClaudia Bartsch\, PRYT\nOriginally from Germany\, Claudia studied and taught yoga for over 25 years. With more than 2000 hours of formal training in yoga she has a strong foundation in the classical approach to yoga and in innovative therapeutic methods. She is deeply dedicated to facilitating holistic healing and certified as a yoga therapist in 2016. In this role\, she specializes in supporting individuals navigating mental or physical challenges by tailoring yoga practices to their unique conditions and needs. Additionally she was certified as a Stress Management Educator to empower individuals to cultivate resilience and inner peace through mindful practices. She is a Shiatsu and Reiki Practitioner\, modalities that complement the holistic approach to well-being fostered through yoga. In 2022 she was certified as a Brain Longevity Specialist by the Alzheimer’s Research and Prevention Foundation to deepen her understanding of cognitive and mental health Please visit her website for more information: claudiabartsch.com
URL:https://integralyogasf.org/event/sattsang-authenticity-a-path-to-self-realization/
CATEGORIES:By Donation,Events,Featured
ATTACH;FMTTYPE=image/jpeg:https://integralyogasf.org/wp-content/uploads/2025/02/Claudia_Satsang.jpg
END:VEVENT
END:VCALENDAR