BEGIN:VCALENDAR
VERSION:2.0
PRODID:-//Integral Yoga San Francisco - ECPv6.15.20//NONSGML v1.0//EN
CALSCALE:GREGORIAN
METHOD:PUBLISH
X-WR-CALNAME:Integral Yoga San Francisco
X-ORIGINAL-URL:https://integralyogasf.org
X-WR-CALDESC:Events for Integral Yoga San Francisco
REFRESH-INTERVAL;VALUE=DURATION:PT1H
X-Robots-Tag:noindex
X-PUBLISHED-TTL:PT1H
BEGIN:VTIMEZONE
TZID:America/Los_Angeles
BEGIN:DAYLIGHT
TZOFFSETFROM:-0800
TZOFFSETTO:-0700
TZNAME:PDT
DTSTART:20250309T100000
END:DAYLIGHT
BEGIN:STANDARD
TZOFFSETFROM:-0700
TZOFFSETTO:-0800
TZNAME:PST
DTSTART:20251102T090000
END:STANDARD
BEGIN:DAYLIGHT
TZOFFSETFROM:-0800
TZOFFSETTO:-0700
TZNAME:PDT
DTSTART:20260308T100000
END:DAYLIGHT
BEGIN:STANDARD
TZOFFSETFROM:-0700
TZOFFSETTO:-0800
TZNAME:PST
DTSTART:20261101T090000
END:STANDARD
BEGIN:DAYLIGHT
TZOFFSETFROM:-0800
TZOFFSETTO:-0700
TZNAME:PDT
DTSTART:20270314T100000
END:DAYLIGHT
BEGIN:STANDARD
TZOFFSETFROM:-0700
TZOFFSETTO:-0800
TZNAME:PST
DTSTART:20271107T090000
END:STANDARD
END:VTIMEZONE
BEGIN:VEVENT
DTSTART;TZID=America/Los_Angeles:20260425T110000
DTEND;TZID=America/Los_Angeles:20260425T130000
DTSTAMP:20260423T154530
CREATED:20260302T223732Z
LAST-MODIFIED:20260422T185057Z
UID:47175-1777114800-1777122000@integralyogasf.org
SUMMARY:Move with Ease: Hatha Yoga for Hip Mobility & Lower Body
DESCRIPTION:ONLINE with Nathalie Rukmini Ando\, E-RYT 500\, YACEP\n$35 | $30 Early bird\, exp. 4/18 \nBook now/OnlinePlease register in advance; a Zoom link will be emailed 1 hour before the session\, or join Zoom directly via your Momence dashboard. \nJoin us for a 2-hour Hatha Yoga workshop designed to improve hip mobility and flexibility in the hip joints. Through a series of targeted yoga poses and exercises\, you’ll learn how to safely and mindfully deepen your range of motion\, release tension\, and strengthen hip flexors. This practice is especially beneficial for individuals experiencing stiffness\, as it can lead to improved posture\, spinal stability\, and overall well-being. Perfect for yoga practitioners seeking to deepen their practice\, particularly in forward bends and seated poses.\nIn this interactive workshop\, we’ll explore muscle activation on many of the Yoga Asanas\, covering:\n– Major movements of the pelvis and hip joints\n– Strengthening postures for those movements\n– Balancing and Dynamic poses\n– A couple of Yin Yoga poses \nAll levels are welcome. This workshop will be recorded for later viewing and shared for 2 weeks with all enrolled students.\n\nNathalie Rukmini Ando\, E-RYT 500\, YACEP\, is a Yoga teacher\, trainer\, and graphic designer\, Brazilian of Japanese descent. She lived in Yogaville\, VA\, where she served as a Yoga teacher\, program development director\, leadership team member\, online courses administrator\, DE&I (Diversity Equity and Inclusion) Committee member\, and Anti-Racism Task Force member. She has been practicing Yoga since 2004\, teaching since 2010\, and has been a Yoga teacher trainer since 2022. She is certified in Basic\, Intermediate\, and Advanced Integral Yoga\, Raja Yoga\, Adaptive\, Stress Management\, Yoga of Recovery\, Yin Yoga\, Yoga Nidra\, Basics of Ayurveda\, and Neuroscience & Yoga. As a teacher\, she’s known for her clear instruction and her classes include fun\, level-appropriate challenges. She also holds a bachelor’s degree in engineering and is a fine artist specializing in oil-on-canvas\, watercolor\, and botanical illustrations. You can see her artwork at natiando.art.
URL:https://integralyogasf.org/event/move-with-ease-hatha-yoga-for-hip-mobility-lower-body/
CATEGORIES:Events,Featured
ATTACH;FMTTYPE=image/jpeg:https://integralyogasf.org/wp-content/uploads/2026/01/Rukimini-Hips-workshop.jpg
END:VEVENT
END:VCALENDAR