BEGIN:VCALENDAR
VERSION:2.0
PRODID:-//Integral Yoga San Francisco - ECPv6.15.20//NONSGML v1.0//EN
CALSCALE:GREGORIAN
METHOD:PUBLISH
X-ORIGINAL-URL:https://integralyogasf.org
X-WR-CALDESC:Events for Integral Yoga San Francisco
REFRESH-INTERVAL;VALUE=DURATION:PT1H
X-Robots-Tag:noindex
X-PUBLISHED-TTL:PT1H
BEGIN:VTIMEZONE
TZID:America/Los_Angeles
BEGIN:DAYLIGHT
TZOFFSETFROM:-0800
TZOFFSETTO:-0700
TZNAME:PDT
DTSTART:20250309T100000
END:DAYLIGHT
BEGIN:STANDARD
TZOFFSETFROM:-0700
TZOFFSETTO:-0800
TZNAME:PST
DTSTART:20251102T090000
END:STANDARD
BEGIN:DAYLIGHT
TZOFFSETFROM:-0800
TZOFFSETTO:-0700
TZNAME:PDT
DTSTART:20260308T100000
END:DAYLIGHT
BEGIN:STANDARD
TZOFFSETFROM:-0700
TZOFFSETTO:-0800
TZNAME:PST
DTSTART:20261101T090000
END:STANDARD
BEGIN:DAYLIGHT
TZOFFSETFROM:-0800
TZOFFSETTO:-0700
TZNAME:PDT
DTSTART:20270314T100000
END:DAYLIGHT
BEGIN:STANDARD
TZOFFSETFROM:-0700
TZOFFSETTO:-0800
TZNAME:PST
DTSTART:20271107T090000
END:STANDARD
END:VTIMEZONE
BEGIN:VEVENT
DTSTART;TZID=America/Los_Angeles:20260307T173000
DTEND;TZID=America/Los_Angeles:20260307T183000
DTSTAMP:20260423T201748
CREATED:20260126T214756Z
LAST-MODIFIED:20260128T172526Z
UID:47002-1772904600-1772908200@integralyogasf.org
SUMMARY:Satsang: The Deepest Form of Healing
DESCRIPTION:Online and In-person\n$5-$20 | Enroll for free\, use promo code FREE \nBook now/OnlinePlease register in advance; a Zoom link will be emailed 1 hour before the session\, or join Zoom directly via your Momence dashboard. \nBook now/In-PersonWe appreciate advance registration. \nYoga teaches that much of our suffering arises from a disconnection from our true nature. While physical and emotional pain are real\, our relationship to them shifts when we begin to experience the spiritual presence at the core of our being.\nJoin Dahlia and Swami Ramananda for a reflective discussion on how reconnecting with this inner source supports genuine healing\, offering greater clarity\, steadiness\, and a more peaceful way of meeting the challenges of daily life.\nEveryone is welcome to stay for tea and light snacks afterwards.\nSatsang is a special time for us to come together as a community. In Sanskrit\, Sat means truth and Sangha means community. Satsang offers an opportunity to come together to share spiritual teachings. The philosophy of Integral Yoga is explored often through an informal discussion. Although our spiritual paths may diverge\, the act of sharing spiritual teachings with others is inspiring and creates a solid foundation for continued practice. \nPeople of all faiths are welcome.\n\nKristie Dahlia Home has been devoted to the sharing of spiritual arts since 1995. With training in Instinctive Meditation\, Yoga\, Thai Massage\, Reiki\, Intuitive Healing\, and Chi Nei Tsang. Dahlia has served as a Yoga Therapist at the UCSF School of Nursing\, Dr. Dean Ornish’s Preventive Medicine Research Institute\, and at UCSF’s Osher Center for Integrative Medicine\, where her work included both public classes and medical research. She has taught Reiki for CPMC’s Institute for Health and Healing and Thai Massage at Lighthouse for the Blind and Visually Impaired. Her students say that they appreciate her warmth\, precision\, contagious love of life\, and keen attention to the unique needs of each individual. She has recently returned to life on land after five years at sea and looks forward to sharing practice with the IYI sangha once again. For more information\, visit beloved.org \nSwami Ramananda\, C-IAYT\, E-RYT 500\, is the Executive Director of the Integral Yoga Institute in San Francisco\, C-IAYT\, and a greatly respected senior teacher in the Integral Yoga tradition who has been practicing Yoga for over 45 years. Ramananda offers practical methods of integrating the timeless teachings and practices of Yoga into daily life and transforming the painful aspects of human experience into steps toward realizing one’s full potential.\nHe leads beginner\, intermediate and advanced-level Yoga teacher training programs in San Francisco and offers a variety of programs in many locations in the U.S.\, Europe and South America. Ramananda co-developed the Stress Management Teacher Training program with Swami Vidyananda\, has trained many teachers to bring Yoga into corporate\, hospital and medical settings\, and has taught mind/body wellness programs in many locations. He is a certified Yoga therapist and founding board member of the Yoga Alliance\, a national registry that supports and promotes yoga teachers as professionals. He co-founded The Spiritual Action Initiative (SAI)\, which brings together individuals committed to working for social justice for all beings and for the care and healing of our natural world. His warmth\, wisdom and sense of humor have endeared him to many.
URL:https://integralyogasf.org/event/satsang-the-deepest-form-of-healing/
CATEGORIES:By Donation,Events,Featured
ATTACH;FMTTYPE=image/jpeg:https://integralyogasf.org/wp-content/uploads/2026/01/Satsan_Dahlia_ram.jpg
END:VEVENT
END:VCALENDAR