BEGIN:VCALENDAR
VERSION:2.0
PRODID:-//Integral Yoga San Francisco - ECPv6.15.20//NONSGML v1.0//EN
CALSCALE:GREGORIAN
METHOD:PUBLISH
X-ORIGINAL-URL:https://integralyogasf.org
X-WR-CALDESC:Events for Integral Yoga San Francisco
REFRESH-INTERVAL;VALUE=DURATION:PT1H
X-Robots-Tag:noindex
X-PUBLISHED-TTL:PT1H
BEGIN:VTIMEZONE
TZID:America/Los_Angeles
BEGIN:DAYLIGHT
TZOFFSETFROM:-0800
TZOFFSETTO:-0700
TZNAME:PDT
DTSTART:20240310T100000
END:DAYLIGHT
BEGIN:STANDARD
TZOFFSETFROM:-0700
TZOFFSETTO:-0800
TZNAME:PST
DTSTART:20241103T090000
END:STANDARD
BEGIN:DAYLIGHT
TZOFFSETFROM:-0800
TZOFFSETTO:-0700
TZNAME:PDT
DTSTART:20250309T100000
END:DAYLIGHT
BEGIN:STANDARD
TZOFFSETFROM:-0700
TZOFFSETTO:-0800
TZNAME:PST
DTSTART:20251102T090000
END:STANDARD
BEGIN:DAYLIGHT
TZOFFSETFROM:-0800
TZOFFSETTO:-0700
TZNAME:PDT
DTSTART:20260308T100000
END:DAYLIGHT
BEGIN:STANDARD
TZOFFSETFROM:-0700
TZOFFSETTO:-0800
TZNAME:PST
DTSTART:20261101T090000
END:STANDARD
END:VTIMEZONE
BEGIN:VEVENT
DTSTART;TZID=America/Los_Angeles:20250908T170000
DTEND;TZID=America/Los_Angeles:20250908T183000
DTSTAMP:20260424T105057
CREATED:20250827T195349Z
LAST-MODIFIED:20250903T172308Z
UID:46352-1757350800-1757356200@integralyogasf.org
SUMMARY:Monthly Hatha Clinic
DESCRIPTION:$20 \nBook now/In-PersonWe appreciate advance registration. \nThe Hatha Clinic offers a thoughtful approach to personal practice and alignment\, with a focus on anatomy to support safe and accessible movement. This mixed-level class includes time for questions\, exploration\, and learning personalized approaches to yoga postures\, transitions\, and flow. We’ll approach asana as a somatic practice—an opportunity to attune to the body’s sensations and signals\, and explore yoga as a whole-system experience.\n\nRaisa Divyajyothi Punkki\, RYT-500\, was introduced to Yoga while studying at the University of Arts\, Finland in 1988. Studying with various schools of yoga and after years of practicing and wandering on the quest of deeper knowledge\, she found her spiritual home at Integral Yoga Institute San Francisco in 2019. Raisa has been certified to teach Hatha Yoga from the Beginning to Advanced levels\, Raja Yoga and Stress Management. She is teaching in person and online Hatha classes at the IYI San Francisco. Raisa has over 30 years of experience in teaching movement. She holds an MA in Dance and is a Certified Pilates Teacher with two decades of teaching experience with various age groups and populations. Raisa is also a Somatic Experiencing® Practitioner\, SEP®. She guides the private movement and Somatic Experiencing® sessions in her studio located by the Union Square in downtown San Francisco. She wishes to share the beauty of Integral Hatha Yoga’s healing\, centering and strengthening power with others in their journey. This sharing of wisdom of Yoga happens with kindness\, compassion and passion.
URL:https://integralyogasf.org/event/monthly-hatha-clinic/
CATEGORIES:Events,Featured
ATTACH;FMTTYPE=image/jpeg:https://integralyogasf.org/wp-content/uploads/2025/08/Raisa_Hatha-Clinic_Monthly.jpg
END:VEVENT
END:VCALENDAR