BEGIN:VCALENDAR
VERSION:2.0
PRODID:-//Integral Yoga San Francisco - ECPv6.15.20//NONSGML v1.0//EN
CALSCALE:GREGORIAN
METHOD:PUBLISH
X-WR-CALNAME:Integral Yoga San Francisco
X-ORIGINAL-URL:https://integralyogasf.org
X-WR-CALDESC:Events for Integral Yoga San Francisco
REFRESH-INTERVAL;VALUE=DURATION:PT1H
X-Robots-Tag:noindex
X-PUBLISHED-TTL:PT1H
BEGIN:VTIMEZONE
TZID:America/Los_Angeles
BEGIN:DAYLIGHT
TZOFFSETFROM:-0800
TZOFFSETTO:-0700
TZNAME:PDT
DTSTART:20240310T100000
END:DAYLIGHT
BEGIN:STANDARD
TZOFFSETFROM:-0700
TZOFFSETTO:-0800
TZNAME:PST
DTSTART:20241103T090000
END:STANDARD
BEGIN:DAYLIGHT
TZOFFSETFROM:-0800
TZOFFSETTO:-0700
TZNAME:PDT
DTSTART:20250309T100000
END:DAYLIGHT
BEGIN:STANDARD
TZOFFSETFROM:-0700
TZOFFSETTO:-0800
TZNAME:PST
DTSTART:20251102T090000
END:STANDARD
BEGIN:DAYLIGHT
TZOFFSETFROM:-0800
TZOFFSETTO:-0700
TZNAME:PDT
DTSTART:20260308T100000
END:DAYLIGHT
BEGIN:STANDARD
TZOFFSETFROM:-0700
TZOFFSETTO:-0800
TZNAME:PST
DTSTART:20261101T090000
END:STANDARD
END:VTIMEZONE
BEGIN:VEVENT
DTSTART;TZID=America/Los_Angeles:20251006T170000
DTEND;TZID=America/Los_Angeles:20251006T183000
DTSTAMP:20260424T004547
CREATED:20250912T020548Z
LAST-MODIFIED:20251001T163026Z
UID:46496-1759770000-1759775400@integralyogasf.org
SUMMARY:Monthly Hatha Clinic
DESCRIPTION:This event has been cancelled\nIn-person | $20 | First Mondays of each month \nThe Hatha Clinic focuses on personal practice and alignment with regards to anatomy making the practice of yoga postures\, flow and transitions accessible and safe.\nThis class meets monthly on the last Saturday. It will include mixed level practice with time for questions and learning personalized ways to approach asana. Yoga Clinic approaches asana practice as a somatic practice\, where sensations and signals from the whole human system are explored.\n\nRaisa Divyajyothi Punkki\, RYT-500\, was introduced to Yoga while studying at the University of Arts\, Finland in 1988. Studying with various schools of yoga and after years of practicing and wandering on the quest of deeper knowledge\, she found her spiritual home at Integral Yoga Institute San Francisco in 2019. Raisa has been certified to teach Hatha Yoga from the Beginning to Advanced levels\, Raja Yoga and Stress Management. She is teaching in person and online Hatha classes at the IYI San Francisco. Raisa has over 30 years of experience in teaching movement. She holds an MA in Dance and is a Certified Pilates Teacher with two decades of teaching experience with various age groups and populations. Raisa is also a Somatic Experiencing® Practitioner\, SEP®. She guides the private movement and Somatic Experiencing® sessions in her studio located by the Union Square in downtown San Francisco. She wishes to share the beauty of Integral Hatha Yoga’s healing\, centering and strengthening power with others in their journey. This sharing of wisdom of Yoga happens with kindness\, compassion and passion
URL:https://integralyogasf.org/event/monthly-hatha-clinic-3/
CATEGORIES:Events
ATTACH;FMTTYPE=image/jpeg:https://integralyogasf.org/wp-content/uploads/2025/08/Raisa_Hatha-Clinic_Monthly.jpg
END:VEVENT
END:VCALENDAR