BEGIN:VCALENDAR
VERSION:2.0
PRODID:-//Integral Yoga San Francisco - ECPv6.15.20//NONSGML v1.0//EN
CALSCALE:GREGORIAN
METHOD:PUBLISH
X-WR-CALNAME:Integral Yoga San Francisco
X-ORIGINAL-URL:https://integralyogasf.org
X-WR-CALDESC:Events for Integral Yoga San Francisco
REFRESH-INTERVAL;VALUE=DURATION:PT1H
X-Robots-Tag:noindex
X-PUBLISHED-TTL:PT1H
BEGIN:VTIMEZONE
TZID:America/Los_Angeles
BEGIN:DAYLIGHT
TZOFFSETFROM:-0800
TZOFFSETTO:-0700
TZNAME:PDT
DTSTART:20240310T100000
END:DAYLIGHT
BEGIN:STANDARD
TZOFFSETFROM:-0700
TZOFFSETTO:-0800
TZNAME:PST
DTSTART:20241103T090000
END:STANDARD
BEGIN:DAYLIGHT
TZOFFSETFROM:-0800
TZOFFSETTO:-0700
TZNAME:PDT
DTSTART:20250309T100000
END:DAYLIGHT
BEGIN:STANDARD
TZOFFSETFROM:-0700
TZOFFSETTO:-0800
TZNAME:PST
DTSTART:20251102T090000
END:STANDARD
BEGIN:DAYLIGHT
TZOFFSETFROM:-0800
TZOFFSETTO:-0700
TZNAME:PDT
DTSTART:20260308T100000
END:DAYLIGHT
BEGIN:STANDARD
TZOFFSETFROM:-0700
TZOFFSETTO:-0800
TZNAME:PST
DTSTART:20261101T090000
END:STANDARD
END:VTIMEZONE
BEGIN:VEVENT
DTSTART;TZID=America/Los_Angeles:20250621T154500
DTEND;TZID=America/Los_Angeles:20250621T164500
DTSTAMP:20260425T062324
CREATED:20250407T230134Z
LAST-MODIFIED:20250521T172628Z
UID:45621-1750520700-1750524300@integralyogasf.org
SUMMARY:Freeing Your Yoga Practice
DESCRIPTION:Online & In-person | $10-30 sliding scale –Class passes & memberships are accepted. \nBook now/OnlinePlease register in advance; a Zoom link will be emailed 1 hour before the session\, or join Zoom directly via your Momence dashboard. \nBook now/In-PersonWe appreciate advance registration. \nJoin Raisa Punkki as she leads you through a mixed-level hatha yoga practice. ‘Stretch your body\, stretch your mind’ by incorporating different flow variations and breaking patterns of habitual practice. Explore the possibility of taking your hatha practice to the next level by finding the optimal level of strengthening\, stretching and awareness building. The class will include asana\, and some deep relaxation\, pranayama (breathing practices) and meditation.\nPrevious experience with yoga is welcome.\nAfternoon of Yoga at IYISF in celebration of International Day of Yoga & Summer Solstice.\nPacific times | online & in-person: \n2:00-3:30 pm – Enlighten Up: How to Enjoy the Spiritual Path with Swamis Asokananda & Ramananda\n3:45-4:45 pm – Freeing Your Yoga Practice – mixed level with Raisa Punkki\n3:45-4:45 pm – Gentle Yoga class with Kayko Watanabe\n5:00-6:00 pm – Light Immersion with Subtle Practices with Diana Meltsner \nAll levels of practice are welcome. All programs are available for individual sign up online or in-person at a sliding scale pricing.\nAll proceeds will help us sustain our mission:\n“The Integral Yoga Institute of San Francisco\, founded by Sri Swami Satchidananda\, is a non-profit\, interfaith organization dedicated to serving the community through living and sharing the classical teachings of Yoga\, making the teachings accessible\, and cultivating peace and harmony among all people.”\n\nRaisa Divyajyothi Punkki\, RYT-500\, was introduced to Yoga while studying at the University of Arts\, Finland in 1988. Studying with various schools of yoga and after years of practicing and wandering on the quest of deeper knowledge\, she found her spiritual home at Integral Yoga Institute San Francisco in 2019. Raisa has been certified to teach Hatha Yoga from the Beginning to Advanced levels\, Raja Yoga and Stress Management. She is teaching in person and online Hatha classes at the IYI San Francisco. Raisa has over 30 years of experience in teaching movement. She holds an MA in Dance and is a Certified Pilates Teacher with two decades of teaching experience with various age groups and populations. Raisa is also a Somatic Experiencing® Practitioner\, SEP®. She guides the private movement and Somatic Experiencing® sessions in her studio located by the Union Square in downtown San Francisco. She wishes to share the beauty of Integral Hatha Yoga’s healing\, centering and strengthening power with others in their journey. This sharing of wisdom of Yoga happens with kindness\, compassion and passion.
URL:https://integralyogasf.org/event/freeing-your-yoga-practice/
CATEGORIES:Events,Featured
END:VEVENT
END:VCALENDAR