BEGIN:VCALENDAR
VERSION:2.0
PRODID:-//Integral Yoga San Francisco - ECPv6.15.20//NONSGML v1.0//EN
CALSCALE:GREGORIAN
METHOD:PUBLISH
X-ORIGINAL-URL:https://integralyogasf.org
X-WR-CALDESC:Events for Integral Yoga San Francisco
REFRESH-INTERVAL;VALUE=DURATION:PT1H
X-Robots-Tag:noindex
X-PUBLISHED-TTL:PT1H
BEGIN:VTIMEZONE
TZID:America/Los_Angeles
BEGIN:DAYLIGHT
TZOFFSETFROM:-0800
TZOFFSETTO:-0700
TZNAME:PDT
DTSTART:20240310T100000
END:DAYLIGHT
BEGIN:STANDARD
TZOFFSETFROM:-0700
TZOFFSETTO:-0800
TZNAME:PST
DTSTART:20241103T090000
END:STANDARD
BEGIN:DAYLIGHT
TZOFFSETFROM:-0800
TZOFFSETTO:-0700
TZNAME:PDT
DTSTART:20250309T100000
END:DAYLIGHT
BEGIN:STANDARD
TZOFFSETFROM:-0700
TZOFFSETTO:-0800
TZNAME:PST
DTSTART:20251102T090000
END:STANDARD
BEGIN:DAYLIGHT
TZOFFSETFROM:-0800
TZOFFSETTO:-0700
TZNAME:PDT
DTSTART:20260308T100000
END:DAYLIGHT
BEGIN:STANDARD
TZOFFSETFROM:-0700
TZOFFSETTO:-0800
TZNAME:PST
DTSTART:20261101T090000
END:STANDARD
END:VTIMEZONE
BEGIN:VEVENT
DTSTART;TZID=America/Los_Angeles:20250413T111500
DTEND;TZID=America/Los_Angeles:20250413T131500
DTSTAMP:20260425T181327
CREATED:20250206T010306Z
LAST-MODIFIED:20250320T160948Z
UID:45076-1744542900-1744550100@integralyogasf.org
SUMMARY:Toward a Healthier Spine
DESCRIPTION:Online & in-person | $35 | $27 Early bird\, use promo code SPINE\, exp. 4/6 \nBook now/OnlinePlease register in advance; a Zoom link will be emailed 1 hour before the session\, or join Zoom directly via your Momence dashboard. \nBook now/In-PersonWe appreciate advance registration. \nIn ‘Toward a Healthier Spine’ workshop\, we will combine teachings from Integral Hatha Yoga\, Pilates\, strength training\, and Somatic Experiencing® mindfulness practices.\nWe will first do a brief exploration into anatomy of the spine and core\, followed by practicing movements that add strength and stability to these areas. We aim to find the support for various movements that we do in everyday life with our spine. After creating a support system for the spine we will proceed to explore Asanas\, physical Yoga postures\, including back bends\, forward bends and twists. There will be plenty of opportunities during the workshop for questions. This workshop provides simple tools to help attendees safely support the healthy function of the spine in their movement practices and daily life. \nNo previous experience in these practices needed. \n\nRaisa Divyajyothi Punkki\, RYT-500\, was introduced to Yoga while studying at the University of Arts\, Finland in 1988. Studying with various schools of yoga and after years of practicing and wandering on the quest of deeper knowledge\, she found her spiritual home at Integral Yoga Institute San Francisco in 2019. Raisa has been certified to teach Hatha Yoga from the Beginning to Advanced levels\, Raja Yoga and Stress Management. She is teaching in person and online Hatha classes at the IYI San Francisco. Raisa has over 30 years of experience in teaching movement. She holds an MA in Dance and is a Certified Pilates Teacher with two decades of teaching experience with various age groups and populations. Raisa is also a Somatic Experiencing® Practitioner\, SEP®. She guides the private movement and Somatic Experiencing® sessions in her studio located by the Union Square in downtown San Francisco. She wishes to share the beauty of Integral Hatha Yoga’s healing\, centering and strengthening power with others in their journey. This sharing of wisdom of Yoga happens with kindness\, compassion and passion.
URL:https://integralyogasf.org/event/towards-healthier-spine/
CATEGORIES:Events,Featured
ATTACH;FMTTYPE=image/jpeg:https://integralyogasf.org/wp-content/uploads/2025/02/Raisa_Spine-workshop-1.jpg
END:VEVENT
END:VCALENDAR