BEGIN:VCALENDAR
VERSION:2.0
PRODID:-//Integral Yoga San Francisco - ECPv6.15.20//NONSGML v1.0//EN
CALSCALE:GREGORIAN
METHOD:PUBLISH
X-ORIGINAL-URL:https://integralyogasf.org
X-WR-CALDESC:Events for Integral Yoga San Francisco
REFRESH-INTERVAL;VALUE=DURATION:PT1H
X-Robots-Tag:noindex
X-PUBLISHED-TTL:PT1H
BEGIN:VTIMEZONE
TZID:America/Los_Angeles
BEGIN:DAYLIGHT
TZOFFSETFROM:-0800
TZOFFSETTO:-0700
TZNAME:PDT
DTSTART:20240310T100000
END:DAYLIGHT
BEGIN:STANDARD
TZOFFSETFROM:-0700
TZOFFSETTO:-0800
TZNAME:PST
DTSTART:20241103T090000
END:STANDARD
BEGIN:DAYLIGHT
TZOFFSETFROM:-0800
TZOFFSETTO:-0700
TZNAME:PDT
DTSTART:20250309T100000
END:DAYLIGHT
BEGIN:STANDARD
TZOFFSETFROM:-0700
TZOFFSETTO:-0800
TZNAME:PST
DTSTART:20251102T090000
END:STANDARD
BEGIN:DAYLIGHT
TZOFFSETFROM:-0800
TZOFFSETTO:-0700
TZNAME:PDT
DTSTART:20260308T100000
END:DAYLIGHT
BEGIN:STANDARD
TZOFFSETFROM:-0700
TZOFFSETTO:-0800
TZNAME:PST
DTSTART:20261101T090000
END:STANDARD
END:VTIMEZONE
BEGIN:VEVENT
DTSTART;TZID=America/Los_Angeles:20251102T140000
DTEND;TZID=America/Los_Angeles:20251102T170000
DTSTAMP:20260425T062553
CREATED:20250912T045510Z
LAST-MODIFIED:20250929T203530Z
UID:46509-1762092000-1762102800@integralyogasf.org
SUMMARY:Keep Calm & Tantra OM workshop
DESCRIPTION:Online and In-person \n$49 | $40 Early bird use code TANTRA exp. 10/26 \nBook now/OnlinePlease register in advance; a Zoom link will be emailed 1 hour before the session\, or join Zoom directly via your Momence dashboard. \nBook now/In-PersonWe appreciate advance registration. \n8 Essential Tantra Practices to become fit for Life\n“Keeping Calm” – The real goal of yoga. A sense of peace is your true nature. This provides an ability to deal with life’s challenges\, remaining focused and in the moment\n“Tantra” – Processes for liberation from limiting self beliefs\n“Ommmm” – The original mantra\, expressing the fundamental vibration of the Universe\nCome just as you are\, no prior experience necessary\, and learn how to add Tantra\, Yoga and Meditation to your daily life.\nYou will learn how to practice:\n• “Loosening the Knots” to warm up the Body and release tension\n• An Energizing “Sun\, I Greet You” sequence\n• Shakti Bandha to strengthen the Nervous System\n• Bhramari (Humming Bee) breath to soothe the Mind\n• A Calming and Grounding “Moon\, I Honor You” series\n• Chakra Hand Mudras to balance Subtle Energy\n• Chakra and Mantra Meditation\, immersing into Consciousness\n• Yoga Nidra and Sankalpa for Inner Peace and Personal Growth\nThis workshop will be recorded and available to enrolled students for 2 weeks.\n\nHaving practiced for many years already\, Raama began his journey into the deeper aspects of Yoga\, Tantra and Meditation on Sadhana Retreat at The Scandinavian School of Yoga and Meditation in 2009. He was deeply affected by the authentic teachings of Swami Janakananda who in turn was directly mentored by Swami Satyananda of the Bihar school of Yoga in India\, over 50 years ago. It was truly a life changing experience and Raama has dedicated his life to practicing and teaching yoga ever since. An experienced class teacher\, workshop presenter and teacher trainer for both Integral Yoga and HealMe Yoga\, Raama is currently Vice President of the Integral Yoga Institute\, San Francisco. By sharing his personal experience of Tantra\, Raama now hopes to encourage others to truly incorporate these practices into their own daily life. His informed\, compassionate and light hearted approach will ease you through resistance to experience new insights and profound personal growth. Raama has been inspired by Renata’s inquisitive mind and dedication to her practice of Tantra and is delighted to offer this unique workshop as the first of a new collaborative partnership. \nRenata began practicing Hatha Yoga two decades ago\, initially drawn to it for its physical benefits\, but soon realizing how other aspects of the practice are also beneficial for mental and spiritual wellbeing. In 2014 she started to deepen her yoga journey\, studying under Vimala Ren Fields of the Healing Arts and Yoga Center in Fredericksburg and began teaching in 2015 at various locations in the area. Renata has a gentle approach to yoga and her teaching style expresses the calmer aspects of the practice\, emphasizing breath awareness and an overall sense of peace and balance. She believes that yoga is for everyone\, and through her kind and tranquil nature she seeks to inspire students to experience the true essence of yoga\, on and off the mat. Renata met Raama in 2018 on a Graduate level Teacher Training that he was leading for HealMe Yoga. Remaining in contact ever since\, Renata has gradually incorporated Tantra into her existing Yoga and Meditation practice with his guidance\, encouragement and support. Renata’s experience of developing from a “novice” in these techniques\, to having a regular daily practice under Raama’s patient mentoring\, has led them to now both being uniquely qualified and prepared to introduce Tantra to a wider audience as teaching partners. Contact us: raamaerenata@gmail.com
URL:https://integralyogasf.org/event/keep-calm-tantra-om/
CATEGORIES:Events,Featured
ATTACH;FMTTYPE=image/jpeg:https://integralyogasf.org/wp-content/uploads/2025/09/RaamaRenata-1.jpg
END:VEVENT
END:VCALENDAR