BEGIN:VCALENDAR
VERSION:2.0
PRODID:-//Integral Yoga San Francisco - ECPv6.15.20//NONSGML v1.0//EN
CALSCALE:GREGORIAN
METHOD:PUBLISH
X-WR-CALNAME:Integral Yoga San Francisco
X-ORIGINAL-URL:https://integralyogasf.org
X-WR-CALDESC:Events for Integral Yoga San Francisco
REFRESH-INTERVAL;VALUE=DURATION:PT1H
X-Robots-Tag:noindex
X-PUBLISHED-TTL:PT1H
BEGIN:VTIMEZONE
TZID:America/Los_Angeles
BEGIN:DAYLIGHT
TZOFFSETFROM:-0800
TZOFFSETTO:-0700
TZNAME:PDT
DTSTART:20250309T100000
END:DAYLIGHT
BEGIN:STANDARD
TZOFFSETFROM:-0700
TZOFFSETTO:-0800
TZNAME:PST
DTSTART:20251102T090000
END:STANDARD
BEGIN:DAYLIGHT
TZOFFSETFROM:-0800
TZOFFSETTO:-0700
TZNAME:PDT
DTSTART:20260308T100000
END:DAYLIGHT
BEGIN:STANDARD
TZOFFSETFROM:-0700
TZOFFSETTO:-0800
TZNAME:PST
DTSTART:20261101T090000
END:STANDARD
BEGIN:DAYLIGHT
TZOFFSETFROM:-0800
TZOFFSETTO:-0700
TZNAME:PDT
DTSTART:20270314T100000
END:DAYLIGHT
BEGIN:STANDARD
TZOFFSETFROM:-0700
TZOFFSETTO:-0800
TZNAME:PST
DTSTART:20271107T090000
END:STANDARD
END:VTIMEZONE
BEGIN:VEVENT
DTSTART;TZID=America/Los_Angeles:20260222T140000
DTEND;TZID=America/Los_Angeles:20260222T160000
DTSTAMP:20260424T074904
CREATED:20260101T010832Z
LAST-MODIFIED:20260219T174451Z
UID:46911-1771768800-1771776000@integralyogasf.org
SUMMARY:Keep Calm and Nidra OM
DESCRIPTION:Online and in-person \n$39 | $30 Early bird\, use promo code TANTRA\, exp. 2/15/26 \nBook now/OnlinePlease register in advance; a Zoom link will be emailed 1 hour before the session\, or join Zoom directly via your Momence dashboard. \nBook now/In-PersonWe appreciate advance registration. \nExploring Tantric Yoga Nidra for Awakening Consciousness and Personal Growth.\nCome “Fall Awake” with Raama & Renata in the latest of their series of Tantra workshops.\nThrough a comprehensive process of:\n• Gentle physical movement to stretch and strengthen the body and boost blood circulation\n• Pranayama to balance and purify vital energy channels\n• Mudras to seal and divert that energy inward\, calm the nervous system\, and prepare the mind for the systematic rotation of consciousness\nYou will be ready to experience the state of Nidra:\n• A practice that liberates energy and merges individual consciousness with the universal consciousness\n• Explore “Rotation of Consciousness” for receptivity\n• Experience “Opposite” sensations to alter your mental and physical states\n• Tune in to the “Chakra” body for enhanced energy and awareness\n• Enjoy a “Guided Visualization” that takes you on a journey of personal discovery\n• Witness “Archetypes” of being\n• Consider “Who am I?”\nDeep relaxation creates fertile soil for the seeds of spiritual growth and you will be guided to develop your own unique “Sankalpa”\, a type of affirmation that:\n• Sets positive and aspirational intention\n• Creates your destiny with motivation and purpose\n• Embraces tantric principles of focused willpower\n• And with regular practice is bound to manifest\n“At the point of sleep when sleep has not yet come and external wakefulness vanishes\, at this point being is revealed.” (Vigyana Bhairava Tantra)\nThis workshop will include presentations on the practices\, some physical movement and ultimately a profound Nidra experience. Detailed instruction\, notes and recordings will be provided to continue your practice in daily life.\nHere’s what students have to say about their experience with Raama and Renata:\n“I felt my energy shift in a positive way”\n“During the Yoga Nidra I was so out of the world at peace”\n“An incredible experience…I am still feeling energized from it”\n“Oh goodness\, that was such a beautiful and profound experience”\nThis workshop will be recorded and made available to enrolled students for two weeks afterward. The program is offered both online and in person\, though attending in person is recommended.\n\nRAAMA Having practiced for many years already\, Raama began his journey into the deeper aspects of Yoga\, Tantra and Meditation on Sadhana Retreat at The Scandinavian School of Yoga and Meditation in 2009. He was deeply affected by the authentic teachings of Swami Janakananda who in turn was directly mentored by Swami Satyananda of the Bihar school of Yoga in India\, over 50 years ago. It was truly a life changing experience and Raama has dedicated his life to practicing and teaching yoga ever since. An experienced class teacher\, workshop presenter and teacher trainer for both Integral Yoga and HealMe Yoga\, Raama is currently Vice President of the Integral Yoga Institute\, San Francisco. By sharing his personal experience of Tantra\, Raama now hopes to encourage others to truly incorporate these practices into their own daily life. His informed\, compassionate and light hearted approach will ease you through resistance to experience new insights and profound personal growth. Raama has been inspired by Renata’s inquisitive mind and dedication to her practice of Tantra and is delighted to offer this unique workshop as the first of a new collaborative partnership. \nRENATA Renata began practicing Hatha Yoga two decades ago\, initially drawn to it for its physical benefits\, but soon realizing how other aspects of the practice are also beneficial for mental and spiritual wellbeing. In 2014 she started to deepen her yoga journey\, studying under Vimala Ren Fields of the Healing Arts and Yoga Center in Fredericksburg and began teaching in 2015 at various locations in the area. Renata has a gentle approach to yoga and her teaching style expresses the calmer aspects of the practice\, emphasizing breath awareness and an overall sense of peace and balance. She believes that yoga is for everyone\, and through her kind and tranquil nature she seeks to inspire students to experience the true essence of yoga\, on and off the mat. Renata met Raama in 2018 on a Graduate level Teacher Training that he was leading for HealMe Yoga. Remaining in contact ever since\, Renata has gradually incorporated Tantra into her existing Yoga and Meditation practice with his guidance\, encouragement and support. Renata’s experience of developing from a “novice” in these techniques\, to having a regular daily practice under Raama’s patient mentoring\, has led them to now both being uniquely qualified and prepared to introduce Tantra to a wider audience as teaching partners. Contact us: raamaerenata@gmail.com \n 
URL:https://integralyogasf.org/event/keep-calm-and-nidra-om/
CATEGORIES:Events,Featured
ATTACH;FMTTYPE=image/jpeg:https://integralyogasf.org/wp-content/uploads/2025/12/Keep-Clam-Nidra-Om.jpg
END:VEVENT
END:VCALENDAR