BEGIN:VCALENDAR
VERSION:2.0
PRODID:-//Integral Yoga San Francisco - ECPv6.15.20//NONSGML v1.0//EN
CALSCALE:GREGORIAN
METHOD:PUBLISH
X-ORIGINAL-URL:https://integralyogasf.org
X-WR-CALDESC:Events for Integral Yoga San Francisco
REFRESH-INTERVAL;VALUE=DURATION:PT1H
X-Robots-Tag:noindex
X-PUBLISHED-TTL:PT1H
BEGIN:VTIMEZONE
TZID:America/Los_Angeles
BEGIN:DAYLIGHT
TZOFFSETFROM:-0800
TZOFFSETTO:-0700
TZNAME:PDT
DTSTART:20240310T100000
END:DAYLIGHT
BEGIN:STANDARD
TZOFFSETFROM:-0700
TZOFFSETTO:-0800
TZNAME:PST
DTSTART:20241103T090000
END:STANDARD
BEGIN:DAYLIGHT
TZOFFSETFROM:-0800
TZOFFSETTO:-0700
TZNAME:PDT
DTSTART:20250309T100000
END:DAYLIGHT
BEGIN:STANDARD
TZOFFSETFROM:-0700
TZOFFSETTO:-0800
TZNAME:PST
DTSTART:20251102T090000
END:STANDARD
BEGIN:DAYLIGHT
TZOFFSETFROM:-0800
TZOFFSETTO:-0700
TZNAME:PDT
DTSTART:20260308T100000
END:DAYLIGHT
BEGIN:STANDARD
TZOFFSETFROM:-0700
TZOFFSETTO:-0800
TZNAME:PST
DTSTART:20261101T090000
END:STANDARD
END:VTIMEZONE
BEGIN:VEVENT
DTSTART;TZID=America/Los_Angeles:20250920T090000
DTEND;TZID=America/Los_Angeles:20250920T163000
DTSTAMP:20260425T073905
CREATED:20250507T234728Z
LAST-MODIFIED:20250912T010347Z
UID:45863-1758358800-1758385800@integralyogasf.org
SUMMARY:Healing Your Life – An Ayurvedic and Yogic Journey\, 2-day course
DESCRIPTION:Online & In-person | Saturday & Sunday SEP 20 & 21\, both days run from 9:00 am – 12:00 pm and from 1:30 – 4:30pm. \n$195 Early bird\, use promo code LIFE\, exp. 9/6  |  $225 Regular \nBook now/OnlinePlease register in advance; a Zoom link will be emailed 1 hour before the session\, or join Zoom directly via your Momence dashboard. \nBook now/In-PersonWe appreciate advance registration. \nThis two-day program will immerse you in the knowledge of Ayurveda and Yoga as Dr. Halpern supports you on your healing journey. During this program\, you’ll explore how to activate your body’s innate ability to heal itself. It begins with an exploration of why we become sick on physical\, emotional\, and spiritual levels\, and how our challenges can serve us to grow and evolve toward higher awareness. The program continues with an exploration of Ayurvedic principles as they apply to your personal healing.\nYou’ll examine your constitution\, the nature of your imbalances\, and how to use diet\, lifestyle\, colors\, aromas\, sound\, and yoga to activate your full healing potential. There will be ample time for personal exploration\, dialogue\, and questions. This program is born from Dr. Halpern’s 40 years in the healing arts and his book Healing Your Life: Lessons on the Path of Ayurveda.\nRead Dr. Halperns Recent blog post Healing Your Life\nTo ensure a private space for all attendees\, this will not be recorded. \n\nDr. Marc Halpern is the founder of the California College of Ayurveda\, the oldest College for the study of Ayurvedic Medicine outside of India\, the Co-Founder of the National Ayurvedic Medical Association and California Association of Ayurvedic Medicine. An Ayurvedic Doctor\, Doctor of Chiropractic and a Sivananda Yoga Teacher\, he is a leader in the development of Ayurveda in the West. His efforts toward building the profession in the United States have earned him awards in both the United States and India. Dr. Halpern has been featured in film and television and his YouTube videos have more than 1 million views. Dr. Halpern has written five textbooks plus the popular book\, Healing Your Life; Lessons on the Path of Ayurveda. His newest textbook released in 2023 is Classical Yoga Therapy. Dr. Halpern is also the creator of the #1 best-selling meditation recording the United States: Yoga Nidra and Self-Healing. ayurvedacollege.com
URL:https://integralyogasf.org/event/healing-your-life-an-ayurvedic-and-yogic-journey/
CATEGORIES:Events,Featured
ATTACH;FMTTYPE=image/jpeg:https://integralyogasf.org/wp-content/uploads/2025/05/Ayurdveda-wkshop_Marc-Halpern.jpg
END:VEVENT
END:VCALENDAR