BEGIN:VCALENDAR
VERSION:2.0
PRODID:-//Integral Yoga San Francisco - ECPv6.15.20//NONSGML v1.0//EN
CALSCALE:GREGORIAN
METHOD:PUBLISH
X-ORIGINAL-URL:https://integralyogasf.org
X-WR-CALDESC:Events for Integral Yoga San Francisco
REFRESH-INTERVAL;VALUE=DURATION:PT1H
X-Robots-Tag:noindex
X-PUBLISHED-TTL:PT1H
BEGIN:VTIMEZONE
TZID:America/Los_Angeles
BEGIN:DAYLIGHT
TZOFFSETFROM:-0800
TZOFFSETTO:-0700
TZNAME:PDT
DTSTART:20240310T100000
END:DAYLIGHT
BEGIN:STANDARD
TZOFFSETFROM:-0700
TZOFFSETTO:-0800
TZNAME:PST
DTSTART:20241103T090000
END:STANDARD
BEGIN:DAYLIGHT
TZOFFSETFROM:-0800
TZOFFSETTO:-0700
TZNAME:PDT
DTSTART:20250309T100000
END:DAYLIGHT
BEGIN:STANDARD
TZOFFSETFROM:-0700
TZOFFSETTO:-0800
TZNAME:PST
DTSTART:20251102T090000
END:STANDARD
BEGIN:DAYLIGHT
TZOFFSETFROM:-0800
TZOFFSETTO:-0700
TZNAME:PDT
DTSTART:20260308T100000
END:DAYLIGHT
BEGIN:STANDARD
TZOFFSETFROM:-0700
TZOFFSETTO:-0800
TZNAME:PST
DTSTART:20261101T090000
END:STANDARD
END:VTIMEZONE
BEGIN:VEVENT
DTSTART;TZID=America/Los_Angeles:20251011T190000
DTEND;TZID=America/Los_Angeles:20251011T203000
DTSTAMP:20260424T192515
CREATED:20250904T054538Z
LAST-MODIFIED:20250926T213116Z
UID:46440-1760209200-1760214600@integralyogasf.org
SUMMARY:Music and Poetry of South Asian Mystics: an exploration of Sufi songs
DESCRIPTION:In-person | $25 Day of | $20 In advance\, use promo code SUFI \nBook now/In-PersonWe appreciate advance registration. \nJoin us for exploration of traditional devotional music from the motherland of Yoga.\nAnhad Naad Collective presents:\nMusic and Poetry of South Asian Mystics: an exploration of Sufi songs.\nWe are sharing our own experience with Sufism through singing\, music and poetry. Audience is encouraged to sing along with us\, we will provide lyrics with English translations.\nHistorically\, in South Asia\, Sufism played a huge role in inter-faith syncretism and Sufi shrines (dargahs) have been pivotal to communal harmony.\nSingers:\nDivya Vyas\, Faizan Ali\, Irum M\, Vivek Anand and Ashwini Sriram \nInstruments:\nAbhay Shankar Anand -Tabla\nCraig Reiter – bass\nJun Qb Moda Jazz -keyboard \, flute
URL:https://integralyogasf.org/event/music-and-poetry-of-south-asian-mystics-2/
CATEGORIES:Events,Featured
ATTACH;FMTTYPE=image/jpeg:https://integralyogasf.org/wp-content/uploads/2025/09/nhad-Naad-Collective-at-lotus.jpg
END:VEVENT
BEGIN:VEVENT
DTSTART;TZID=America/Los_Angeles:20251025T190000
DTEND;TZID=America/Los_Angeles:20251025T203000
DTSTAMP:20260424T192515
CREATED:20251009T225920Z
LAST-MODIFIED:20251017T191010Z
UID:46653-1761418800-1761424200@integralyogasf.org
SUMMARY:Kirtan with Amritamurti\, Chaitanya\, Sumeru\, Christopher & Tori
DESCRIPTION:IN-PERSON \n$15 In advance\, use promo code KIRTAN \n$20 Day of \nBook now/In-PersonWe appreciate advance registration. \nIn this Kirtan gathering\, we will sing and chant accompanied by the harmonium and khol drum\, immersing ourselves in a devotional practice that invokes the mantras of the deities. Through sound\, we invite their presence and qualities to awaken within our own hearts and minds. This is a practice of community\, where our voices weave together to adorn the presence of our collective sadhana—our shared spiritual journey.\nAmritamurti\, Chaitanya\, Sumeru\, Christopher\, and Tori — the Jivas — are a group of aspirants and bhaktas\, friends from diverse cultures and spiritual traditions\, united by a shared love of music. They come together in song to celebrate and explore the mystery and power of mantra.
URL:https://integralyogasf.org/event/kirtan-11/
CATEGORIES:Events,Featured
ATTACH;FMTTYPE=image/jpeg:https://integralyogasf.org/wp-content/uploads/2025/10/Kirtan-Chaitanya-Sumeru-Christopher-and-Tori.jpg
END:VEVENT
END:VCALENDAR