BEGIN:VCALENDAR
VERSION:2.0
PRODID:-//Integral Yoga San Francisco - ECPv6.15.20//NONSGML v1.0//EN
CALSCALE:GREGORIAN
METHOD:PUBLISH
X-ORIGINAL-URL:https://integralyogasf.org
X-WR-CALDESC:Events for Integral Yoga San Francisco
REFRESH-INTERVAL;VALUE=DURATION:PT1H
X-Robots-Tag:noindex
X-PUBLISHED-TTL:PT1H
BEGIN:VTIMEZONE
TZID:America/Los_Angeles
BEGIN:DAYLIGHT
TZOFFSETFROM:-0800
TZOFFSETTO:-0700
TZNAME:PDT
DTSTART:20250309T100000
END:DAYLIGHT
BEGIN:STANDARD
TZOFFSETFROM:-0700
TZOFFSETTO:-0800
TZNAME:PST
DTSTART:20251102T090000
END:STANDARD
BEGIN:DAYLIGHT
TZOFFSETFROM:-0800
TZOFFSETTO:-0700
TZNAME:PDT
DTSTART:20260308T100000
END:DAYLIGHT
BEGIN:STANDARD
TZOFFSETFROM:-0700
TZOFFSETTO:-0800
TZNAME:PST
DTSTART:20261101T090000
END:STANDARD
BEGIN:DAYLIGHT
TZOFFSETFROM:-0800
TZOFFSETTO:-0700
TZNAME:PDT
DTSTART:20270314T100000
END:DAYLIGHT
BEGIN:STANDARD
TZOFFSETFROM:-0700
TZOFFSETTO:-0800
TZNAME:PST
DTSTART:20271107T090000
END:STANDARD
END:VTIMEZONE
BEGIN:VEVENT
DTSTART;TZID=America/Los_Angeles:20260613T190000
DTEND;TZID=America/Los_Angeles:20260613T203000
DTSTAMP:20260423T173130
CREATED:20260113T061943Z
LAST-MODIFIED:20260422T213916Z
UID:46973-1781377200-1781382600@integralyogasf.org
SUMMARY:Kirtan with Joanna Manqueros\, John Kadyk and Ramana Erickson
DESCRIPTION:IN-PERSON with Joanna Manqueros\, John Kadyk & Ramana Erickson \n$25 Day of | $20 In advance\, use promo code NADA \nBook now/In-PersonWe appreciate advance registration. \nJoanna Manqueros on vocals and harmonium. Joanna facilitates kirtan as a medicinal experience\, invoking uplifting concepts\, reaching to a higher power and the beauty of being surrounded by voices. Joanna also hosts Music of the World on KPFA. John Kadyk brings bass clarinet; plays with a sublime addition to the trio. Ramana Erickson learned tabla playing in ashrams as a teen. He brings extensive experience\, and has played for Krishna Das\, and Nina Rao. Bring your voice and join in the fun.\n\nJoanna Manqueros plays harmonium and sings with the kirtan ensemble Rasa Lila. Joanna hosts Music of the World on KPFA. She has studied with Rita Sahai\, Jaipur Uttal and currently with Sukhawat Ali Khan. Joanna teaches Yoga for Trauma recovery and feels Kirtan is a powerful way to heal\, connecting the voice with others.
URL:https://integralyogasf.org/event/kirtan-with-joanna-manqueros-john-kadyk-and-ramana-erickso/
CATEGORIES:Events,Featured
ATTACH;FMTTYPE=image/jpeg:https://integralyogasf.org/wp-content/uploads/2026/01/Joanna-Manqueros_John-Kadyk_-Ramana-Erickson.jpg
END:VEVENT
END:VCALENDAR