BEGIN:VCALENDAR
VERSION:2.0
PRODID:-//Integral Yoga San Francisco - ECPv6.15.20//NONSGML v1.0//EN
CALSCALE:GREGORIAN
METHOD:PUBLISH
X-ORIGINAL-URL:https://integralyogasf.org
X-WR-CALDESC:Events for Integral Yoga San Francisco
REFRESH-INTERVAL;VALUE=DURATION:PT1H
X-Robots-Tag:noindex
X-PUBLISHED-TTL:PT1H
BEGIN:VTIMEZONE
TZID:America/Los_Angeles
BEGIN:DAYLIGHT
TZOFFSETFROM:-0800
TZOFFSETTO:-0700
TZNAME:PDT
DTSTART:20240310T100000
END:DAYLIGHT
BEGIN:STANDARD
TZOFFSETFROM:-0700
TZOFFSETTO:-0800
TZNAME:PST
DTSTART:20241103T090000
END:STANDARD
BEGIN:DAYLIGHT
TZOFFSETFROM:-0800
TZOFFSETTO:-0700
TZNAME:PDT
DTSTART:20250309T100000
END:DAYLIGHT
BEGIN:STANDARD
TZOFFSETFROM:-0700
TZOFFSETTO:-0800
TZNAME:PST
DTSTART:20251102T090000
END:STANDARD
BEGIN:DAYLIGHT
TZOFFSETFROM:-0800
TZOFFSETTO:-0700
TZNAME:PDT
DTSTART:20260308T100000
END:DAYLIGHT
BEGIN:STANDARD
TZOFFSETFROM:-0700
TZOFFSETTO:-0800
TZNAME:PST
DTSTART:20261101T090000
END:STANDARD
END:VTIMEZONE
BEGIN:VEVENT
DTSTART;TZID=America/Los_Angeles:20250802T173000
DTEND;TZID=America/Los_Angeles:20250802T183000
DTSTAMP:20260425T061846
CREATED:20250623T205726Z
LAST-MODIFIED:20250730T181209Z
UID:46079-1754155800-1754159400@integralyogasf.org
SUMMARY:Satsang: Poetry Reading
DESCRIPTION:Online\n$5-$20 | Enroll for free\, use promo code FREE \nBook now/OnlinePlease register in advance; a Zoom link will be emailed 1 hour before the session\, or join Zoom directly via your Momence dashboard. \nJoin us for an evening of shared poetry that reﬂects the voice of our souls. We will read and discuss that which awakens inspiration\, delight and peace in the heart. All are welcome to bring a poem or two to share or simply listen and enjoy.\nMystical Poetry and Sacred Songs are powerful expressions of the human experience\, a dynamic meeting of the mind with the Grace of the Divine that crosses the lines of time and specific religious views.\nEveryone is welcome to stay for tea and light snacks afterwards.\nSatsang is a special time for us to come together as a community. In Sanskrit\, Sat means truth and Sangha means community. Satsang offers an opportunity to come together to share spiritual teachings. The philosophy of Integral Yoga is explored often through an informal discussion. Although our spiritual paths may diverge\, the act of sharing spiritual teachings with others is inspiring and creates a solid foundation for continued practice. \nPeople of all faiths are welcome.\n\nSusan Ford\, C-IAYT\, RYT-500\, began teaching in 2011 and has been an assistant trainer for the Basic Yoga Teacher Training at Integral Yoga Institute (IYI) since 2012. She specializes in gentle yoga and yoga therapy working with people with disabilities\, cancer\, heart disease\, arthritis\, aging\, bone health\, anxiety\, depression and asthma. Her focus is to help students to meet their bodies where they are by introducing and incorporating Therapeutic Yoga\, Raja Yoga\, Hatha Yoga\, pranayama and meditation. Susan has been a writer of poetry\, short stories and plays most of her adult life and has been repeatedly featured in storytelling events in Northern California. She has led writer groups\, tutored many in writing\, and regularly hosts poetry reading Satsangs at the IYI. \nDiana Meltsner\, C-IAYT\, ERYT-500\, YACEP\, has been teaching a variety of classes and workshops since 2001 and since 2017 offers yoga therapy sessions privately and at Integral Yoga Therapy Clinic in San Francisco. She has over 15 years of experience in leading and co-teaching Yoga and Meditation teacher trainings. She has been working in the clinical setting for Kaiser Permanente since 2005 as a yoga teacher\, yoga therapist\, and health educator. Diana’s focus is on the healing aspects of Yoga on the mind as well as the body by applying the physical postures\, practices of breath-control\, mindfulness and meditation. Diana helps her clients to find the ability to move through life with increased ease\, stress resilience\, and intuition. Diana Meltsner works as a programs manager at Integral Yoga Institute\, an urban ashram in San Francisco. dianameltsner.com
URL:https://integralyogasf.org/event/satsang-poetry-reading-2/
CATEGORIES:By Donation,Events,Featured
ATTACH;FMTTYPE=image/jpeg:https://integralyogasf.org/wp-content/uploads/2023/01/Satsang_Mystical-Poetry_2023.jpg
END:VEVENT
END:VCALENDAR