BEGIN:VCALENDAR
VERSION:2.0
PRODID:-//Integral Yoga San Francisco - ECPv6.15.20//NONSGML v1.0//EN
CALSCALE:GREGORIAN
METHOD:PUBLISH
X-ORIGINAL-URL:https://integralyogasf.org
X-WR-CALDESC:Events for Integral Yoga San Francisco
REFRESH-INTERVAL;VALUE=DURATION:PT1H
X-Robots-Tag:noindex
X-PUBLISHED-TTL:PT1H
BEGIN:VTIMEZONE
TZID:America/Los_Angeles
BEGIN:DAYLIGHT
TZOFFSETFROM:-0800
TZOFFSETTO:-0700
TZNAME:PDT
DTSTART:20240310T100000
END:DAYLIGHT
BEGIN:STANDARD
TZOFFSETFROM:-0700
TZOFFSETTO:-0800
TZNAME:PST
DTSTART:20241103T090000
END:STANDARD
BEGIN:DAYLIGHT
TZOFFSETFROM:-0800
TZOFFSETTO:-0700
TZNAME:PDT
DTSTART:20250309T100000
END:DAYLIGHT
BEGIN:STANDARD
TZOFFSETFROM:-0700
TZOFFSETTO:-0800
TZNAME:PST
DTSTART:20251102T090000
END:STANDARD
BEGIN:DAYLIGHT
TZOFFSETFROM:-0800
TZOFFSETTO:-0700
TZNAME:PDT
DTSTART:20260308T100000
END:DAYLIGHT
BEGIN:STANDARD
TZOFFSETFROM:-0700
TZOFFSETTO:-0800
TZNAME:PST
DTSTART:20261101T090000
END:STANDARD
END:VTIMEZONE
BEGIN:VEVENT
DTSTART;TZID=America/Los_Angeles:20250607T173000
DTEND;TZID=America/Los_Angeles:20250607T183000
DTSTAMP:20260425T160112
CREATED:20250423T190544Z
LAST-MODIFIED:20250519T165251Z
UID:45721-1749317400-1749321000@integralyogasf.org
SUMMARY:Satsang: Joy as Resilience\, Joy as Resistance
DESCRIPTION:Online | $5-$20 | Enroll for free\, use promo code FREE. \nBook now/OnlinePlease register in advance; a Zoom link will be emailed 1 hour before the session\, or join Zoom directly via your Momence dashboard. \nIn a world that often equates joy with ease and achievement\, how do we reclaim it as a source of inner strength and collective healing? In this heart-centered talk\, Kamala Itzel Hayward invites us to explore joy not as a performance or escape\, but as a courageous act of presence—rooted in authenticity\, emotional honesty\, and deep connection. Drawing from yogic wisdom\, social insight\, and lived experience\, we’ll reflect on how joy can nourish resilience\, disrupt isolation\, and serve as a powerful force for liberation.\nSatsang is a special time for us to come together as a community. In Sanskrit\, Sat means truth and Sangha means community. Satsang offers an opportunity to come together to share spiritual teachings. The philosophy of Integral Yoga is explored often through an informal discussion. Although our spiritual paths may diverge\, the act of sharing spiritual teachings with others is inspiring and creates a solid foundation for continued practice.\nPeople of all faiths are welcome.\nCheck Kamala’s recent blog article: Reclaiming Joy in a Hurting World\n\nKamala Itzel Hayward was a lawyer for over a decade before becoming a Yoga teacher and Yoga therapist specializing in trauma\, addiction\, and wellness. She is passionate about bringing Yoga and other healing modalities to adults facing chronic stress caused by living under oppression\, such as racism\, sexism\, homophobia\, transphobia\, classism\, ableism\, and more. She is founder of the Integral Yoga Institute’s Scholarship-Based Yoga Teacher Training for Black\, Indigenous\, People of Color. Since founding Attuned Living in 2010\, she has been sharing Yoga with individuals facing housing insecurity and related challenges\, including systemic barriers; structural oppression; social dislocation; physical\, emotional\, and mental health challenges; substance abuse; and addiction. She sits on the Advisory Board for the Trauma Prevention and Recovery Certificate Program at the City College of San Francisco.
URL:https://integralyogasf.org/event/satsang-joy/
CATEGORIES:Events,Featured
ATTACH;FMTTYPE=image/jpeg:https://integralyogasf.org/wp-content/uploads/2025/04/Kamala-Satsang.jpg
END:VEVENT
END:VCALENDAR