BEGIN:VCALENDAR
VERSION:2.0
PRODID:-//Integral Yoga San Francisco - ECPv6.15.20//NONSGML v1.0//EN
CALSCALE:GREGORIAN
METHOD:PUBLISH
X-WR-CALNAME:Integral Yoga San Francisco
X-ORIGINAL-URL:https://integralyogasf.org
X-WR-CALDESC:Events for Integral Yoga San Francisco
REFRESH-INTERVAL;VALUE=DURATION:PT1H
X-Robots-Tag:noindex
X-PUBLISHED-TTL:PT1H
BEGIN:VTIMEZONE
TZID:America/Los_Angeles
BEGIN:DAYLIGHT
TZOFFSETFROM:-0800
TZOFFSETTO:-0700
TZNAME:PDT
DTSTART:20240310T100000
END:DAYLIGHT
BEGIN:STANDARD
TZOFFSETFROM:-0700
TZOFFSETTO:-0800
TZNAME:PST
DTSTART:20241103T090000
END:STANDARD
BEGIN:DAYLIGHT
TZOFFSETFROM:-0800
TZOFFSETTO:-0700
TZNAME:PDT
DTSTART:20250309T100000
END:DAYLIGHT
BEGIN:STANDARD
TZOFFSETFROM:-0700
TZOFFSETTO:-0800
TZNAME:PST
DTSTART:20251102T090000
END:STANDARD
BEGIN:DAYLIGHT
TZOFFSETFROM:-0800
TZOFFSETTO:-0700
TZNAME:PDT
DTSTART:20260308T100000
END:DAYLIGHT
BEGIN:STANDARD
TZOFFSETFROM:-0700
TZOFFSETTO:-0800
TZNAME:PST
DTSTART:20261101T090000
END:STANDARD
END:VTIMEZONE
BEGIN:VEVENT
DTSTART;TZID=America/Los_Angeles:20251001T120000
DTEND;TZID=America/Los_Angeles:20251001T130000
DTSTAMP:20260424T085055
CREATED:20250827T221451Z
LAST-MODIFIED:20250912T004021Z
UID:46368-1759320000-1759323600@integralyogasf.org
SUMMARY:Vijayadaśamī: Celebration Honoring the Divine Mother
DESCRIPTION:$5-$20 | Enroll for free\, use promo code FREE.\nOnline and In-person \nBook now/OnlinePlease register in advance; a Zoom link will be emailed 1 hour before the session\, or join Zoom directly via your Momence dashboard. \nBook now/In-PersonWe appreciate advance registration.\ \nPlease join us for the final celebration of Vijayadaśamī.\nAfter nine days of Navaratri celebrating the three goddesses Durga\, Lakshmi\, and Saraswati\, we come together to honor the Divine Mother and her victory over evil. This is a time to reflect on our own spiritual journeys\, acknowledging both the challenges we’ve faced and the victories we’ve achieved.\nThis auspicious occasion includes the blessing of the tools we use throughout the year\, as well as our living spaces. Following our group discussion\, we’ll celebrate with chanting\, a traditional Indian worship service (puja)\, and a home blessing.\nTo participate in the home blessing online\, you may prepare one or more of the following items: a candle\, incense or sage\, a small bowl of clean water\, flowers\, or a bell. Please ensure your home is clean and ready to receive a blessing\, along with any objects you wish to bless.\nJoin us for this experiential workshop to honor and bless our personal spaces. No experience necessary.\n\nNavaratri – Durga Puja\, Monday\, SEP 22\, 12:00 – 12:45 pm\nNavaratri – Lakshmi Puja\, Thursday\, SEP 25\, 12:00 – 12:45 pm\nNavaratri – Saraswati Puja\, Monday\, SEP 29\, 12:00 – 12:45 pm\nVijayadaśamī\, Wednesday\, OCT 1\, 12:00 – 1:00pm\n\nThis donation-based program will not be recorded. \n\nSwami Ramananda\, C-IAYT\, E-RYT 500\, is the Executive Director of the Integral Yoga Institute in San Francisco\, C-IAYT\, and a greatly respected senior teacher in the Integral Yoga tradition who has been practicing Yoga for over 45 years. Ramananda offers practical methods of integrating the timeless teachings and practices of Yoga into daily life and transforming the painful aspects of human experience into steps toward realizing one’s full potential.\nHe leads beginner\, intermediate and advanced-level Yoga teacher training programs in San Francisco and offers a variety of programs in many locations in the U.S.\, Europe and South America. Ramananda co-developed the Stress Management Teacher Training program with Swami Vidyananda\, has trained many teachers to bring Yoga into corporate\, hospital and medical settings\, and has taught mind/body wellness programs in many locations. He is a certified Yoga therapist and founding board member of the Yoga Alliance\, a national registry that supports and promotes yoga teachers as professionals. He co-founded The Spiritual Action Initiative (SAI)\, which brings together individuals committed to working for social justice for all beings and for the care and healing of our natural world. His warmth\, wisdom and sense of humor have endeared him to many.
URL:https://integralyogasf.org/event/vijayadasami-celebration-2/
ATTACH;FMTTYPE=image/jpeg:https://integralyogasf.org/wp-content/uploads/2022/07/Navaratri_Vijay-Dasami_01-e1693358670398.jpg
END:VEVENT
END:VCALENDAR