BEGIN:VCALENDAR
VERSION:2.0
PRODID:-//Integral Yoga San Francisco - ECPv6.15.20//NONSGML v1.0//EN
CALSCALE:GREGORIAN
METHOD:PUBLISH
X-ORIGINAL-URL:https://integralyogasf.org
X-WR-CALDESC:Events for Integral Yoga San Francisco
REFRESH-INTERVAL;VALUE=DURATION:PT1H
X-Robots-Tag:noindex
X-PUBLISHED-TTL:PT1H
BEGIN:VTIMEZONE
TZID:America/Los_Angeles
BEGIN:DAYLIGHT
TZOFFSETFROM:-0800
TZOFFSETTO:-0700
TZNAME:PDT
DTSTART:20240310T100000
END:DAYLIGHT
BEGIN:STANDARD
TZOFFSETFROM:-0700
TZOFFSETTO:-0800
TZNAME:PST
DTSTART:20241103T090000
END:STANDARD
BEGIN:DAYLIGHT
TZOFFSETFROM:-0800
TZOFFSETTO:-0700
TZNAME:PDT
DTSTART:20250309T100000
END:DAYLIGHT
BEGIN:STANDARD
TZOFFSETFROM:-0700
TZOFFSETTO:-0800
TZNAME:PST
DTSTART:20251102T090000
END:STANDARD
BEGIN:DAYLIGHT
TZOFFSETFROM:-0800
TZOFFSETTO:-0700
TZNAME:PDT
DTSTART:20260308T100000
END:DAYLIGHT
BEGIN:STANDARD
TZOFFSETFROM:-0700
TZOFFSETTO:-0800
TZNAME:PST
DTSTART:20261101T090000
END:STANDARD
END:VTIMEZONE
BEGIN:VEVENT
DTSTART;TZID=America/Los_Angeles:20250821T080000
DTEND;TZID=America/Los_Angeles:20250825T170000
DTSTAMP:20260425T083235
CREATED:20250305T185614Z
LAST-MODIFIED:20250825T175642Z
UID:45266-1755763200-1756141200@integralyogasf.org
SUMMARY:Integral Yoga Reunion: Celebrating our Unity
DESCRIPTION:In-Person at Yogaville\, VA. \nSign up Via Yogaville.org \nExploring Our Interconnected Journey\nJoin us at Satchidananda Ashram\, Yogaville\, for a joyful gathering of hearts and minds as we come together to celebrate our shared journey in Integral Yoga.\nThis reunion is an opportunity to reconnect with old friends\, forge new bonds\, and deepen our understanding of the unity that weaves us all together. Through shared practices\, discussions\, and joyful interactions\, we will explore the threads that connect us in love and acceptance.\nLet’s gather in the spirit of togetherness to celebrate our collective journey and the divine essence that unites us all.\nThis Program Offers:\n\nDaily group sadhana schedule\nWorkshops on yogic lifestyle and philosophy led by senior Integral Yoga practitioners\nIntergenerational Dialogue: Bridging experiences across different yoga generations\nEvening Community Gatherings including kirtan and inspirational talks\nCollective Meditation: Group meditation at the LOTUS shrine\nGuided hikes across the beautiful ashram landscape\nDelicious\, vegetarian meals for a enhanced immune system\n\nWhat to Expect:\nAt our Integral Yoga Reunion\, you can anticipate a journey of spiritual connection and personal transformation. Our gathering will offer a nurturing\, inclusive environment where practitioners of all levels can explore deep meditation\, yoga practices\, and meaningful community interactions. Expect to engage in heartfelt sharing circles\, transformative workshops\, and collective sadhana that celebrate our interconnectedness. You’ll experience a blend of introspective practices and joyful community celebrations\, designed to honor individual paths while recognizing our shared spiritual path of Integral Yoga. Whether you’re seeking personal growth\, healing\, or simply a space of unconditional acceptance\, this reunion promises to be a transformative experience that weaves together individual threads into a beautiful\, collective tapestry of consciousness\, love\, and understanding.\nAll Are Welcome:\nThis Integral Yoga Reunion is a heartfelt gathering that embraces practitioners of all levels and backgrounds\, celebrating the diversity of our spiritual community. Whether you are a seasoned Integral Yoga practitioner or a curious newcomer\, everyone is welcome to join our event. We believe that every individual\, regardless of their yoga experience\, has a unique thread to weave into our collective tapestry. Your journey\, your experience\, and your presence are valued. Come as you are\, with an open heart and a willingness to explore\, grow\, and connect with fellow Integral Yogis from diverse paths and backgrounds.\nView Tentative Schedule\nSign Up via Yogaville website\nFinancial Aid and Equity Discounts are available
URL:https://integralyogasf.org/event/integral-yoga-reunion-celebrating-unity/
CATEGORIES:Events,Retreats
ATTACH;FMTTYPE=image/jpeg:https://integralyogasf.org/wp-content/uploads/2025/03/Lotus-Aerial-View.jpg
END:VEVENT
END:VCALENDAR