BEGIN:VCALENDAR
VERSION:2.0
PRODID:-//Integral Yoga San Francisco - ECPv6.15.20//NONSGML v1.0//EN
CALSCALE:GREGORIAN
METHOD:PUBLISH
X-WR-CALNAME:Integral Yoga San Francisco
X-ORIGINAL-URL:https://integralyogasf.org
X-WR-CALDESC:Events for Integral Yoga San Francisco
REFRESH-INTERVAL;VALUE=DURATION:PT1H
X-Robots-Tag:noindex
X-PUBLISHED-TTL:PT1H
BEGIN:VTIMEZONE
TZID:America/Los_Angeles
BEGIN:DAYLIGHT
TZOFFSETFROM:-0800
TZOFFSETTO:-0700
TZNAME:PDT
DTSTART:20240310T100000
END:DAYLIGHT
BEGIN:STANDARD
TZOFFSETFROM:-0700
TZOFFSETTO:-0800
TZNAME:PST
DTSTART:20241103T090000
END:STANDARD
BEGIN:DAYLIGHT
TZOFFSETFROM:-0800
TZOFFSETTO:-0700
TZNAME:PDT
DTSTART:20250309T100000
END:DAYLIGHT
BEGIN:STANDARD
TZOFFSETFROM:-0700
TZOFFSETTO:-0800
TZNAME:PST
DTSTART:20251102T090000
END:STANDARD
BEGIN:DAYLIGHT
TZOFFSETFROM:-0800
TZOFFSETTO:-0700
TZNAME:PDT
DTSTART:20260308T100000
END:DAYLIGHT
BEGIN:STANDARD
TZOFFSETFROM:-0700
TZOFFSETTO:-0800
TZNAME:PST
DTSTART:20261101T090000
END:STANDARD
END:VTIMEZONE
BEGIN:VEVENT
DTSTART;TZID=America/Los_Angeles:20250904T173000
DTEND;TZID=America/Los_Angeles:20250904T190000
DTSTAMP:20260425T075417
CREATED:20250710T150958Z
LAST-MODIFIED:20250827T214321Z
UID:46176-1757007000-1757012400@integralyogasf.org
SUMMARY:Open House: Intermediate Hatha 2 class and discussion
DESCRIPTION:Online & In-person | Free \nBook now/OnlinePlease register in advance; a Zoom link will be emailed 1 hour before the session\, or join Zoom directly via your Momence dashboard. \nBook now/In-PersonWe appreciate advance registration. \nJoin us for 1 hour classical Hatha 2 – intermediate level – Integral Yoga class with 30 minutes Q&A afterwards. This class will contain a sample of practices studied in the Intermediate YogaTeacher Training (ITT).\nWe invite you to attend to learn more about our ONLINE ITT program. You’ll have the opportunity to meet the trainers\, explore the curriculum\, and ask any questions you may have.\nThe ITT is a highly interactive training in which we will explore and experience the profound benefits of advanced Yoga practices. Please note that this program does not include instruction in basic teaching methodology.\nOur 2025 Intermediate Teacher Training team includes lead trainers Swami Ramananda\, Snehan Born\, and Letícia Padmasri\, with guest trainer Swami Asokananda and senior staff member Raisa Punkki.\nWe welcome all 200-hour Yoga Alliance-certified teachers from other schools. Completion of this program qualifies you to teach at any Integral Yoga center worldwide.\nFor over forty years\, we have led teacher trainings here in San Francisco. Our experienced faculty use time-tested methods to ensure a high-quality and supportive learning environment. This program is designed to prepare you to teach both in person and online\, with dedicated staff providing personalized online coaching throughout the training.\n👉 Visit our website for more information:\nhttps://online.integralyogasf.org/courses/intermediate-yoga-teacher-training-2025-online\n\n \nSwami Ramananda\, C-IAYT\, E-RYT 500\, is the Executive Director of the Integral Yoga Institute in San Francisco\, C-IAYT\, and a greatly respected senior teacher in the Integral Yoga tradition who has been practicing Yoga for over 45 years. Ramananda offers practical methods of integrating the timeless teachings and practices of Yoga into daily life and transforming the painful aspects of human experience into steps toward realizing one’s full potential.\nHe leads beginner\, intermediate and advanced-level Yoga teacher training programs in San Francisco and offers a variety of programs in many locations in the U.S.\, Europe and South America. Ramananda co-developed the Stress Management Teacher Training program with Swami Vidyananda\, has trained many teachers to bring Yoga into corporate\, hospital and medical settings\, and has taught mind/body wellness programs in many locations. He is a certified Yoga therapist and founding board member of the Yoga Alliance\, a national registry that supports and promotes yoga teachers as professionals. He co-founded The Spiritual Action Initiative (SAI)\, which brings together individuals committed to working for social justice for all beings and for the care and healing of our natural world. His warmth\, wisdom and sense of humor have endeared him to many.
URL:https://integralyogasf.org/event/open-house-hatha-2-class-itt/
CATEGORIES:By Donation,Events,Featured
ATTACH;FMTTYPE=image/jpeg:https://integralyogasf.org/wp-content/uploads/2025/07/ITT-Hatha-2-with-Ramananda.jpg
END:VEVENT
END:VCALENDAR