BEGIN:VCALENDAR
VERSION:2.0
PRODID:-//Integral Yoga San Francisco - ECPv6.15.20//NONSGML v1.0//EN
CALSCALE:GREGORIAN
METHOD:PUBLISH
X-WR-CALNAME:Integral Yoga San Francisco
X-ORIGINAL-URL:https://integralyogasf.org
X-WR-CALDESC:Events for Integral Yoga San Francisco
REFRESH-INTERVAL;VALUE=DURATION:PT1H
X-Robots-Tag:noindex
X-PUBLISHED-TTL:PT1H
BEGIN:VTIMEZONE
TZID:America/Los_Angeles
BEGIN:DAYLIGHT
TZOFFSETFROM:-0800
TZOFFSETTO:-0700
TZNAME:PDT
DTSTART:20240310T100000
END:DAYLIGHT
BEGIN:STANDARD
TZOFFSETFROM:-0700
TZOFFSETTO:-0800
TZNAME:PST
DTSTART:20241103T090000
END:STANDARD
BEGIN:DAYLIGHT
TZOFFSETFROM:-0800
TZOFFSETTO:-0700
TZNAME:PDT
DTSTART:20250309T100000
END:DAYLIGHT
BEGIN:STANDARD
TZOFFSETFROM:-0700
TZOFFSETTO:-0800
TZNAME:PST
DTSTART:20251102T090000
END:STANDARD
BEGIN:DAYLIGHT
TZOFFSETFROM:-0800
TZOFFSETTO:-0700
TZNAME:PDT
DTSTART:20260308T100000
END:DAYLIGHT
BEGIN:STANDARD
TZOFFSETFROM:-0700
TZOFFSETTO:-0800
TZNAME:PST
DTSTART:20261101T090000
END:STANDARD
END:VTIMEZONE
BEGIN:VEVENT
DTSTART;TZID=America/Los_Angeles:20250809T190000
DTEND;TZID=America/Los_Angeles:20250809T203000
DTSTAMP:20260424T085609
CREATED:20250209T222210Z
LAST-MODIFIED:20250507T233404Z
UID:45146-1754766000-1754771400@integralyogasf.org
SUMMARY:Kirtan with Mirabai
DESCRIPTION:In-person | $20 In advance\, use promo code MIRABAI | $25 Day of \nBook now/In-PersonWe appreciate advance registration. \nKirtan\, a call-and-response style chanting\, is part of the path of Bhakti Yoga — the path of opening the heart through devotion and surrender. It is the music of the heart\, and is sung freely from the heart. Using these practices\, breathing and chanting helps to reduce stress and anxiety. Kirtan is a spiritual gathering treasure that nourishes our soul\, heart and spirit.\nNo experience is necessary to participate\, pre-registration is recommended.\n\nMirabai Warkulwiz planted her yoga and meditation roots in San Francisco at the Sivananda Center in 1998. Amazed at her healing of a back injury and many other positive life changes\, she became yoga certified through 200-hour teacher training programs both at the Integral Yoga Institute in 2004\, and at the Greenpath Ashtanga Studio in 2005. In July 2008 she completed another 170 hour Intermediate Teacher Training program in Asana and Pranayama through the Integral Yoga Institute in Virginia. She is attuned to Reiki Level 1\, studies Aryuveda\, is a dancer\, and enjoys being in communion with nature. She invites all of her yoga students to transcend physical\, emotional\, and mental blocks to experience more spaciousness\, comfort\, happiness\, clarity\, and inner peace. As a Kirtan musician (Mirabai and Friends Kirtan Band) Mirabai leads Kirtan around the Bay Area\, and enjoys implementing chanting\, sound\, and music into class.
URL:https://integralyogasf.org/event/kirtan-with-mirabai-7/
CATEGORIES:Events,Featured
ATTACH;FMTTYPE=image/jpeg:https://integralyogasf.org/wp-content/uploads/2023/05/Mirabai_Kirtan_2023.jpg
END:VEVENT
BEGIN:VEVENT
DTSTART;TZID=America/Los_Angeles:20250823T190000
DTEND;TZID=America/Los_Angeles:20250823T203000
DTSTAMP:20260424T085609
CREATED:20250623T212127Z
LAST-MODIFIED:20250623T212127Z
UID:46090-1755975600-1755981000@integralyogasf.org
SUMMARY:Kirtan with Astrud and Friends
DESCRIPTION:In-person\n$25 Day of | $20 In advance\, use promo code MANTRA \nBook now/In-PersonWe appreciate advance registration. \nJoin Astrud and her dear friends for an evening of Kirtan or mantra meditation.\nWe use mantra\, sound and vibration to polish the mirror of the heart and dismantle the illusion of separation. Man means mind and tra means instrument. Mantras are instruments or tools used to redirect our mind to the Source\, Peace and ultimately to the heart.\nThe collective consciousness is healing and fun. We use this time to celebrate being alive\, send prayers to those in need and be in community.\nWe sing in the key of “WE”\, join us!\nNo experience is necessary.\n\nAstrud is a celebrated kirtan wallah and yoga teacher currently living in Los Angeles. She has been sharing the art and practice of kirtan for over two decades and has toured throughout the U.S. and Europe sharing her passion for Mantra Meditation and Bhakti Yoga. Astrud teaches teachers in training the essence of Bhakti and basic harmonium skills. She has been teaching asana infused with Bhakti since 2000. “Astrud’s kirtans immerse the mind in a sea of sacred sound and melt open the heart” -Swami Ramananda. You can find her album Hari Om and other singles on Spotify\, and all other music platforms.
URL:https://integralyogasf.org/event/kirtan-with-astrud-and-friends-2/
CATEGORIES:Events,Featured
ATTACH;FMTTYPE=image/jpeg:https://integralyogasf.org/wp-content/uploads/2025/06/Kirtan_Astrud-and-Friends.jpg
END:VEVENT
END:VCALENDAR