BEGIN:VCALENDAR
VERSION:2.0
PRODID:-//Integral Yoga San Francisco - ECPv6.15.20//NONSGML v1.0//EN
CALSCALE:GREGORIAN
METHOD:PUBLISH
X-ORIGINAL-URL:https://integralyogasf.org
X-WR-CALDESC:Events for Integral Yoga San Francisco
REFRESH-INTERVAL;VALUE=DURATION:PT1H
X-Robots-Tag:noindex
X-PUBLISHED-TTL:PT1H
BEGIN:VTIMEZONE
TZID:America/Los_Angeles
BEGIN:DAYLIGHT
TZOFFSETFROM:-0800
TZOFFSETTO:-0700
TZNAME:PDT
DTSTART:20240310T100000
END:DAYLIGHT
BEGIN:STANDARD
TZOFFSETFROM:-0700
TZOFFSETTO:-0800
TZNAME:PST
DTSTART:20241103T090000
END:STANDARD
BEGIN:DAYLIGHT
TZOFFSETFROM:-0800
TZOFFSETTO:-0700
TZNAME:PDT
DTSTART:20250309T100000
END:DAYLIGHT
BEGIN:STANDARD
TZOFFSETFROM:-0700
TZOFFSETTO:-0800
TZNAME:PST
DTSTART:20251102T090000
END:STANDARD
BEGIN:DAYLIGHT
TZOFFSETFROM:-0800
TZOFFSETTO:-0700
TZNAME:PDT
DTSTART:20260308T100000
END:DAYLIGHT
BEGIN:STANDARD
TZOFFSETFROM:-0700
TZOFFSETTO:-0800
TZNAME:PST
DTSTART:20261101T090000
END:STANDARD
END:VTIMEZONE
BEGIN:VEVENT
DTSTART;TZID=America/Los_Angeles:20250524T190000
DTEND;TZID=America/Los_Angeles:20250524T203000
DTSTAMP:20260425T094607
CREATED:20250209T222703Z
LAST-MODIFIED:20250520T024928Z
UID:45148-1748113200-1748118600@integralyogasf.org
SUMMARY:Kirtan with Michael Hathaway
DESCRIPTION:This event has been cancelled. \nIn-person | $20 In advance\, use promo code MANTRAS | $25 Day of \nMichael will lead us in chanting traditional Sanskrit mantras set to his original music\, weaving an enchanting soundscape of hypnotic harmonics\, joyful celebration\, and fierce intensity. His unique melodies (often channeled in dreams) reveal a blend of musical influences including jazz\, soul\, folk\, psychedelic rock\, church hymns\, Western classical\, and Indian classical – creating an innovative fusion that honors the tradition while expressing a deeply personal offering. He sings with sweet\, celestial\, heart-felt yearning\, and shares his practice as medicine with others by creating an uplifting communal experience of ecstatic group prayer.\n\nMichael Hathaway discovered his musicality and voice through the practice of devotional chanting. He was introduced to daily chanting at the Sivananda Ashram in the Bahamas in the late 90s. He quickly became immersed in the Bhakti scene – taking every opportunity to sit with his teachers Jai Uttal\, Krishna Das\, Bhagavan Das\, Shyamdas\, and others. Michael can be found leading kirtan at yoga studios\, festivals & conscious gatherings\, and singing with his harmonium for yoga classes in the Los Angeles area. His two albums\, remixes\, and music videos are available on streaming platforms. He’s also a Jivamukti yoga teacher\, Reiki practitioner\, 3rd-degree black belt in Seido Karate\, and a regular practitioner of 5 Rhythms/ecstatic dance. He humbly bows at the feet of Maharaj-ji Neem Karoli Baba\, Ram Dass\, and all of his Teachers\, and wishes to honor them by singing the holy names. michaelhathawaykirtan.com
URL:https://integralyogasf.org/event/kirtan-with-michael-hathaway-3/
CATEGORIES:Events
ATTACH;FMTTYPE=image/jpeg:https://integralyogasf.org/wp-content/uploads/2023/03/Michael_Hathaway.jpg
END:VEVENT
END:VCALENDAR