BEGIN:VCALENDAR
VERSION:2.0
PRODID:-//Integral Yoga San Francisco - ECPv6.15.20//NONSGML v1.0//EN
CALSCALE:GREGORIAN
METHOD:PUBLISH
X-WR-CALNAME:Integral Yoga San Francisco
X-ORIGINAL-URL:https://integralyogasf.org
X-WR-CALDESC:Events for Integral Yoga San Francisco
REFRESH-INTERVAL;VALUE=DURATION:PT1H
X-Robots-Tag:noindex
X-PUBLISHED-TTL:PT1H
BEGIN:VTIMEZONE
TZID:America/Los_Angeles
BEGIN:DAYLIGHT
TZOFFSETFROM:-0800
TZOFFSETTO:-0700
TZNAME:PDT
DTSTART:20240310T100000
END:DAYLIGHT
BEGIN:STANDARD
TZOFFSETFROM:-0700
TZOFFSETTO:-0800
TZNAME:PST
DTSTART:20241103T090000
END:STANDARD
BEGIN:DAYLIGHT
TZOFFSETFROM:-0800
TZOFFSETTO:-0700
TZNAME:PDT
DTSTART:20250309T100000
END:DAYLIGHT
BEGIN:STANDARD
TZOFFSETFROM:-0700
TZOFFSETTO:-0800
TZNAME:PST
DTSTART:20251102T090000
END:STANDARD
BEGIN:DAYLIGHT
TZOFFSETFROM:-0800
TZOFFSETTO:-0700
TZNAME:PDT
DTSTART:20260308T100000
END:DAYLIGHT
BEGIN:STANDARD
TZOFFSETFROM:-0700
TZOFFSETTO:-0800
TZNAME:PST
DTSTART:20261101T090000
END:STANDARD
END:VTIMEZONE
BEGIN:VEVENT
DTSTART;TZID=America/Los_Angeles:20250621T170000
DTEND;TZID=America/Los_Angeles:20250621T180000
DTSTAMP:20260425T032311
CREATED:20250407T233834Z
LAST-MODIFIED:20250521T172208Z
UID:45639-1750525200-1750528800@integralyogasf.org
SUMMARY:Light Immersion with Subtle Practices
DESCRIPTION:Online & In-person | $10-30 sliding scale –Class passes & memberships are accepted. \nBook now/OnlinePlease register in advance; a Zoom link will be emailed 1 hour before the session\, or join Zoom directly via your Momence dashboard. \nBook now/In-PersonWe appreciate advance registration. \nJoin us for a special practice of subtle Yoga as we celebrate both the International Day of Yoga and the Summer Solstice. Subtle practices\, like the physical practice of Yoga\, establish a deep connection with the universe. They offer a unique opportunity to open the doors to higher states of consciousness\, inner Light\, and pranic healing.\nThe session will include:\n⋅ Yoga Nidra: A deep relaxation practice to awaken the pranic flow within the body\n⋅ Breathing exercises: Techniques to enhance vitality and energy\n⋅ Guided meditation: Focusing on connecting with the Earth and uncovering our Inner Light\n⋅ Light invocation: Inviting positivity and illumination\n⋅ Extended Gayatri Mantra chanting: A powerful mantra to harmonize body\, mind\, and spirit chanted to enlighten the mind \nThe Summer Solstice serves as a reminder to honor our connection to the natural world and the inevitable cycles of life. It’s a time to celebrate our inner power and brightness.\nAfternoon of Yoga at IYISF in celebration of International Day of Yoga & Summer Solstice.\nPacific times | online & in-person: \n2:00-3:30 pm – Enlighten Up: How to Enjoy the Spiritual Path with Swamis Asokananda & Ramananda\n3:45-4:45 pm – Freeing Your Yoga Practice – mixed level with Raisa Punkki\n3:45-4:45 pm – Gentle Yoga class with Kayko Watanabe\n5:00-6:00 pm – Light Immersion with Subtle Practices with Diana Meltsner \nAll levels of practice are welcome. All programs are available for individual sign up online or in-person at a sliding scale pricing.\nAll proceeds will help us sustain our mission:\n“The Integral Yoga Institute of San Francisco\, founded by Sri Swami Satchidananda\, is a non-profit\, interfaith organization dedicated to serving the community through living and sharing the classical teachings of Yoga\, making the teachings accessible\, and cultivating peace and harmony among all people.”\n\nDiana Meltsner\, C-IAYT\, ERYT-500\, YACEP\, has been teaching a variety of classes and workshops since 2001 and since 2017 offers yoga therapy sessions privately and at Integral Yoga Therapy Clinic in San Francisco. She has over 15 years of experience in leading and co-teaching Yoga and Meditation teacher trainings. She has been working in the clinical setting for Kaiser Permanente since 2005 as a yoga teacher\, yoga therapist\, and health educator. Diana’s focus is on the healing aspects of Yoga on the mind as well as the body by applying the physical postures\, practices of breath-control\, mindfulness and meditation. Diana helps her clients to find the ability to move through life with increased ease\, stress resilience\, and intuition. Diana Meltsner works as a programs manager at Integral Yoga Institute\, an urban ashram in San Francisco. www.dianameltsner.com
URL:https://integralyogasf.org/event/light-immersion-subtle-practices/
CATEGORIES:Events,Featured
ATTACH;FMTTYPE=image/jpeg:https://integralyogasf.org/wp-content/uploads/2025/04/Intl-Day-of-Yoga_Diana.jpg
END:VEVENT
END:VCALENDAR