BEGIN:VCALENDAR
VERSION:2.0
PRODID:-//Integral Yoga San Francisco - ECPv6.15.20//NONSGML v1.0//EN
CALSCALE:GREGORIAN
METHOD:PUBLISH
X-WR-CALNAME:Integral Yoga San Francisco
X-ORIGINAL-URL:https://integralyogasf.org
X-WR-CALDESC:Events for Integral Yoga San Francisco
REFRESH-INTERVAL;VALUE=DURATION:PT1H
X-Robots-Tag:noindex
X-PUBLISHED-TTL:PT1H
BEGIN:VTIMEZONE
TZID:America/Los_Angeles
BEGIN:DAYLIGHT
TZOFFSETFROM:-0800
TZOFFSETTO:-0700
TZNAME:PDT
DTSTART:20250309T100000
END:DAYLIGHT
BEGIN:STANDARD
TZOFFSETFROM:-0700
TZOFFSETTO:-0800
TZNAME:PST
DTSTART:20251102T090000
END:STANDARD
BEGIN:DAYLIGHT
TZOFFSETFROM:-0800
TZOFFSETTO:-0700
TZNAME:PDT
DTSTART:20260308T100000
END:DAYLIGHT
BEGIN:STANDARD
TZOFFSETFROM:-0700
TZOFFSETTO:-0800
TZNAME:PST
DTSTART:20261101T090000
END:STANDARD
BEGIN:DAYLIGHT
TZOFFSETFROM:-0800
TZOFFSETTO:-0700
TZNAME:PDT
DTSTART:20270314T100000
END:DAYLIGHT
BEGIN:STANDARD
TZOFFSETFROM:-0700
TZOFFSETTO:-0800
TZNAME:PST
DTSTART:20271107T090000
END:STANDARD
END:VTIMEZONE
BEGIN:VEVENT
DTSTART;TZID=America/Los_Angeles:20260524T103000
DTEND;TZID=America/Los_Angeles:20260524T123000
DTSTAMP:20260423T135929
CREATED:20260312T051349Z
LAST-MODIFIED:20260422T213607Z
UID:47271-1779618600-1779625800@integralyogasf.org
SUMMARY:Yoga Therapy for Posture and Core Health
DESCRIPTION:ONLINE & IN-PERSON with Diana Meltsner\, C-IAYT\, ERYT-500\, YACEP \n$40 | $35 Early bird\, exp. 5/17/26. \nBook now/OnlinePlease register in advance; a Zoom link will be emailed 1 hour before the session\, or join Zoom directly via your Momence dashboard. \nBook now/In-PersonWe appreciate advance registration. \nJoin Diana Meltsner\, a certified yoga therapist\, for an educational workshop exploring the relationship between posture\, core function\, and musculoskeletal health. We will examine how core stability supports balance\, lumbar spine health\, ribcage alignment\, the reduction of shoulder and neck discomfort and more. The workshop will include lecture\, guided practice\, and discussion\, with content adapted to participants’ interests and needs.\nWe will look at the anatomy just briefly and then in movement we will recognize and feel the different parts of our body being in or out of alignment in our posture\, the inner core activation and core’s engagement works together with the rest of the body. This regained awareness can be applied to gentle yoga asana\, advanced asana practice as well as body movement off the mat.\nTopics will include:\n\nthe relationship between alignment\, strength\, flexibility\, and patterns of tightness or weakness\npostural organization with and without effective inner core engagement\ncompensatory movement patterns contributing to chronic pain and injury\nprogressive and gentle methods to retrain the body\, to activate and strengthen the core\nhow much to practice to restore and maintain functional strength\n\nWe will practice a series of awareness-building and gentle strengthening exercises for the core and address common challenges. Practices will be done in a chair\, standing\, and on the floor. All levels are welcome.\nThis workshop will be recorded and available to all enrolled students for two weeks.\n\nDiana Meltsner\, C-IAYT\, ERYT-500\, YACEP\, has been teaching a variety of classes and workshops since 2001 and since 2017 offers yoga therapy sessions privately and at Integral Yoga Therapy Clinic in San Francisco. She has over 15 years of experience in leading and co-teaching Yoga and Meditation teacher trainings. She has been working in the clinical setting for Kaiser Permanente since 2005 as a yoga teacher\, yoga therapist\, and health educator. Diana’s focus is on the healing aspects of Yoga on the mind as well as the body by applying the physical postures\, practices of breath-control\, mindfulness and meditation. Diana helps her clients to find the ability to move through life with increased ease\, stress resilience\, and intuition. Diana Meltsner works as a programs manager at Integral Yoga Institute\, an urban ashram in San Francisco. dianameltsner.com
URL:https://integralyogasf.org/event/yoga-therapy-for-posture-and-core-health/
CATEGORIES:Events,Featured
ATTACH;FMTTYPE=image/jpeg:https://integralyogasf.org/wp-content/uploads/2026/03/Diana_Core-posture-workshop.jpg
END:VEVENT
BEGIN:VEVENT
DTSTART;TZID=America/Los_Angeles:20260813T170000
DTEND;TZID=America/Los_Angeles:20260813T170000
DTSTAMP:20260423T135929
CREATED:20260225T182307Z
LAST-MODIFIED:20260422T215017Z
UID:47131-1786640400-1786640400@integralyogasf.org
SUMMARY:4-Day Yoga Retreat: Relax\, Reflect and Rejuvenate
DESCRIPTION:IN-PERSON with Swami Ramananda\, Diana Meltsner & Astrud Castillo \nRetreat begins on Thursday\, August 13 at 5pm – Ends on Sunday\, August 16 at 12:30pm\n$795 Single room | $725 Early bird\, exp. 7/23\n$670 Shared room (price per person) | $600 Early bird\, exp. 7/23\nActive teacher discount 20% \nBook now/Single RoomPlease register in advance; a Zoom link will be emailed 1 hour before the session\, or join Zoom directly via your Momence dashboard. \nBook now/Double RoomWe appreciate advance registration. \nAt Commonweal Retreat Center\, Bolinas\, CA. This in-person 4-day retreat will include a variety of Yoga classes for all levels of practice\, workshops\, meditations\, inspirational evening programs—including kirtan with Astrud—healthy vegetarian meals\, and free time for walks\, resting\, or reading.\nEach day will also include Yoga Nidra practices to support deep rest and nervous system renewal. We will practice silent\, walking and guided meditations as well as an end-of-day personal reflection practice to integrate the day’s teachings and insights and help us move more deeply into awareness.\nWe will observe silence from Thursday night until Sunday morning. In this spacious quiet\, we can strengthen our inner connection to peace\, find clarity of thought\, and cultivate compassionate connection with one another.\nWe are blessed once again to gather at the Commonweal Retreat Center in Bolinas\, known for the natural beauty of its oceanside setting and its location on sacred Native American land. Practicing Yoga in this powerful natural environment offers an opportunity to cleanse the body and mind of the stimulants and toxins we ingest through the mouth\, eyes\, and ears\, and to renew our personal commitment to live courageously in the light of awareness.\n\nSwami Ramananda\, C-IAYT\, E-RYT 500\, is the Executive Director of the Integral Yoga Institute in San Francisco\, C-IAYT\, and a greatly respected senior teacher in the Integral Yoga tradition who has been practicing Yoga for over 45 years. Ramananda offers practical methods of integrating the timeless teachings and practices of Yoga into daily life and transforming the painful aspects of human experience into steps toward realizing one’s full potential.\nHe leads beginner\, intermediate and advanced-level Yoga teacher training programs in San Francisco and offers a variety of programs in many locations in the U.S.\, Europe and South America. Ramananda co-developed the Stress Management Teacher Training program with Swami Vidyananda\, has trained many teachers to bring Yoga into corporate\, hospital and medical settings\, and has taught mind/body wellness programs in many locations. He is a certified Yoga therapist and founding board member of the Yoga Alliance\, a national registry that supports and promotes yoga teachers as professionals. He co-founded The Spiritual Action Initiative (SAI)\, which brings together individuals committed to working for social justice for all beings and for the care and healing of our natural world. His warmth\, wisdom and sense of humor have endeared him to many. \nDiana Meltsner\, C-IAYT\, ERYT-500\, YACEP\, has been teaching a variety of classes and workshops since 2001 and since 2017 offers yoga therapy sessions privately and at Integral Yoga Therapy Clinic in San Francisco. She has over 15 years of experience in leading and co-teaching Yoga and Meditation teacher trainings. She has been working in the clinical setting for Kaiser Permanente since 2005 as a yoga teacher\, yoga therapist\, and health educator. Diana’s focus is on the healing aspects of Yoga on the mind as well as the body by applying the physical postures\, practices of breath-control\, mindfulness and meditation. Diana helps her clients to find the ability to move through life with increased ease\, stress resilience\, and intuition. Diana Meltsner works as a programs manager at Integral Yoga Institute\, an urban ashram in San Francisco. www.dianameltsner.com \nAstrud is a celebrated kirtan wallah and yoga teacher currently living in Los Angeles. She has been sharing the art and practice of kirtan for over two decades and has toured throughout the U.S. and Europe sharing her passion for Mantra Meditation and Bhakti Yoga. Astrud teaches teachers in training the essence of Bhakti and basic harmonium skills. She has been teaching asana infused with Bhakti since 2000. “Astrud’s kirtans immerse the mind in a sea of sacred sound and melt open the heart” -Swami Ramananda. You can find her album Hari Om and other singles on Spotify\, and all other music platforms.
URL:https://integralyogasf.org/event/4-day-yoga-retreat-relax-reflect-rejuvenate/
CATEGORIES:Events,Featured
ATTACH;FMTTYPE=image/jpeg:https://integralyogasf.org/wp-content/uploads/2023/06/Retreat_Commonweal.jpg
END:VEVENT
END:VCALENDAR