BEGIN:VCALENDAR
VERSION:2.0
PRODID:-//Integral Yoga San Francisco - ECPv6.15.20//NONSGML v1.0//EN
CALSCALE:GREGORIAN
METHOD:PUBLISH
X-ORIGINAL-URL:https://integralyogasf.org
X-WR-CALDESC:Events for Integral Yoga San Francisco
REFRESH-INTERVAL;VALUE=DURATION:PT1H
X-Robots-Tag:noindex
X-PUBLISHED-TTL:PT1H
BEGIN:VTIMEZONE
TZID:America/Los_Angeles
BEGIN:DAYLIGHT
TZOFFSETFROM:-0800
TZOFFSETTO:-0700
TZNAME:PDT
DTSTART:20240310T100000
END:DAYLIGHT
BEGIN:STANDARD
TZOFFSETFROM:-0700
TZOFFSETTO:-0800
TZNAME:PST
DTSTART:20241103T090000
END:STANDARD
BEGIN:DAYLIGHT
TZOFFSETFROM:-0800
TZOFFSETTO:-0700
TZNAME:PDT
DTSTART:20250309T100000
END:DAYLIGHT
BEGIN:STANDARD
TZOFFSETFROM:-0700
TZOFFSETTO:-0800
TZNAME:PST
DTSTART:20251102T090000
END:STANDARD
BEGIN:DAYLIGHT
TZOFFSETFROM:-0800
TZOFFSETTO:-0700
TZNAME:PDT
DTSTART:20260308T100000
END:DAYLIGHT
BEGIN:STANDARD
TZOFFSETFROM:-0700
TZOFFSETTO:-0800
TZNAME:PST
DTSTART:20261101T090000
END:STANDARD
END:VTIMEZONE
BEGIN:VEVENT
DTSTART;TZID=America/Los_Angeles:20250430T110000
DTEND;TZID=America/Los_Angeles:20250430T120000
DTSTAMP:20260425T173740
CREATED:20250428T202140Z
LAST-MODIFIED:20250429T162309Z
UID:45739-1746010800-1746014400@integralyogasf.org
SUMMARY:Spanish-language Yoga Info Session/Open House
DESCRIPTION:Location: Community Well\n78 Ocean Ave\, San Francisco\, CA 94112\nNo registration required\nThis is an open invitation to the Spanish-language community to learn about yoga practice and its benefits and upcoming classes: Regular yoga\, Chair Yoga and Prenatal Yoga. This event is being sponsored by Integral Yoga Institute of San Francisco in collaboration with Community Well.\nThe event will include a short demonstration class. Everyone is welcome to participate!\nThe event will be hosted in Spanish-language only.\n\nLugar: Community Well\n78 Ocean Ave\, San Francisco\, CA 94112\nMiércoles\, Abril 30\, 2025 • 11am-12pm\nNo es necesario registrarse\nEl Yoga’– sesión de información en Español/Charla\nEsta es una invitación abierta a la comunidad de habla hispana para aprender sobre la práctica del yoga y sus beneficios y las próximas clases: Yoga regular\, Yoga en silla y Yoga prenatal. Este evento está patrocinado por el Instituto de Integral Yoga de San Francisco en colaboración con Community Well.\nEl evento incluirá una breve clase de demostración.\n¡Todos son bienvenid@s a participar! El evento se realizará únicamente en español.\n\nEnglish – Dannhae Maya Herrera is a mother\, doula\, and bilingual prenatal yoga instructor originally from Nicaragua. Known to most as Maya\, she was first introduced to yoga as a teenager during a belly dance class in San Francisco in the late 1990s. In 2021\, she completed the 200-hour Beginner’s Level 1 training through Integral Yoga Institute San Francisco as part of their first BIPOC Yoga Teacher Training. \nShe has also received training in postpartum yoga\, trauma-informed yoga practice\, as well as children’s yoga and mindfulness. Maya is an active full-spectrum doula serving families in San Francisco. \nSpanish –Dannhae Maya Herrera: Madre\, Doula e Instructora de Yoga Prenatal bilingüe originaria de Nicaragua. Maya conoció el yoga por primera vez cuando era adolescente\, en una clase de danza del vientre en San Francisco\, a finales de los años 90. En 2021 completó Yoga Integral 200 hr. Nivel principiante 1 como parte de la primera formación de profesores de yoga BIPOC de Integral Yoga. Su vocación es compartir los beneficios para la salud mental\, física y espiritual del yoga prenatal con las futuras madres de habla hispana en San Francisco. También ha recibido formación en Yoga Postparto\, Práctica de Yoga Informada sobre Trauma y Yoga y Mindfulness para Niños. Maya es una doula activa de espectro completo\, especialista en sobadas para madres embarazadas y después del parto. \nEnglish – Lina Gutierrez-Monclova is a certified yoga instructor with over 25 years of experience. She has taught yoga in Spanish at the Integral Yoga Institute of San Francisco for over three years\, guiding community-centered practices that support physical\, emotional\, and spiritual well-being. She is also a certified birth and postpartum doula\, childbirth educator\, and lactation consultant\, deeply committed to supporting families with compassion and presence. \nSpanish – Lina Gutierrez-Monclova es instructora certificada de yoga con más de 25 años de experiencia. Hace más de tres años forma parte del programa de yoga en español del Integral Yoga Institute de San Francisco\, donde guía prácticas centradas en el bienestar físico\, emocional y espiritual de la comunidad. También es doula de parto y postparto\, educadora perinatal y consultora de lactancia\, comprometida con el acompañamiento respetuoso a las familias.
URL:https://integralyogasf.org/event/spanish-language-yoga-info-session-open-house/
CATEGORIES:Events,Featured
ATTACH;FMTTYPE=image/jpeg:https://integralyogasf.org/wp-content/uploads/2020/11/Hatha-21-day-challenge-e1745902529692.jpg
END:VEVENT
END:VCALENDAR