BEGIN:VCALENDAR
VERSION:2.0
PRODID:-//Integral Yoga San Francisco - ECPv6.15.20//NONSGML v1.0//EN
CALSCALE:GREGORIAN
METHOD:PUBLISH
X-ORIGINAL-URL:https://integralyogasf.org
X-WR-CALDESC:Events for Integral Yoga San Francisco
REFRESH-INTERVAL;VALUE=DURATION:PT1H
X-Robots-Tag:noindex
X-PUBLISHED-TTL:PT1H
BEGIN:VTIMEZONE
TZID:America/Los_Angeles
BEGIN:DAYLIGHT
TZOFFSETFROM:-0800
TZOFFSETTO:-0700
TZNAME:PDT
DTSTART:20240310T100000
END:DAYLIGHT
BEGIN:STANDARD
TZOFFSETFROM:-0700
TZOFFSETTO:-0800
TZNAME:PST
DTSTART:20241103T090000
END:STANDARD
BEGIN:DAYLIGHT
TZOFFSETFROM:-0800
TZOFFSETTO:-0700
TZNAME:PDT
DTSTART:20250309T100000
END:DAYLIGHT
BEGIN:STANDARD
TZOFFSETFROM:-0700
TZOFFSETTO:-0800
TZNAME:PST
DTSTART:20251102T090000
END:STANDARD
BEGIN:DAYLIGHT
TZOFFSETFROM:-0800
TZOFFSETTO:-0700
TZNAME:PDT
DTSTART:20260308T100000
END:DAYLIGHT
BEGIN:STANDARD
TZOFFSETFROM:-0700
TZOFFSETTO:-0800
TZNAME:PST
DTSTART:20261101T090000
END:STANDARD
END:VTIMEZONE
BEGIN:VEVENT
DTSTART;TZID=America/Los_Angeles:20250922T180000
DTEND;TZID=America/Los_Angeles:20250922T190000
DTSTAMP:20260425T032154
CREATED:20250530T212444Z
LAST-MODIFIED:20250912T004150Z
UID:45982-1758564000-1758567600@integralyogasf.org
SUMMARY:Spiritual Study: Ahimsa (Nonviolence) and Satya (Truthfulness) — Moral and Ethical Precepts for Modern Times\, 3 - part
DESCRIPTION:3 Mondays\, SEP 15\, 22 & 29 – Offered individually\nOnline | $5-15 sliding scale | Free for active teachers \nBook SEP 22Please register in advance; a Zoom link will be emailed 1 hour before the session\, or join Zoom directly via your Momence dashboard. \nAhimsa (nonviolence) and Satya (truthfulness) are considered supreme among the moral and ethical principles of life. According to the Yoga Sutras of Patanjali\, “These great vows are universal\, not limited by class\, place\, time\, or circumstance” (Sutra 2.31). The instruction is clear\, yet it can feel daunting in our complex and rapidly changing world.\nIn this study\, we will seek inspiration and guidance from the Yoga Sutras and the exemplary lives of two great modern practitioners: Mahatma Gandhi in India and Martin Luther King Jr. in the United States.\nThe Yoga Spiritual Study series is an offering in which participants learn and discuss how the teachings of Yoga apply to our daily lives. We read passages from scriptures of Yoga and other ancient and contemporary spiritual texts\, take time to reflect upon them\, and share with each other how these words and practices support us on the spiritual path. All are welcome to join any one or all of the sessions.\n3 Mondays offered individually:\n9/15 Book now\n9/22 Book now\n9/29 Book now \nTo ensure a private space for all attendees\, this will not be recorded. \n\nBarbara Dickey is grateful to have been a member of the Integral Yoga Sangha since 1997. She completed the following teacher training programs at the San Francisco IYI: 200-hour Teacher Training 1998\, Gentle Yoga Teacher Training 2003\, Raja Yoga Teacher Training 2004\, and Meditation Teacher Training 2025. She has always been enthusiastic about Scripture Study and is currently delving into meditation.
URL:https://integralyogasf.org/event/spiritual-study-ahimsa-and-satya-2-of-3-parts/
CATEGORIES:Events,Featured
ATTACH;FMTTYPE=image/jpeg:https://integralyogasf.org/wp-content/uploads/2025/05/Barbara-Dickey.jpg
END:VEVENT
END:VCALENDAR