BEGIN:VCALENDAR
VERSION:2.0
PRODID:-//Integral Yoga San Francisco - ECPv6.15.20//NONSGML v1.0//EN
CALSCALE:GREGORIAN
METHOD:PUBLISH
X-WR-CALNAME:Integral Yoga San Francisco
X-ORIGINAL-URL:https://integralyogasf.org
X-WR-CALDESC:Events for Integral Yoga San Francisco
REFRESH-INTERVAL;VALUE=DURATION:PT1H
X-Robots-Tag:noindex
X-PUBLISHED-TTL:PT1H
BEGIN:VTIMEZONE
TZID:America/Los_Angeles
BEGIN:DAYLIGHT
TZOFFSETFROM:-0800
TZOFFSETTO:-0700
TZNAME:PDT
DTSTART:20240310T100000
END:DAYLIGHT
BEGIN:STANDARD
TZOFFSETFROM:-0700
TZOFFSETTO:-0800
TZNAME:PST
DTSTART:20241103T090000
END:STANDARD
BEGIN:DAYLIGHT
TZOFFSETFROM:-0800
TZOFFSETTO:-0700
TZNAME:PDT
DTSTART:20250309T100000
END:DAYLIGHT
BEGIN:STANDARD
TZOFFSETFROM:-0700
TZOFFSETTO:-0800
TZNAME:PST
DTSTART:20251102T090000
END:STANDARD
BEGIN:DAYLIGHT
TZOFFSETFROM:-0800
TZOFFSETTO:-0700
TZNAME:PDT
DTSTART:20260308T100000
END:DAYLIGHT
BEGIN:STANDARD
TZOFFSETFROM:-0700
TZOFFSETTO:-0800
TZNAME:PST
DTSTART:20261101T090000
END:STANDARD
END:VTIMEZONE
BEGIN:VEVENT
DTSTART;TZID=America/Los_Angeles:20250906T130000
DTEND;TZID=America/Los_Angeles:20250906T160000
DTSTAMP:20260425T074921
CREATED:20250623T213639Z
LAST-MODIFIED:20250905T233923Z
UID:46103-1757163600-1757174400@integralyogasf.org
SUMMARY:Yoga Therapy Tools to Manage and Regulate Sadness
DESCRIPTION:Online only \n$49 Early bird\, use promo code TOOLS\, exp. 8/30 \n$58  Regular \nBook now/OnlinePlease register in advance; a Zoom link will be emailed 1 hour before the session\, or join Zoom directly via your Momence dashboard. \n“Embrace the signal of sadness without losing yourself in the struggle.”\nSadness is a passive\, dysphoric emotion that drains energy\, disarms us\, and inhibits action. However\, on a deeper level\, it serves as a signal—either to ourselves or to others—that we need support or comfort. It also prompts healing: only when we allow ourselves to feel sadness for our actions can we genuinely begin to repair the situation or restore the relationships affected.\nYoga Therapy Tools to Manage and Regulate Sadness offers practical\, body-centered techniques to help you meet this emotion with compassion and awareness. Through guided self inquiry\, breathwork\, mindful movement\, and grounding practices\, you’ll learn to work with sadness—not suppress it—creating space for healing\, emotional regulation\, and resilience. This guide supports your journey back to balance\, helping you reconnect with your inner resources in a safe\, embodied way.\n\nAntonio Sausys MA\, IGT\, CMT\, C-IAYT\, is a somatic psychologist and yoga therapist specializing in grief counseling and therapy.He studied with Hugo Bilsky and Yoga masters and teachers such as Indra Devi\, Ram Dass\, Swami Shankaradevananda\, Swami Ekananda\, Babashi Singh and Swami Mairtreyananda. He has continued his professional development with training in Integrative Grief Therapy with Lyn Prashant\, Foot Reflexology\, Swedish Therapeutic Massage and Reiki. Antonio presents his work both nationally and internationally at Schools and Universities and leads retreats at Ashrams\, Retreat Centers and Yoga Studios.\, is a member of the World Yoga Council\, the International Association of Yoga Therapists\, a TV Host for YogiViews and the founder and Executive Director of ‘Yoga for Health’ the International Yoga Therapy Conference. He is the author of ‘Yoga for Grief Relief: Simple Practices for Transforming Your Grieving Mind and Body’ (New Harbinger) and a contributor for Yoga and Science in Pain Care – Treating the Person in Pain (Edited by Shelly Prosko and Neil Person – Jessica Kingsley Publishers\, 2019) and New Techniques of Grief Therapy: Bereavement and Beyond by Robert Niemeyer (Routledge 2019).
URL:https://integralyogasf.org/event/yoga-therapy-tools-to-manage-and-regulate-sadness/
CATEGORIES:Events,Featured
ATTACH;FMTTYPE=image/jpeg:https://integralyogasf.org/wp-content/uploads/2024/10/Yoga-for-Grief_Antonio-Sausys_02.jpg
END:VEVENT
END:VCALENDAR