BEGIN:VCALENDAR
VERSION:2.0
PRODID:-//Integral Yoga San Francisco - ECPv6.15.20//NONSGML v1.0//EN
CALSCALE:GREGORIAN
METHOD:PUBLISH
X-WR-CALNAME:Integral Yoga San Francisco
X-ORIGINAL-URL:https://integralyogasf.org
X-WR-CALDESC:Events for Integral Yoga San Francisco
REFRESH-INTERVAL;VALUE=DURATION:PT1H
X-Robots-Tag:noindex
X-PUBLISHED-TTL:PT1H
BEGIN:VTIMEZONE
TZID:America/Los_Angeles
BEGIN:DAYLIGHT
TZOFFSETFROM:-0800
TZOFFSETTO:-0700
TZNAME:PDT
DTSTART:20240310T100000
END:DAYLIGHT
BEGIN:STANDARD
TZOFFSETFROM:-0700
TZOFFSETTO:-0800
TZNAME:PST
DTSTART:20241103T090000
END:STANDARD
BEGIN:DAYLIGHT
TZOFFSETFROM:-0800
TZOFFSETTO:-0700
TZNAME:PDT
DTSTART:20250309T100000
END:DAYLIGHT
BEGIN:STANDARD
TZOFFSETFROM:-0700
TZOFFSETTO:-0800
TZNAME:PST
DTSTART:20251102T090000
END:STANDARD
BEGIN:DAYLIGHT
TZOFFSETFROM:-0800
TZOFFSETTO:-0700
TZNAME:PDT
DTSTART:20260308T100000
END:DAYLIGHT
BEGIN:STANDARD
TZOFFSETFROM:-0700
TZOFFSETTO:-0800
TZNAME:PST
DTSTART:20261101T090000
END:STANDARD
END:VTIMEZONE
BEGIN:VEVENT
DTSTART;TZID=America/Los_Angeles:20250607T130000
DTEND;TZID=America/Los_Angeles:20250607T170000
DTSTAMP:20260425T163146
CREATED:20250328T190108Z
LAST-MODIFIED:20250328T190108Z
UID:45376-1749301200-1749315600@integralyogasf.org
SUMMARY:Yoga Therapy for Grief Relief; Navigating Loss in Challenging Global Times
DESCRIPTION:ONLINE & In-person\n$54 Early bird\, use promo code GRIEF\, exp. 5/31/25\n$65 Regular \nBook now/OnlinePlease register in advance; a Zoom link will be emailed 1 hour before the session\, or join Zoom directly via your Momence dashboard. \nBook now/In-PersonWe appreciate advance registration. \nIn a world full of uncertainty\, grounding techniques are crucial to maintaining balance. This workshop will focus on poses\, breathing exercises\, and meditations that help you connect deeply with the earth\, offering a foundation of strength and stability amidst chaos. You’ll learn to cultivate resilience\, tapping into your inner power as you face the complexities of grief and loss.\nWhether you’re navigating personal loss or grappling with the global challenges that affect us all\, this program offers a compassionate space for self-discovery\, empowerment\, and connection. Join a supportive community and together\, let’s cultivate peace\, clarity\, and resilience.\nThis combination of theoretical lecture and experiential work can help the heart of anyone who is grieving a loss or those working with them.\nThe physical\, mental\, and spiritual release that doing the practice provides truly does help your body pain decrease\, your mental fog lift\, your engagement with life return\, and eventually you begin to “ring the bells that still will ring.”~ Jessica Bell\n\nAntonio Sausys MA\, IGT\, CMT\, C-IAYT is a somatic psychologist and yoga therapist specializing in grief counseling and therapy.He studied with Hugo Bilsky and Yoga masters and teachers such as Indra Devi\, Ram Dass\, Swami Shankaradevananda\, Swami Ekananda\, Babashi Singh and Swami Mairtreyananda. He has continued his professional development with training in Integrative Grief Therapy with Lyn Prashant\, Foot Reflexology\, Swedish Therapeutic Massage and Reiki. Antonio presents his work both nationally and internationally at Schools and Universities and leads retreats at Ashrams\, Retreat Centers and Yoga Studios.\, is a member of the World Yoga Council\, the International Association of Yoga Therapists\, a TV Host for YogiViews and the founder and Executive Director of ‘Yoga for Health’ the International Yoga Therapy Conference. He is the author of Yoga for Grief Relief: Simple Practices for Transforming Your Grieving Mind and Body (New Harbinger) and a contributor for Yoga and Science in Pain Care – Treating the Person in Pain (Edited by Shelly Prosko and Neil Person – Jessica Kingsley Publishers\, 2019) and New Techniques of Grief Therapy: Bereavement and Beyond by Robert Niemeyer (Routledge 2019).
URL:https://integralyogasf.org/event/yoga-therapy-for-grief-relief/
CATEGORIES:Events,Featured
ATTACH;FMTTYPE=image/jpeg:https://integralyogasf.org/wp-content/uploads/2024/10/Yoga-for-Grief_Antonio-Sausys_02.jpg
END:VEVENT
END:VCALENDAR