BEGIN:VCALENDAR
VERSION:2.0
PRODID:-//Integral Yoga San Francisco - ECPv6.15.20//NONSGML v1.0//EN
CALSCALE:GREGORIAN
METHOD:PUBLISH
X-WR-CALNAME:Integral Yoga San Francisco
X-ORIGINAL-URL:https://integralyogasf.org
X-WR-CALDESC:Events for Integral Yoga San Francisco
REFRESH-INTERVAL;VALUE=DURATION:PT1H
X-Robots-Tag:noindex
X-PUBLISHED-TTL:PT1H
BEGIN:VTIMEZONE
TZID:America/Los_Angeles
BEGIN:DAYLIGHT
TZOFFSETFROM:-0800
TZOFFSETTO:-0700
TZNAME:PDT
DTSTART:20240310T100000
END:DAYLIGHT
BEGIN:STANDARD
TZOFFSETFROM:-0700
TZOFFSETTO:-0800
TZNAME:PST
DTSTART:20241103T090000
END:STANDARD
BEGIN:DAYLIGHT
TZOFFSETFROM:-0800
TZOFFSETTO:-0700
TZNAME:PDT
DTSTART:20250309T100000
END:DAYLIGHT
BEGIN:STANDARD
TZOFFSETFROM:-0700
TZOFFSETTO:-0800
TZNAME:PST
DTSTART:20251102T090000
END:STANDARD
BEGIN:DAYLIGHT
TZOFFSETFROM:-0800
TZOFFSETTO:-0700
TZNAME:PDT
DTSTART:20260308T100000
END:DAYLIGHT
BEGIN:STANDARD
TZOFFSETFROM:-0700
TZOFFSETTO:-0800
TZNAME:PST
DTSTART:20261101T090000
END:STANDARD
END:VTIMEZONE
BEGIN:VEVENT
DTSTART;TZID=America/Los_Angeles:20250518T110000
DTEND;TZID=America/Los_Angeles:20250518T120000
DTSTAMP:20260425T160712
CREATED:20250329T071525Z
LAST-MODIFIED:20250329T071539Z
UID:45416-1747566000-1747569600@integralyogasf.org
SUMMARY:Sunday Spiritual Talk: Aparigraha: Letting Go with Gratitude
DESCRIPTION:Online\n$5-$20 | Enroll for free\, use promo code FREE. \nBook now/OnlinePlease register in advance; a Zoom link will be emailed 1 hour before the session\, or join Zoom directly via your Momence dashboard. \nJoin us for a session where we honor the art of letting go as a path to gaining clarity and aligning with our true nature.\nTogether\, we will explore what is lost in the relentless pursuit of acquiring and accumulating possessions\, as well as\, the fear of being without or in need. Drawing on Yogic principles\, this talk will contemplate the transformative power of letting go of material belongings\, relationships and behaviors to create internal & external spaciousness and strengthen intuition. Participants will engage in dialogue and reflection.\nSatsang is a special time for us to come together as a community. In Sanskrit\, Sat means truth and Sangha means community. Satsang offers an opportunity to come together to share spiritual teachings. The philosophy of Integral Yoga is explored often through an informal discussion. Although our spiritual paths may diverge\, the act of sharing spiritual teachings with others is inspiring and creates a solid foundation for continued practice. \nPeople of all faiths are welcome.\n\nJen “JP” Andrews graduated summer of 2022 from the Integral Yoga 200-hour Yoga Teacher Training and continued as a student of Raja Yoga teacher training & Meditation teacher training in 2023. She discovered Hatha Yoga about 20 years ago and committed to deepening her spiritual practices after discovering Integral Yoga Institute SF and the Yoga Sutras of Patanjali. For the last 5 years she has been coaching clients to find their way to inner peace and joy by organizing and decluttering their space. This process allows her to apply yogic principles in her client sessions as a way to support and help clients reconnect to their True North.
URL:https://integralyogasf.org/event/sunday-spiritual-talk-aparigraha-letting-go/
CATEGORIES:By Donation,Events,Featured
ATTACH;FMTTYPE=image/jpeg:https://integralyogasf.org/wp-content/uploads/2025/03/JPAndrews_Sunday-talk.jpg
END:VEVENT
END:VCALENDAR