BEGIN:VCALENDAR
VERSION:2.0
PRODID:-//Integral Yoga San Francisco - ECPv6.15.20//NONSGML v1.0//EN
CALSCALE:GREGORIAN
METHOD:PUBLISH
X-WR-CALNAME:Integral Yoga San Francisco
X-ORIGINAL-URL:https://integralyogasf.org
X-WR-CALDESC:Events for Integral Yoga San Francisco
REFRESH-INTERVAL;VALUE=DURATION:PT1H
X-Robots-Tag:noindex
X-PUBLISHED-TTL:PT1H
BEGIN:VTIMEZONE
TZID:America/Los_Angeles
BEGIN:DAYLIGHT
TZOFFSETFROM:-0800
TZOFFSETTO:-0700
TZNAME:PDT
DTSTART:20250309T100000
END:DAYLIGHT
BEGIN:STANDARD
TZOFFSETFROM:-0700
TZOFFSETTO:-0800
TZNAME:PST
DTSTART:20251102T090000
END:STANDARD
BEGIN:DAYLIGHT
TZOFFSETFROM:-0800
TZOFFSETTO:-0700
TZNAME:PDT
DTSTART:20260308T100000
END:DAYLIGHT
BEGIN:STANDARD
TZOFFSETFROM:-0700
TZOFFSETTO:-0800
TZNAME:PST
DTSTART:20261101T090000
END:STANDARD
BEGIN:DAYLIGHT
TZOFFSETFROM:-0800
TZOFFSETTO:-0700
TZNAME:PDT
DTSTART:20270314T100000
END:DAYLIGHT
BEGIN:STANDARD
TZOFFSETFROM:-0700
TZOFFSETTO:-0800
TZNAME:PST
DTSTART:20271107T090000
END:STANDARD
END:VTIMEZONE
BEGIN:VEVENT
DTSTART;TZID=America/Los_Angeles:20260627T090000
DTEND;TZID=America/Los_Angeles:20260627T160000
DTSTAMP:20260423T210450
CREATED:20260213T211812Z
LAST-MODIFIED:20260422T214225Z
UID:47053-1782550800-1782576000@integralyogasf.org
SUMMARY:Yoga Nidra Personal Retreat
DESCRIPTION:ONLINE & IN-PERSON with Dr. Marc Halpern & Dr. Andrea Deerheart Halpern \n2-day retreat!  Saturday & Sunday\, June 27-28\, 9am-4pm both days. \n$150 Early bird\, use promo code NIDRA\, exp. 6/12/26\n$180 Regular \nBook now/OnlinePlease register in advance; a Zoom link will be emailed 1 hour before the session\, or join Zoom directly via your Momence dashboard. \nBook now/In-PersonWe appreciate advance registration. \nDuring this two-day program\, Dr. Marc Halpern and Dr. Andrea Deerheart will be your guides as you go on a deep and personal inner journey of discovery\, relaxation\, and deep healing through the sacred practice of Yoga Nidra. Yoga Nidra is an ancient\, classical practice of entering in a deeply relaxed but entirely conscious state of awareness. From this state of consciousness\, each individual is empowered to remove the obstacles that are in the way of attaining optimal health and peace of mind and then set out on a new path of conscious creation – the manifestation of life as you dream it to be.\nSchedule\n9:00am-12:00pm & 1:30pm-4:00pm – Saturday & Sunday\nThis program consists of a combination of practicing Yoga Nidra and group processing. The doctors will share stories both classical and personal and each student is supported and encouraged to be as open as possible. Sacred space\, trust\, and safety are core principles of this program.\nAll props will be provided for in-person participants\, and you are welcome to bring your pillow\, mat\, and/or blanket.\nAll sessions will be recorded and made available to enrolled students for two weeks afterward. The program is offered both online and in person\, though attending in person is recommended.\n\nDr. Marc Halpern is the founder of the California College of Ayurveda. An internationally respected expert in the field of Ayurveda\, Dr. Halpern received the award for best Ayurveda Physician from the Indian Minister of Health and Family Welfare\, Dr. Ramdas. He is the co-founder of the National Ayurveda Medical Association and the California Association of Ayurveda Medicine. Dr. Halpern is also the author of five textbooks on Ayurveda and Yoga and the #1 best-selling recording: Yoga Nidra and Self-Healing. A classically trained Sivananda Yoga teacher\, Dr. Halpern has dedicated his life to the removal of suffering. \nDr. Andrea Deerheart is the passionate founder of the HeartWay\, a non-profit foundation dedicated to Embracing life and Honoring Death. Using wisdom gathered from decades of guiding the living and dying; physically\, emotionally\, and spiritually\, Deerheart has provided care and healing on the journey of conscious living and dying for more than 20 years. With a doctorate in Depth Psychology\, her primary work focuses on issues relating to aging\, cultural mythology\, death and dying\, as well as grief and loss. Deerheart is also a RYT 500 yoga teacher and a certified classical Yoga Nidra Instructor. She is also the author / narrator of the recording\, Yoga Nidra: Graceful Transitions.
URL:https://integralyogasf.org/event/yoga-nidra-personal-retreat-2/
CATEGORIES:Events,Featured
ATTACH;FMTTYPE=image/jpeg:https://integralyogasf.org/wp-content/uploads/2022/10/Yoga-Nidra-Mini-Retreat.jpg
END:VEVENT
BEGIN:VEVENT
DTSTART;TZID=America/Los_Angeles:20260627T190000
DTEND;TZID=America/Los_Angeles:20260627T203000
DTSTAMP:20260423T210450
CREATED:20260312T053546Z
LAST-MODIFIED:20260422T214303Z
UID:47276-1782586800-1782592200@integralyogasf.org
SUMMARY:Kirtan with Acharya Mangalananda
DESCRIPTION:IN-PERSON with Acharya Mangalananda \n$25 Day of | $20 In advance \nBook now/In-PersonWe appreciate advance registration. \nChanting mantras and prayers are key elements of the Bhakti Yoga path\, which leads to union with Divine Consciousness. Chanting calms the nerves\, purifies the emotions\, heals the body\, and opens the heart. It elevates and concentrates the mind\, preparing one for silent mantra repetition\, meditation\, and communion with the Divine. When done with a devotional attitude\, chanting lifts the emotions toward selfless\, divine love\n\nAcharya Mangalananda has learned by deep immersion the traditional spiritual music of India. His kirtan is couched in the mystical ragas of India and is full of the lively ecstatic joy of the Divine Names. Mangalananda has toured extensively throughout India\, Europe and the USA\, presenting kirtan concerts\, yoga classes and workshop retreats. He is an Acharya (an appointed Spiritual Teacher) of Ma Anandamayi Ashram in Omkareshwar / Indore in the lineage of Sri Anandamayi Ma.Acharya Mangalananda began his spiritual life in 1972 under the guidance of Swami Satchidananda\, a direct disciple of Swami Sivananda. After an inner experience with Anandamayi Ma\, the great woman Saint mentioned in Yogananda’s “Autobiography of a Yogi”\, with Sw. Satchidananda’s permission\, he went to India to find her. He travelled with her in India during 1973 and ’74\, receiving mantra Initiation from her. He has been since living within her Lineage with some of her great disciples in ashrams in the US and India. In 2001\, he was sent back to India by Ma’s main Swami\, Sw. Bhaskarananda to help start a school in one of her ashrams. He lived in Central India for twelve years\, teaching in this school and also traveling within India extensively. From 2007 to 2013\, the Ashram sent him yearly to Europe and the US to present kirtan concerts and classes. In 2013\, he returned to the US and lives in the San Francisco area\, where he presents programs and hosts an online worldwide Matri Satsang group. He is an appointed Acharya (Lineage Teacher) of Ma Sharanam Ashram in India. He is the author of the book “A Goddess Among Us” which has been translated and published into five different languages. He is on the Board of Directors of the Shri Anandamayi Ma Ashram and Temple in Massachusetts and is a guest speaker and musician at Satchidananda Ashram/Yogaville\, as well as at Sivananda Yoga Farm and Sivananda Bahama.
URL:https://integralyogasf.org/event/kirtan-with-acharya-mangalananda-6/
CATEGORIES:Events,Featured
ATTACH;FMTTYPE=image/jpeg:https://integralyogasf.org/wp-content/uploads/2024/03/Acharya-Mangalananda.jpg
END:VEVENT
END:VCALENDAR