BEGIN:VCALENDAR
VERSION:2.0
PRODID:-//Integral Yoga San Francisco - ECPv6.15.20//NONSGML v1.0//EN
CALSCALE:GREGORIAN
METHOD:PUBLISH
X-WR-CALNAME:Integral Yoga San Francisco
X-ORIGINAL-URL:https://integralyogasf.org
X-WR-CALDESC:Events for Integral Yoga San Francisco
REFRESH-INTERVAL;VALUE=DURATION:PT1H
X-Robots-Tag:noindex
X-PUBLISHED-TTL:PT1H
BEGIN:VTIMEZONE
TZID:America/Los_Angeles
BEGIN:DAYLIGHT
TZOFFSETFROM:-0800
TZOFFSETTO:-0700
TZNAME:PDT
DTSTART:20250309T100000
END:DAYLIGHT
BEGIN:STANDARD
TZOFFSETFROM:-0700
TZOFFSETTO:-0800
TZNAME:PST
DTSTART:20251102T090000
END:STANDARD
BEGIN:DAYLIGHT
TZOFFSETFROM:-0800
TZOFFSETTO:-0700
TZNAME:PDT
DTSTART:20260308T100000
END:DAYLIGHT
BEGIN:STANDARD
TZOFFSETFROM:-0700
TZOFFSETTO:-0800
TZNAME:PST
DTSTART:20261101T090000
END:STANDARD
BEGIN:DAYLIGHT
TZOFFSETFROM:-0800
TZOFFSETTO:-0700
TZNAME:PDT
DTSTART:20270314T100000
END:DAYLIGHT
BEGIN:STANDARD
TZOFFSETFROM:-0700
TZOFFSETTO:-0800
TZNAME:PST
DTSTART:20271107T090000
END:STANDARD
END:VTIMEZONE
BEGIN:VEVENT
DTSTART;TZID=America/Los_Angeles:20260502T110000
DTEND;TZID=America/Los_Angeles:20260502T120000
DTSTAMP:20260423T162003
CREATED:20260309T194847Z
LAST-MODIFIED:20260422T185720Z
UID:47236-1777719600-1777723200@integralyogasf.org
SUMMARY:Inside Patanjali’s Words: Discover the Hidden Heart of Yoga
DESCRIPTION:ONLINE with Rev. Jaganath Carrera \n$20 | $15 Early bird\, exp. 1/31/26. \nBook now/OnlineWe appreciate advance registration. \nThe Yoga Sutras of Patanjali are a holistic\, multi-faceted approach to spirituality. Every aspect of who we are as human beings is embraced and included in a symphony of principles and practices. The goal? A life of peace\, happiness\, meaning\, and practical wisdom.\nThese vital teachings are presented using sutras – phrases – that can be obscure. But we can illumine the darkest corners of this classic text by taking a closer look at Patanjali’s words.\nWords are matchmakers. They introduce us to most knowledge\, but they have limitations. The challenge is to find language that keeps the spirit of the teaching but clearly conveys that spirit to today’s yoga students and practitioners.\nExpect to be surprised and informed. This workshop will be recorded and available to all enrolled.\n\nReverend Jaganath Carrera has been teaching all facets of Yoga theory and practice at universities\, prisons\, Yoga centers\, and interfaith programs since 1974. He established the Integral Yoga and Yoga Life Ministries\, and co-developed the highly regarded Integral Yoga Meditation and Raja Yoga Teacher Training Certification programs. He is the founder and spiritual head of the Yoga Life Society www.yogalifecenter.org and has authored highly regarded books. • Awaken: Inside Yoga Meditation • Inside the Yoga Sutras: A Comprehensive Sourcebook for the Study and Practice • Inside Patanjali’s Words: Explore the Heart of Yoga.
URL:https://integralyogasf.org/event/inside-patanjalis-words/
CATEGORIES:Events,Featured
ATTACH;FMTTYPE=image/jpeg:https://integralyogasf.org/wp-content/uploads/2022/12/Jaganath_Jan-2023-workshop.jpg
END:VEVENT
BEGIN:VEVENT
DTSTART;TZID=America/Los_Angeles:20260502T173000
DTEND;TZID=America/Los_Angeles:20260502T183000
DTSTAMP:20260423T162003
CREATED:20260309T203845Z
LAST-MODIFIED:20260422T185854Z
UID:47244-1777743000-1777746600@integralyogasf.org
SUMMARY:Satsang: Facing Adversity
DESCRIPTION:ONLINE & IN-PERSON with Swami Ramananda\, C-IAYT\, E-RYT 500 & Muktidevi Kristine Demafeliz\, E-RYT 200\, RYT 500\n$5-$20 | Enroll for free\, use promo code FREE. \nBook now/OnlinePlease register in advance; a Zoom link will be emailed 1 hour before the session\, or join Zoom directly via your Momence dashboard. \nBook now/In-PersonWe appreciate advance registration. \nAt different moments in life\, we all encounter experiences that feel overwhelming or traumatic. In those times\, we may feel lost\, discouraged\, or unsure how to move forward—especially when facing disability\, chronic illness\, anxiety\, or grief.\nIn this Satsang\, SF IYI teachers\, Muktidevi and Ramananda\, will share how the teachings and practices of Yoga have supported them in meeting adversity with courage and care. Together\, we will explore the importance of self-compassion\, inner steadiness\, and discernment\, and how these qualities help us make wise choices even in difficult circumstances.\nWith guidance and shared reflection\, we can begin to see that life’s challenges—however painful—can become opportunities to deepen our connection to the unchanging source of strength and peace within.\nEveryone is welcome to stay for tea and light snacks afterwards.\nSatsang is a special time for us to come together as a community. In Sanskrit\, Sat means truth and Sangha means community. Satsang offers an opportunity to come together to share spiritual teachings. The philosophy of Integral Yoga is explored often through an informal discussion. Although our spiritual paths may diverge\, the act of sharing spiritual teachings with others is inspiring and creates a solid foundation for continued practice. \nPeople of all faiths are welcome.\n\nSwami Ramananda\, C-IAYT\, E-RYT 500\, is the Executive Director of the Integral Yoga Institute in San Francisco\, C-IAYT\, and a greatly respected senior teacher in the Integral Yoga tradition who has been practicing Yoga for over 45 years. Ramananda offers practical methods of integrating the timeless teachings and practices of Yoga into daily life and transforming the painful aspects of human experience into steps toward realizing one’s full potential.\nHe leads beginner\, intermediate and advanced-level Yoga teacher training programs in San Francisco and offers a variety of programs in many locations in the U.S.\, Europe and South America. Ramananda co-developed the Stress Management Teacher Training program with Swami Vidyananda\, has trained many teachers to bring Yoga into corporate\, hospital and medical settings\, and has taught mind/body wellness programs in many locations. He is a certified Yoga therapist and founding board member of the Yoga Alliance\, a national registry that supports and promotes yoga teachers as professionals. He co-founded The Spiritual Action Initiative (SAI)\, which brings together individuals committed to working for social justice for all beings and for the care and healing of our natural world. His warmth\, wisdom and sense of humor have endeared him to many. \nMuktidevi Kristine Demafeliz\, E-RYT 200\, RYT 500\, is a passionate and dedicated yoga practitioner and teacher. Born and raised in San Francisco\, Muktidevi has been embracing the practice of yoga for nearly two decades. Her journey into yoga began with the guidance of her mentor\, Tony Garcia\, through the SFO Airport’s Wellness Program in 2012. Tony encouraged her to pursue yoga teacher training\, which she completed in the Integral Yoga® tradition. She holds certifications in Basic Hatha I\, Intermediate Hatha II\, Accessible Yoga (Gentle)\, and Mindful Resilience Training through the Veterans Yoga Project\, enabling her to teach trauma-informed yoga. Recently\, she graduated from Meditation Teacher Training. Her passion for continuous learning drives her to pursue further training\, such as Yoga For First Responders\, which aligns with her role as the Wellness Program Coordinator for the San Francisco Police Department. Muktidevi mentors and supports teacher trainees and newly certified teachers\, helping them grow and develop on their yogic path. Yoga has profoundly impacted and transformed her life\, and she genuinely believes it is a saving grace for all. Despite living with Multiple Sclerosis (MS) for 28 years\, Muktidevi continues to utilize the mindfulness practices to navigate through life’s challenges and adversities.
URL:https://integralyogasf.org/event/satsang-facing-adversity-2/
CATEGORIES:Events,Featured
ATTACH;FMTTYPE=image/jpeg:https://integralyogasf.org/wp-content/uploads/2026/03/Satsang_Ramananda_muktidevi.jpg
END:VEVENT
END:VCALENDAR