BEGIN:VCALENDAR
VERSION:2.0
PRODID:-//Integral Yoga San Francisco - ECPv6.15.20//NONSGML v1.0//EN
CALSCALE:GREGORIAN
METHOD:PUBLISH
X-WR-CALNAME:Integral Yoga San Francisco
X-ORIGINAL-URL:https://integralyogasf.org
X-WR-CALDESC:Events for Integral Yoga San Francisco
REFRESH-INTERVAL;VALUE=DURATION:PT1H
X-Robots-Tag:noindex
X-PUBLISHED-TTL:PT1H
BEGIN:VTIMEZONE
TZID:America/Los_Angeles
BEGIN:DAYLIGHT
TZOFFSETFROM:-0800
TZOFFSETTO:-0700
TZNAME:PDT
DTSTART:20250309T100000
END:DAYLIGHT
BEGIN:STANDARD
TZOFFSETFROM:-0700
TZOFFSETTO:-0800
TZNAME:PST
DTSTART:20251102T090000
END:STANDARD
BEGIN:DAYLIGHT
TZOFFSETFROM:-0800
TZOFFSETTO:-0700
TZNAME:PDT
DTSTART:20260308T100000
END:DAYLIGHT
BEGIN:STANDARD
TZOFFSETFROM:-0700
TZOFFSETTO:-0800
TZNAME:PST
DTSTART:20261101T090000
END:STANDARD
BEGIN:DAYLIGHT
TZOFFSETFROM:-0800
TZOFFSETTO:-0700
TZNAME:PDT
DTSTART:20270314T100000
END:DAYLIGHT
BEGIN:STANDARD
TZOFFSETFROM:-0700
TZOFFSETTO:-0800
TZNAME:PST
DTSTART:20271107T090000
END:STANDARD
END:VTIMEZONE
BEGIN:VEVENT
DTSTART;TZID=America/Los_Angeles:20260424T160000
DTEND;TZID=America/Los_Angeles:20260424T173000
DTSTAMP:20260423T154658
CREATED:20260309T193940Z
LAST-MODIFIED:20260422T184515Z
UID:47231-1777046400-1777051800@integralyogasf.org
SUMMARY:New Beginnings Writing Group
DESCRIPTION:ONLINE with Susan Ford\, C-IAYT\, RYT-500 \n$1-15 sliding scale | Meets twice a month on 2nd and 4th Friday | Ongoing \nBook now/OnlinePlease register in advance; a Zoom link will be emailed 1 hour before the session\, or join Zoom directly via your Momence dashboard. \nIn these times of great change we will explore a path toward meeting ourselves where we are to give voice to all that matters! As we live with interruptions and chaos\, we can deepen into the roots of our creativity\, encouraging the river of expression to flow. Beginners and seasoned writers are welcome\, as we explore various forms of writing: poetry\, prose\, short stories\, memoir\, among others. Through writing exercises using everyday life\, place\, family\, images\, poetry of others\, while using pranayama\, meditation and the guidance of the Sutras we will build a body of work. Participants are encouraged to go at their own pace.\nTools we will Practice:\n• The Art of Paying Attention\n• Acceptance\n• Play\n• Writing from the Heart \nTogether we will combine self-care with our writing and discover what a writing practice means to us and how it may take shape.\n\nSusan Ford\, C-IAYT\, RYT-500\, began teaching in 2011 and has been an assistant trainer for the Basic Yoga Teacher Training at Integral Yoga Institute San Francisco (IYISF) since 2012. She specializes in gentle yoga and yoga therapy working with people with disabilities\, cancer\, heart disease\, arthritis\, aging\, bone health\, anxiety\, depression and asthma. Her focus is to help students to meet their bodies where they are by introducing and incorporating Therapeutic Yoga\, Raja Yoga\, Hatha Yoga\, pranayama and meditation. Susan has been a writer of poetry\, short stories and plays most of her adult life and has been repeatedly featured in storytelling events in Northern California. She has led writer groups\, tutored many in writing\, and regularly hosts poetry reading Satsangs at IYISF.
URL:https://integralyogasf.org/event/new-beginnings-writing-group-81/
CATEGORIES:Events,Featured
ATTACH;FMTTYPE=image/jpeg:https://integralyogasf.org/wp-content/uploads/2023/12/Susans-New-Beginnings_2024.jpg
END:VEVENT
END:VCALENDAR