BEGIN:VCALENDAR
VERSION:2.0
PRODID:-//Integral Yoga San Francisco - ECPv6.15.20//NONSGML v1.0//EN
CALSCALE:GREGORIAN
METHOD:PUBLISH
X-ORIGINAL-URL:https://integralyogasf.org
X-WR-CALDESC:Events for Integral Yoga San Francisco
REFRESH-INTERVAL;VALUE=DURATION:PT1H
X-Robots-Tag:noindex
X-PUBLISHED-TTL:PT1H
BEGIN:VTIMEZONE
TZID:America/Los_Angeles
BEGIN:DAYLIGHT
TZOFFSETFROM:-0800
TZOFFSETTO:-0700
TZNAME:PDT
DTSTART:20250309T100000
END:DAYLIGHT
BEGIN:STANDARD
TZOFFSETFROM:-0700
TZOFFSETTO:-0800
TZNAME:PST
DTSTART:20251102T090000
END:STANDARD
BEGIN:DAYLIGHT
TZOFFSETFROM:-0800
TZOFFSETTO:-0700
TZNAME:PDT
DTSTART:20260308T100000
END:DAYLIGHT
BEGIN:STANDARD
TZOFFSETFROM:-0700
TZOFFSETTO:-0800
TZNAME:PST
DTSTART:20261101T090000
END:STANDARD
BEGIN:DAYLIGHT
TZOFFSETFROM:-0800
TZOFFSETTO:-0700
TZNAME:PDT
DTSTART:20270314T100000
END:DAYLIGHT
BEGIN:STANDARD
TZOFFSETFROM:-0700
TZOFFSETTO:-0800
TZNAME:PST
DTSTART:20271107T090000
END:STANDARD
END:VTIMEZONE
BEGIN:VEVENT
DTSTART;TZID=America/Los_Angeles:20260207T110000
DTEND;TZID=America/Los_Angeles:20260207T130000
DTSTAMP:20260423T225206
CREATED:20260112T234828Z
LAST-MODIFIED:20260113T051519Z
UID:46937-1770462000-1770469200@integralyogasf.org
SUMMARY:Unlock Hip Mobility and Ease: Yoga for Hips and Hamstrings
DESCRIPTION:Online\n$35 | $27 Early bird\, use promo code HIP\, exp. 1/31/26 \nBook now/OnlinePlease register in advance; a Zoom link will be emailed 1 hour before the session\, or join Zoom directly via your Momence dashboard. \nJoin us for a 2-hour Hatha Yoga workshop designed to improve hip mobility and flexibility in the hip joints. Through a series of targeted yoga poses and exercises\, you’ll learn how to safely and mindfully deepen your range of motion\, release tension\, and strengthen hip flexors.\nThis practice is especially beneficial for individuals experiencing stiffness\, as it can lead to improved posture\, spinal stability\, and overall well-being.\nPerfect for yoga practitioners seeking to deepen their practice\, particularly in forward bends and seated poses.\nBy connecting with your body and exploring new possibilities\, you’ll discover greater ease and strength in your Hatha Yoga practice and daily life.\nAll levels are welcome. This workshop will be recorded for later viewing and shared for 2 weeks with all\nenrolled students.\n\nNathalie Rukmini Ando\, E-RYT 500\, YACEP\, is a Yoga teacher\, trainer\, and graphic designer\, Brazilian of Japanese descent. She lived in Yogaville\, VA\, where she served as a Yoga teacher\, program development director\, leadership team member\, online courses administrator\, DE&I (Diversity Equity and Inclusion) Committee member\, and Anti-Racism Task Force member. She has been practicing Yoga since 2004\, teaching since 2010\, and has been a Yoga teacher trainer since 2022. She is certified in Basic\, Intermediate\, and Advanced Integral Yoga\, Raja Yoga\, Adaptive\, Stress Management\, Yoga of Recovery\, Yin Yoga\, Yoga Nidra\, Basics of Ayurveda\, and Neuroscience & Yoga. As a teacher\, she’s known for her clear instruction and her classes include fun\, level-appropriate challenges. She also holds a bachelor’s degree in engineering and is a fine artist specializing in oil-on-canvas\, watercolor\, and botanical illustrations. You can see her artwork at natiando.art. \n 
URL:https://integralyogasf.org/event/yoga-for-hips-and-hamstrings/
CATEGORIES:Events,Featured
ATTACH;FMTTYPE=image/jpeg:https://integralyogasf.org/wp-content/uploads/2026/01/Rukimini-Hips-workshop.jpg
END:VEVENT
BEGIN:VEVENT
DTSTART;TZID=America/Los_Angeles:20260207T173000
DTEND;TZID=America/Los_Angeles:20260207T183000
DTSTAMP:20260423T225206
CREATED:20260112T235931Z
LAST-MODIFIED:20260113T051549Z
UID:46941-1770485400-1770489000@integralyogasf.org
SUMMARY:Satsang: Kumbh Mela and the Quest for Immortality
DESCRIPTION:Online and In-person\n$5-$20 | Enroll for free\, use promo code FREE. \nBook now/OnlinePlease register in advance; a Zoom link will be emailed 1 hour before the session\, or join Zoom directly via your Momence dashboard. \nBook now/In-PersonWe appreciate advance registration. \nJoin Swami Ghanshyam Puri’s as he shares his journey from an Integral Yoga Institute teacher to a renunciate reflects a deep transformation shaped by the Kumbh Mela and its enduring quest for immortality. Drawn from the structured\, service-based path of IYI into the austere world of the Nāga sannyāsins\, he encountered the living traditions that interpret amṛtatva—inner immortality—as the fruit of discipline\, devotion\, and renunciation. His initiation into the Juna Akhara marks both a turning point and a commitment to an ancient lineage that continues to express its power and purpose at the vast\, mythic gathering of the Kumbh Mela.\nEveryone is welcome to stay for tea and light snacks afterwards.\nSatsang is a special time for us to come together as a community. In Sanskrit\, Sat means truth and Sangha means community. Satsang offers an opportunity to come together to share spiritual teachings. The philosophy of Integral Yoga is explored often through an informal discussion. Although our spiritual paths may diverge\, the act of sharing spiritual teachings with others is inspiring and creates a solid foundation for continued practice. \nPeople of all faiths are welcome.\n\nSwami Ghanshyam Puri is a Bhakta who has practiced yoga for over twenty five years and is certified to teach all levels of Hatha Yoga and Stress Management. He is a former attorney who became an Integral Yoga Teacher in 2010. He has taught in the United States\, Mexico\, Spain\, and India. “Yoga can point the path to the Divine”\, he sustains. His devotion to the Guru\, Swami Satchidananda\, led him to India to experience the teachings of Gurudev directly. Puri resided temporarily at the Divine Life Society in Rishikesh\, India\, where he studied at the Yoga Vedanta Forest Academy. The following years\, Swamiji went on extensive pilgrimages throughout all India\, Nepal\, and other countries. In 2017 he completed the Maha Yatra or great trip to the Twelve Temples of Lord Shiva known as Jyotirlingas. Subsequently\, he took Vel Kavadi for purification purposes in 2018. The following year he attended Maha Kumbh Mela in Prayagraj and took Shahi Snan (holy bath for purification) with the order of Naga Babas of Juna Akhara. Puri took Diksha or initiation and became a member of Juna Akhara in February 2019 at Kumbh Mela\, a path leading him to Juna Akhara Sannayas. Swamiji is an Ayurvedic Life-Style Consultant\, leads yoga retreats in Mexico\, teaches classes online\, and since 2011 has been leading community classes in San Francisco.
URL:https://integralyogasf.org/event/satsang-kumbh-mela-and-the-quest-for-immortality/
CATEGORIES:By Donation,Events,Featured
ATTACH;FMTTYPE=image/jpeg:https://integralyogasf.org/wp-content/uploads/2026/01/Swami-Ghanshyam-Puri-Satsang.jpg
END:VEVENT
END:VCALENDAR